BEGIN:VCALENDAR
VERSION:2.0
PRODID:-//PNP Members - ECPv6.15.20//NONSGML v1.0//EN
CALSCALE:GREGORIAN
METHOD:PUBLISH
X-WR-CALNAME:PNP Members
X-ORIGINAL-URL:https://pnpmembers.com
X-WR-CALDESC:Events for PNP Members
REFRESH-INTERVAL;VALUE=DURATION:PT1H
X-Robots-Tag:noindex
X-PUBLISHED-TTL:PT1H
BEGIN:VTIMEZONE
TZID:America/Phoenix
BEGIN:STANDARD
TZOFFSETFROM:-0700
TZOFFSETTO:-0700
TZNAME:MST
DTSTART:20250101T000000
END:STANDARD
END:VTIMEZONE
BEGIN:VEVENT
DTSTART;TZID=America/Phoenix:20260425T100000
DTEND;TZID=America/Phoenix:20260425T140000
DTSTAMP:20260423T055857
CREATED:20260416T085949Z
LAST-MODIFIED:20260416T085949Z
UID:7743-1777111200-1777125600@pnpmembers.com
SUMMARY:Apr 25 - DEA Drug Take Back
DESCRIPTION:
URL:https://pnpmembers.com/event/apr-25-dea-drug-take-back/
LOCATION:AZ
ATTACH;FMTTYPE=image/png:https://pnpmembers.com/wp-content/uploads/2023/09/Phoenix-PD-Logo.png
END:VEVENT
BEGIN:VEVENT
DTSTART;TZID=America/Phoenix:20260425T110000
DTEND;TZID=America/Phoenix:20260425T140000
DTSTAMP:20260423T055857
CREATED:20260422T165227Z
LAST-MODIFIED:20260422T170924Z
UID:7761-1777114800-1777125600@pnpmembers.com
SUMMARY:Apr 25 - Touch a Truck Kids Event
DESCRIPTION:
URL:https://pnpmembers.com/event/apr-25-touch-a-truck-kids-event/
LOCATION:AZ
ATTACH;FMTTYPE=image/png:https://pnpmembers.com/wp-content/uploads/2026/04/Truck-clip-art-2.png
END:VEVENT
BEGIN:VEVENT
DTSTART;TZID=America/Phoenix:20260429T160000
DTEND;TZID=America/Phoenix:20260429T190000
DTSTAMP:20260423T055857
CREATED:20260422T165340Z
LAST-MODIFIED:20260422T170511Z
UID:7763-1777478400-1777489200@pnpmembers.com
SUMMARY:Apr 29 - Council D7 Community Celebration
DESCRIPTION:
URL:https://pnpmembers.com/event/apr-29-council-d7-community-celebration/
LOCATION:AZ
ATTACH;FMTTYPE=image/png:https://pnpmembers.com/wp-content/uploads/2026/04/Celebrate-Clip-Art.png
END:VEVENT
BEGIN:VEVENT
DTSTART;TZID=America/Phoenix:20260429T180000
DTEND;TZID=America/Phoenix:20260429T193000
DTSTAMP:20260423T055857
CREATED:20260420T142344Z
LAST-MODIFIED:20260420T142344Z
UID:7756-1777485600-1777491000@pnpmembers.com
SUMMARY:Apr 29 - Block Watch Grant Boot Camp
DESCRIPTION:
URL:https://pnpmembers.com/event/apr-29-block-watch-grant-boot-camp/
LOCATION:Washington Activity Center\, 2240 W Citrus Wy\, Phoenix\, AZ\, 85015
ATTACH;FMTTYPE=image/png:https://pnpmembers.com/wp-content/uploads/2023/09/boot.png
ORGANIZER;CN="Black Mountain Community Alliance (BMCA)":MAILTO:info@bmcainfo.com
END:VEVENT
BEGIN:VEVENT
DTSTART;TZID=America/Phoenix:20260430T180000
DTEND;TZID=America/Phoenix:20260430T193000
DTSTAMP:20260423T055857
CREATED:20260422T165938Z
LAST-MODIFIED:20260422T170220Z
UID:7765-1777572000-1777577400@pnpmembers.com
SUMMARY:April 30 - South Mountain Squad 41/42 Community Meeting
DESCRIPTION:
URL:https://pnpmembers.com/event/april-30-south-mountain-squad-41-42-community-meeting/
LOCATION:AZ
ATTACH;FMTTYPE=image/png:https://pnpmembers.com/wp-content/uploads/2023/09/Phoenix-PD-Logo.png
END:VEVENT
BEGIN:VEVENT
DTSTART;VALUE=DATE:20260502
DTEND;VALUE=DATE:20260503
DTSTAMP:20260423T055857
CREATED:20260416T081811Z
LAST-MODIFIED:20260416T081811Z
UID:7740-1777680000-1777766399@pnpmembers.com
SUMMARY:May  2 - Law Day - Free Legal Advice
DESCRIPTION:Every year\, the State Bar of Arizona’s Public Service Center celebrates Law Day with a free legal clinic dedicated to helping Arizonan’s access legal services. They are providing pro bono (no cost) legal help to residents. This year\, they are putting on a hybrid event allowing community members to meet with volunteer legal professionals at their Phoenix office located at 4201 N 24th Street Phoenix Az 85016 or virtually on Zoom on Saturday\, May 2.  You are encouraged to register in advance since spots are likely to fill up. All are welcome. \n \nFor more info\, visit azbar.org/lawday
URL:https://pnpmembers.com/event/may-2-law-day-free-legal-advice/
LOCATION:AZ
END:VEVENT
BEGIN:VEVENT
DTSTART;TZID=America/Phoenix:20260516T080000
DTEND;TZID=America/Phoenix:20260516T120000
DTSTAMP:20260423T055857
CREATED:20260225T171957Z
LAST-MODIFIED:20260225T171957Z
UID:7673-1778918400-1778932800@pnpmembers.com
SUMMARY:May 16 - PNP / Block Watch initial training - In Person
DESCRIPTION:PNP class is May 16\, 2026 and is an in-person class. It will be held at the Mountain View Precinct\, 2075 E Maryland Ave from 8am to Noon.\n  \nIf you know anyone interested\, please have them email me at pnp.coordinator@phoenix.gov\, seating is limited so pre-registration is required.\n 
URL:https://pnpmembers.com/event/may-16-pnp-block-watch-initial-training-in-person/
LOCATION:Mountain View Precinct Community Room\, 2075 E Maryland Av\, Phoenix\, AZ\, 85016
ATTACH;FMTTYPE=image/jpeg:https://pnpmembers.com/wp-content/uploads/2021/11/PNPLOGO_tm.jpg
END:VEVENT
BEGIN:VEVENT
DTSTART;TZID=America/Phoenix:20260516T100000
DTEND;TZID=America/Phoenix:20260516T130000
DTSTAMP:20260423T055857
CREATED:20260301T011306Z
LAST-MODIFIED:20260301T011306Z
UID:7694-1778925600-1778936400@pnpmembers.com
SUMMARY:May 16 - Celebrate Cave Creek Park
DESCRIPTION:
URL:https://pnpmembers.com/event/may-16-celebrate-cave-creek-park/
LOCATION:AZ
END:VEVENT
BEGIN:VEVENT
DTSTART;TZID=America/Phoenix:20260519T180000
DTEND;TZID=America/Phoenix:20260519T200000
DTSTAMP:20260423T055857
CREATED:20260422T171343Z
LAST-MODIFIED:20260422T171343Z
UID:7779-1779213600-1779220800@pnpmembers.com
SUMMARY:May 19 - PNP Citywide Meeting
DESCRIPTION:
URL:https://pnpmembers.com/event/may-19-pnp-citywide-meeting/
LOCATION:Mountain View Precinct Community Room\, 2075 E Maryland Av\, Phoenix\, AZ\, 85016
ATTACH;FMTTYPE=image/jpeg:https://pnpmembers.com/wp-content/uploads/2021/11/PNPLOGO_tm.jpg
ORGANIZER;CN="Phoenix Neighborhood Patrol":MAILTO:pnp.coordinator@phoenix.gov
END:VEVENT
BEGIN:VEVENT
DTSTART;TZID=America/Phoenix:20260530T110000
DTEND;TZID=America/Phoenix:20260530T140000
DTSTAMP:20260423T055857
CREATED:20260420T140308Z
LAST-MODIFIED:20260420T140308Z
UID:7753-1780138800-1780149600@pnpmembers.com
SUMMARY:May 30 - Annual PNP Luncheon
DESCRIPTION:RSVP at: https://forms.cloud.microsoft/g/B9XpE2zX5G
URL:https://pnpmembers.com/event/may-30-annual-pnp-luncheon/
LOCATION:Elks Lodge 335 – North Phoenix\, 14424 N 32 St\, Phoenix\, AZ\, 85032
ATTACH;FMTTYPE=image/jpeg:https://pnpmembers.com/wp-content/uploads/2024/02/Food-Burger-Fries-Phone.jpeg
ORGANIZER;CN="Phoenix Neighborhood Patrol":MAILTO:pnp.coordinator@phoenix.gov
END:VEVENT
END:VCALENDAR