BEGIN:VCALENDAR
VERSION:2.0
PRODID:-//PNP Members - ECPv6.15.20//NONSGML v1.0//EN
CALSCALE:GREGORIAN
METHOD:PUBLISH
X-ORIGINAL-URL:https://pnpmembers.com
X-WR-CALDESC:Events for PNP Members
REFRESH-INTERVAL;VALUE=DURATION:PT1H
X-Robots-Tag:noindex
X-PUBLISHED-TTL:PT1H
BEGIN:VTIMEZONE
TZID:America/Phoenix
BEGIN:STANDARD
TZOFFSETFROM:-0700
TZOFFSETTO:-0700
TZNAME:MST
DTSTART:20250101T000000
END:STANDARD
END:VTIMEZONE
BEGIN:VEVENT
DTSTART;TZID=America/Phoenix:20260114T183000
DTEND;TZID=America/Phoenix:20260114T203000
DTSTAMP:20260424T162058
CREATED:20260113T050050Z
LAST-MODIFIED:20260113T050050Z
UID:7541-1768415400-1768422600@pnpmembers.com
SUMMARY:Jan 14 - BMCA Black Mountain Community  Alliance Meeting
DESCRIPTION:
URL:https://pnpmembers.com/event/jan-14-bmca-black-mountain-community-alliance-meeting/
LOCATION:Deer Valley Community Center\, 19602 N 19 Pl\, Phoenix\, AZ\, 85024
ATTACH;FMTTYPE=image/png:https://pnpmembers.com/wp-content/uploads/2021/11/BMCA.png
ORGANIZER;CN="Black Mountain Community Alliance (BMCA)":MAILTO:info@bmcainfo.com
END:VEVENT
BEGIN:VEVENT
DTSTART;VALUE=DATE:20260117
DTEND;VALUE=DATE:20260118
DTSTAMP:20260424T162058
CREATED:20250831T013007Z
LAST-MODIFIED:20260107T014449Z
UID:7160-1768608000-1768694399@pnpmembers.com
SUMMARY:Jan 17 - Superhero Saturday
DESCRIPTION:Screenshot
URL:https://pnpmembers.com/event/jan-17-superhero-saturday/
LOCATION:AZ
ATTACH;FMTTYPE=image/png:https://pnpmembers.com/wp-content/uploads/2024/01/ppsla-logo.png
END:VEVENT
BEGIN:VEVENT
DTSTART;TZID=America/Phoenix:20260122T083000
DTEND;TZID=America/Phoenix:20260122T100000
DTSTAMP:20260424T162058
CREATED:20260106T201313Z
LAST-MODIFIED:20260106T201313Z
UID:7536-1769070600-1769076000@pnpmembers.com
SUMMARY:Jan 22 - Council District 3 Community Meeting
DESCRIPTION:
URL:https://pnpmembers.com/event/jan-22-council-district-3-community-meeting/
LOCATION:AZ
END:VEVENT
BEGIN:VEVENT
DTSTART;TZID=America/Phoenix:20260127T170000
DTEND;TZID=America/Phoenix:20260127T200000
DTSTAMP:20260424T162058
CREATED:20260122T165239Z
LAST-MODIFIED:20260123T011156Z
UID:7557-1769533200-1769544000@pnpmembers.com
SUMMARY:Jan 27 - Community Forum on Human Trafficking
DESCRIPTION:Please join the Maricopa County Attorney’s Office and Grand Canyon University for a discussion on human trafficking and the impact it has on our communities. \nEvent Details \n\nTuesday\, January 27\, 2026\nResource fair: 5:00 – 6:00 PM\nForum: 6:00 – 8:00 PM\nGrand Canyon University – Grand Canyon Education Lecture Room located at 2600 W Camelback Rd\, Phoenix\, AZ.\n\nView the map\nOn the map\, Parking is #70 and the Venue is #71.\n\n\nFree food will be provided by Chick-fil-A for the first 200 participants.
URL:https://pnpmembers.com/event/jan-27-community-forum-on-human-trafficking/
LOCATION:AZ
ATTACH;FMTTYPE=image/jpeg:https://pnpmembers.com/wp-content/uploads/2023/10/MCAO.jpg
END:VEVENT
BEGIN:VEVENT
DTSTART;TZID=America/Phoenix:20260127T183000
DTEND;TZID=America/Phoenix:20260127T203000
DTSTAMP:20260424T162058
CREATED:20260114T160641Z
LAST-MODIFIED:20260114T160641Z
UID:7549-1769538600-1769545800@pnpmembers.com
SUMMARY:Jan 27 - PNP Citywide and PBWAB Meeting
DESCRIPTION:
URL:https://pnpmembers.com/event/jan-27-pnp-citywide-and-pbwab-meeting/
LOCATION:Washington Activity Center\, 2240 W Citrus Wy\, Phoenix\, AZ\, 85015
ATTACH;FMTTYPE=image/png:https://pnpmembers.com/wp-content/uploads/2021/11/PBWAB-logo.png
END:VEVENT
BEGIN:VEVENT
DTSTART;TZID=America/Phoenix:20260128T083000
DTEND;TZID=America/Phoenix:20260128T093000
DTSTAMP:20260424T162058
CREATED:20260122T165825Z
LAST-MODIFIED:20260122T165825Z
UID:7560-1769589000-1769592600@pnpmembers.com
SUMMARY:Jan 28 - Coffee with a Cop - 200 - Black Mountain
DESCRIPTION:
URL:https://pnpmembers.com/event/jan-28-coffee-with-a-cop-200-black-mountain/
LOCATION:Biscuits Cafe\, 310 E Bell Rd\, Phoenix\, AZ\, 85022
ATTACH;FMTTYPE=image/jpeg:https://pnpmembers.com/wp-content/uploads/2022/10/Coffee-Pouring.jpg
END:VEVENT
BEGIN:VEVENT
DTSTART;TZID=America/Phoenix:20260129T160000
DTEND;TZID=America/Phoenix:20260129T190000
DTSTAMP:20260424T162058
CREATED:20260117T033100Z
LAST-MODIFIED:20260122T170233Z
UID:7552-1769702400-1769713200@pnpmembers.com
SUMMARY:Jan 29 - Dinner with a Cop 500 - Central City
DESCRIPTION:Looking for a way to get involved and stay connected in your neighborhood? Come meet your Central City Precinct Community Action Officers\, Patrol Officers and Command Staff at our upcoming ‘Sliders with a Cop’. We will be at Diner 50\, located at 1002 S. 19th Ave\, Thursday\, January 29th\, 2026\, 4pm-7pm. We look forward to seeing you all there!
URL:https://pnpmembers.com/event/jan-29-coffee-with-a-cop-500-central-city/
LOCATION:AZ
ATTACH;FMTTYPE=image/png:https://pnpmembers.com/wp-content/uploads/2012/11/PD_CWC_Logo04_500_Phx.png
END:VEVENT
BEGIN:VEVENT
DTSTART;TZID=America/Phoenix:20260131T080000
DTEND;TZID=America/Phoenix:20260131T120000
DTSTAMP:20260424T162058
CREATED:20251101T213543Z
LAST-MODIFIED:20251101T213905Z
UID:7390-1769846400-1769860800@pnpmembers.com
SUMMARY:Jan 31 - PNP / Block Watch initial training - In Person
DESCRIPTION:PNP class is January 31\, 2026 and is an in-person class. It will be held at the Mountain View Precinct\, 2075 E Maryland Ave from 8am to Noon.\n  \nIf you know anyone interested\, please have them email me at pnp.coordinator@phoenix.gov\, seating is limited so pre-registration is required.\n 
URL:https://pnpmembers.com/event/jan-31-pnp-block-watch-initial-training-in-person/
LOCATION:Mountain View Precinct Community Room\, 2075 E Maryland Av\, Phoenix\, AZ\, 85016
ATTACH;FMTTYPE=image/jpeg:https://pnpmembers.com/wp-content/uploads/2021/11/PNPLOGO_tm.jpg
END:VEVENT
BEGIN:VEVENT
DTSTART;TZID=America/Phoenix:20260207T100000
DTEND;TZID=America/Phoenix:20260207T160000
DTSTAMP:20260424T162058
CREATED:20260122T170840Z
LAST-MODIFIED:20260122T170849Z
UID:7563-1770458400-1770480000@pnpmembers.com
SUMMARY:Feb  7 - Central City (500) Community Connection Fair
DESCRIPTION:This event is at Matthew Henson Park \n803 W Tonto St \n10AM-4PM
URL:https://pnpmembers.com/event/feb-7-central-city-500-community-connection-fair/
LOCATION:AZ
END:VEVENT
BEGIN:VEVENT
DTSTART;TZID=America/Phoenix:20260209T090000
DTEND;TZID=America/Phoenix:20260209T100000
DTSTAMP:20260424T162058
CREATED:20260202T051519Z
LAST-MODIFIED:20260202T051519Z
UID:7595-1770627600-1770631200@pnpmembers.com
SUMMARY:Feb  9 - Council District 3 Sip & Chat
DESCRIPTION:Dear Community Members\, \nJoin Councilwoman Debra Stark and the District 3 team for the first‑ever Sip & Chat coffee meetup. This relaxed gathering is a chance to connect\, share ideas\, ask questions\, or simply enjoy good conversation with your neighbors and your District 3 representatives. \nUnlike our monthly community meetings\, this Sip & Chat is all about informal conversation—no set agenda\, no guest speakers\, just a welcoming space for friendly chat.
URL:https://pnpmembers.com/event/feb-9-council-district-3-sip-chat/
LOCATION:AZ
END:VEVENT
BEGIN:VEVENT
DTSTART;TZID=America/Phoenix:20260211T183000
DTEND;TZID=America/Phoenix:20260211T203000
DTSTAMP:20260424T162058
CREATED:20260201T053943Z
LAST-MODIFIED:20260201T053943Z
UID:7584-1770834600-1770841800@pnpmembers.com
SUMMARY:Feb 11 - BMCA Black Mountain Community  Alliance Meeting
DESCRIPTION:
URL:https://pnpmembers.com/event/feb-11-bmca-black-mountain-community-alliance-meeting/
LOCATION:Deer Valley Community Center\, 19602 N 19 Pl\, Phoenix\, AZ\, 85024
ATTACH;FMTTYPE=image/png:https://pnpmembers.com/wp-content/uploads/2021/11/BMCA.png
ORGANIZER;CN="Black Mountain Community Alliance (BMCA)":MAILTO:info@bmcainfo.com
END:VEVENT
BEGIN:VEVENT
DTSTART;TZID=America/Phoenix:20260221T100000
DTEND;TZID=America/Phoenix:20260221T140000
DTSTAMP:20260424T162058
CREATED:20260128T205759Z
LAST-MODIFIED:20260128T205759Z
UID:7580-1771668000-1771682400@pnpmembers.com
SUMMARY:Feb 21 - Graybriar Block Watch Resource Fair
DESCRIPTION:
URL:https://pnpmembers.com/event/feb-21-graybriar-block-watch-resource-fair/
LOCATION:AZ
END:VEVENT
BEGIN:VEVENT
DTSTART;TZID=America/Phoenix:20260221T110000
DTEND;TZID=America/Phoenix:20260221T170000
DTSTAMP:20260424T162058
CREATED:20260220T035951Z
LAST-MODIFIED:20260220T035951Z
UID:7614-1771671600-1771693200@pnpmembers.com
SUMMARY:Feb 21 - Laveen BBQ
DESCRIPTION:
URL:https://pnpmembers.com/event/feb-21-laveen-bbq/
LOCATION:AZ
END:VEVENT
BEGIN:VEVENT
DTSTART;VALUE=DATE:20260222
DTEND;VALUE=DATE:20260223
DTSTAMP:20260424T162058
CREATED:20251030T183909Z
LAST-MODIFIED:20251030T183929Z
UID:7350-1771718400-1771804799@pnpmembers.com
SUMMARY:Feb 22 - 2026 Honor Run benefitting Phoenix Police Foundation
DESCRIPTION:
URL:https://pnpmembers.com/event/feb-22-2026-honor-run/
LOCATION:AZ
ATTACH;FMTTYPE=image/png:https://pnpmembers.com/wp-content/uploads/2025/10/20260222-PPF-Honor-Run-Logo.png
END:VEVENT
BEGIN:VEVENT
DTSTART;TZID=America/Phoenix:20260224T180000
DTEND;TZID=America/Phoenix:20260224T200000
DTSTAMP:20260424T162058
CREATED:20260216T013336Z
LAST-MODIFIED:20260216T013336Z
UID:7604-1771956000-1771963200@pnpmembers.com
SUMMARY:Feb 24 - PNP Citywide and PBWAB Meeting
DESCRIPTION:
URL:https://pnpmembers.com/event/feb-24-pnp-citywide-and-pbwab-meeting/
LOCATION:AZ
ATTACH;FMTTYPE=image/png:https://pnpmembers.com/wp-content/uploads/2021/11/PBWAB-logo.png
END:VEVENT
BEGIN:VEVENT
DTSTART;TZID=America/Phoenix:20260225T080000
DTEND;TZID=America/Phoenix:20260225T093000
DTSTAMP:20260424T162058
CREATED:20260127T161111Z
LAST-MODIFIED:20260127T161111Z
UID:7577-1772006400-1772011800@pnpmembers.com
SUMMARY:Feb 25 - Coffee with a Cop - 900 - Cactus Park
DESCRIPTION:
URL:https://pnpmembers.com/event/feb-25-coffee-with-a-cop-900-cactus-park/
LOCATION:Ronnie’s Cafe\, 4323 W Cactus Rd\, Phoenix\, AZ\, 85304
ATTACH;FMTTYPE=image/png:https://pnpmembers.com/wp-content/uploads/2012/11/PD_CWC_Logo04_900_Phx.png
END:VEVENT
BEGIN:VEVENT
DTSTART;TZID=America/Phoenix:20260225T183000
DTEND;TZID=America/Phoenix:20260225T203000
DTSTAMP:20260424T162058
CREATED:20260214T174218Z
LAST-MODIFIED:20260214T183129Z
UID:7598-1772044200-1772051400@pnpmembers.com
SUMMARY:Feb 25 - Cactus Park Community Alliance (CPCA) Meeting
DESCRIPTION:Join us on Wednesday\, February 25th for our February meeting. \nOur newly elected Maricopa County Board of Supervisors Chairwoman Kate Brophy McGee will be our special guest. \nSee you there !!
URL:https://pnpmembers.com/event/feb-25-cactus-park-community-alliance-cpca-meeting/
LOCATION:Cortez High School\, 8828 N 31 Av\, Phoenix\, AZ\, 85051
ATTACH;FMTTYPE=image/png:https://pnpmembers.com/wp-content/uploads/2021/11/CPCA-Logo-512x512-1.png
ORGANIZER;CN="Cactus Park Community Alliance (CPCA)":MAILTO:CommunityInfo@cpcaaz.org
END:VEVENT
BEGIN:VEVENT
DTSTART;TZID=America/Phoenix:20260228T080000
DTEND;TZID=America/Phoenix:20260228T110000
DTSTAMP:20260424T162058
CREATED:20260227T173053Z
LAST-MODIFIED:20260227T173053Z
UID:7689-1772265600-1772276400@pnpmembers.com
SUMMARY:Feb 28 - Community Cleanup - 27th Av & Northern Av
DESCRIPTION:
URL:https://pnpmembers.com/event/feb-28-community-cleanup-27th-av-northern-av/
LOCATION:AZ
END:VEVENT
BEGIN:VEVENT
DTSTART;TZID=America/Phoenix:20260228T090000
DTEND;TZID=America/Phoenix:20260228T110000
DTSTAMP:20260424T162058
CREATED:20260220T040530Z
LAST-MODIFIED:20260220T040530Z
UID:7621-1772269200-1772276400@pnpmembers.com
SUMMARY:Feb 28 - Bike Safety Rodeo
DESCRIPTION:
URL:https://pnpmembers.com/event/feb-28-bike-safety-rodeo/
LOCATION:AZ
END:VEVENT
BEGIN:VEVENT
DTSTART;TZID=America/Phoenix:20260228T100000
DTEND;TZID=America/Phoenix:20260228T140000
DTSTAMP:20260424T162058
CREATED:20260122T170934Z
LAST-MODIFIED:20260122T170940Z
UID:7565-1772272800-1772287200@pnpmembers.com
SUMMARY:Feb  28 - Central City (500) Community Connection Fair
DESCRIPTION:This event is at Matthew Henson Park \n803 W Tonto St \n10AM-2PM
URL:https://pnpmembers.com/event/feb-28-central-city-500-community-connection-fair/
LOCATION:AZ
END:VEVENT
BEGIN:VEVENT
DTSTART;TZID=America/Phoenix:20260228T170000
DTEND;TZID=America/Phoenix:20260228T200000
DTSTAMP:20260424T162058
CREATED:20260220T040319Z
LAST-MODIFIED:20260220T040319Z
UID:7618-1772298000-1772308800@pnpmembers.com
SUMMARY:Feb 28 - Happy Lunar New Year
DESCRIPTION:
URL:https://pnpmembers.com/event/feb-28-happy-lunar-new-year/
LOCATION:Deer Valley Community Center\, 19602 N 19 Pl\, Phoenix\, AZ\, 85024
END:VEVENT
BEGIN:VEVENT
DTSTART;TZID=America/Phoenix:20260302T100000
DTEND;TZID=America/Phoenix:20260302T110000
DTSTAMP:20260424T162058
CREATED:20260218T050837Z
LAST-MODIFIED:20260218T050837Z
UID:7607-1772445600-1772449200@pnpmembers.com
SUMMARY:Mar  2 - Council District 8 Coffee Chat
DESCRIPTION:
URL:https://pnpmembers.com/event/mar-2-council-district-8-coffee-chat/
LOCATION:AZ
END:VEVENT
BEGIN:VEVENT
DTSTART;TZID=America/Phoenix:20260305T100000
DTEND;TZID=America/Phoenix:20260305T110000
DTSTAMP:20260424T162058
CREATED:20260218T050917Z
LAST-MODIFIED:20260218T050917Z
UID:7609-1772704800-1772708400@pnpmembers.com
SUMMARY:Mar  5 - Council District 8 Coffee Chat
DESCRIPTION:
URL:https://pnpmembers.com/event/mar-5-council-district-8-coffee-chat/
LOCATION:AZ
END:VEVENT
BEGIN:VEVENT
DTSTART;TZID=America/Phoenix:20260306T183000
DTEND;TZID=America/Phoenix:20260306T220000
DTSTAMP:20260424T162058
CREATED:20260303T162123Z
LAST-MODIFIED:20260303T162123Z
UID:7699-1772821800-1772834400@pnpmembers.com
SUMMARY:Mar  6 - First Friday Patrol - CANCELLED
DESCRIPTION:The First Friday will be on Mar 6 has been CANCELLED.
URL:https://pnpmembers.com/event/mar-6-first-friday-patrol-cancelled/
LOCATION:AZ
ATTACH;FMTTYPE=image/jpeg:https://pnpmembers.com/wp-content/uploads/2013/01/sign-pnp-magnetic.jpg
ORGANIZER;CN="PNP - Rick Sain":MAILTO:ussyorktown25@hotmail.com
END:VEVENT
BEGIN:VEVENT
DTSTART;TZID=America/Phoenix:20260311T100000
DTEND;TZID=America/Phoenix:20260311T120000
DTSTAMP:20260424T162058
CREATED:20260220T040615Z
LAST-MODIFIED:20260220T040615Z
UID:7623-1773223200-1773230400@pnpmembers.com
SUMMARY:Mar 11 - Bike Safety Rodeo
DESCRIPTION:
URL:https://pnpmembers.com/event/mar-11-bike-safety-rodeo/
LOCATION:AZ
END:VEVENT
BEGIN:VEVENT
DTSTART;TZID=America/Phoenix:20260311T170000
DTEND;TZID=America/Phoenix:20260311T190000
DTSTAMP:20260424T162058
CREATED:20260225T174331Z
LAST-MODIFIED:20260225T174331Z
UID:7675-1773248400-1773255600@pnpmembers.com
SUMMARY:Mar 11 - PNP Basics and Block Watch Training - Class 1 of 2
DESCRIPTION:
URL:https://pnpmembers.com/event/mar-11-pnp-basics-and-block-watch-training-class-1-of-2/
LOCATION:Virtual – OnLine – Zoom\, WebEx or other
ATTACH;FMTTYPE=image/png:https://pnpmembers.com/wp-content/uploads/2023/01/PNP-Training-Info-Phone.png
ORGANIZER;CN="Phoenix Neighborhood Patrol":MAILTO:pnp.coordinator@phoenix.gov
END:VEVENT
BEGIN:VEVENT
DTSTART;TZID=America/Phoenix:20260311T183000
DTEND;TZID=America/Phoenix:20260311T203000
DTSTAMP:20260424T162058
CREATED:20260301T155851Z
LAST-MODIFIED:20260301T155851Z
UID:7697-1773253800-1773261000@pnpmembers.com
SUMMARY:Mar 11 - BMCA Black Mountain Community  Alliance Meeting
DESCRIPTION:
URL:https://pnpmembers.com/event/mar-11-bmca-black-mountain-community-alliance-meeting/
LOCATION:Deer Valley Community Center\, 19602 N 19 Pl\, Phoenix\, AZ\, 85024
ATTACH;FMTTYPE=image/png:https://pnpmembers.com/wp-content/uploads/2021/11/BMCA.png
ORGANIZER;CN="Black Mountain Community Alliance (BMCA)":MAILTO:info@bmcainfo.com
END:VEVENT
BEGIN:VEVENT
DTSTART;TZID=America/Phoenix:20260312T170000
DTEND;TZID=America/Phoenix:20260312T190000
DTSTAMP:20260424T162058
CREATED:20260225T174445Z
LAST-MODIFIED:20260225T174445Z
UID:7677-1773334800-1773342000@pnpmembers.com
SUMMARY:Mar 12 - PNP Basics and Block Watch Training - Class 2 of 2
DESCRIPTION:
URL:https://pnpmembers.com/event/mar-12-pnp-basics-and-block-watch-training-class-2-of-2/
LOCATION:Virtual – OnLine – Zoom\, WebEx or other
ATTACH;FMTTYPE=image/png:https://pnpmembers.com/wp-content/uploads/2023/01/PNP-Training-Info-Phone.png
ORGANIZER;CN="Phoenix Neighborhood Patrol":MAILTO:pnp.coordinator@phoenix.gov
END:VEVENT
BEGIN:VEVENT
DTSTART;TZID=America/Phoenix:20260317T180000
DTEND;TZID=America/Phoenix:20260317T200000
DTSTAMP:20260424T162058
CREATED:20260225T171834Z
LAST-MODIFIED:20260225T171834Z
UID:7671-1773770400-1773777600@pnpmembers.com
SUMMARY:Mar 17 - PNP Citywide Meeting
DESCRIPTION:
URL:https://pnpmembers.com/event/mar-17-pnp-citywide-meeting/
LOCATION:Mountain View Precinct Community Room\, 2075 E Maryland Av\, Phoenix\, AZ\, 85016
ATTACH;FMTTYPE=image/jpeg:https://pnpmembers.com/wp-content/uploads/2021/11/PNPLOGO_tm.jpg
ORGANIZER;CN="Phoenix Neighborhood Patrol":MAILTO:pnp.coordinator@phoenix.gov
END:VEVENT
BEGIN:VEVENT
DTSTART;TZID=America/Phoenix:20260319T180000
DTEND;TZID=America/Phoenix:20260319T193000
DTSTAMP:20260424T162058
CREATED:20260317T155820Z
LAST-MODIFIED:20260317T155918Z
UID:7718-1773943200-1773948600@pnpmembers.com
SUMMARY:Mar 19 - Dinner with a Cop - 400 South Mountain
DESCRIPTION:We are reaching out to invite to you all to DINE WITH A COP which will be our gathering in place of the regular 41 area community meeting this month. DINE WITH A COP will be held at Southwest Elementary located at 1111 W Dobbins Rd on March 19th\, 2026 at 6:00PM hosted by some of our fearless blockwatches: \n-Dobbins Crossing\n-Mineral Canyon\n-Dobbins Heights\n-Oppenheimer Estates\nIn addition to some delicious food\, Community Action Officers Ruben\, Kevin\, Brandon\, and myself from the 41 and 42 areas will be in attendance to answer any community-related questions\, relay concerns\, and further build relationships with our existing partners and new faces. Please join us as we try to keep our South Mountain Community a thriving and secure place to live\, play\, and work!
URL:https://pnpmembers.com/event/mar-19-dinner-with-a-cop-400-south-mountain/
LOCATION:AZ
END:VEVENT
END:VCALENDAR