BEGIN:VCALENDAR
VERSION:2.0
PRODID:-//PNP Members - ECPv6.15.20//NONSGML v1.0//EN
CALSCALE:GREGORIAN
METHOD:PUBLISH
X-WR-CALNAME:PNP Members
X-ORIGINAL-URL:https://pnpmembers.com
X-WR-CALDESC:Events for PNP Members
REFRESH-INTERVAL;VALUE=DURATION:PT1H
X-Robots-Tag:noindex
X-PUBLISHED-TTL:PT1H
BEGIN:VTIMEZONE
TZID:America/Phoenix
BEGIN:STANDARD
TZOFFSETFROM:-0700
TZOFFSETTO:-0700
TZNAME:MST
DTSTART:20220101T000000
END:STANDARD
END:VTIMEZONE
BEGIN:VEVENT
DTSTART;TZID=America/Phoenix:20231024T080000
DTEND;TZID=America/Phoenix:20231024T090000
DTSTAMP:20260425T195701
CREATED:20230928T163413Z
LAST-MODIFIED:20230928T163413Z
UID:5688-1698134400-1698138000@pnpmembers.com
SUMMARY:Oct 24 - Cactus Park (900) Coffee with a Cop
DESCRIPTION:
URL:https://pnpmembers.com/event/oct-24-cactus-park-900-coffee-with-a-cop/
ATTACH;FMTTYPE=image/png:https://pnpmembers.com/wp-content/uploads/2012/11/PD_CWC_Logo04_900_Phx.png
END:VEVENT
BEGIN:VEVENT
DTSTART;TZID=America/Phoenix:20231021T170000
DTEND;TZID=America/Phoenix:20231021T200000
DTSTAMP:20260425T195701
CREATED:20231018T024957Z
LAST-MODIFIED:20231018T025015Z
UID:5852-1697907600-1697918400@pnpmembers.com
SUMMARY:Oct 21 - Black Mountain (200) Alliance GAIN Event
DESCRIPTION:
URL:https://pnpmembers.com/event/oct-21-black-mountain-200-alliance-gain-event/
ATTACH;FMTTYPE=image/png:https://pnpmembers.com/wp-content/uploads/2021/11/BMCA.png
ORGANIZER;CN="Black Mountain Community Alliance (BMCA)":MAILTO:info@bmcainfo.com
END:VEVENT
BEGIN:VEVENT
DTSTART;TZID=America/Phoenix:20231019T180000
DTEND;TZID=America/Phoenix:20231019T193000
DTSTAMP:20260425T195701
CREATED:20231018T023744Z
LAST-MODIFIED:20231018T023744Z
UID:5847-1697738400-1697743800@pnpmembers.com
SUMMARY:Oct 19 - Council District 3 Coffee Chat
DESCRIPTION:
URL:https://pnpmembers.com/event/oct-19-council-district-3-coffee-chat/
ATTACH;FMTTYPE=image/png:https://pnpmembers.com/wp-content/uploads/2022/10/CoffeePoutintoCup.png
END:VEVENT
BEGIN:VEVENT
DTSTART;TZID=America/Phoenix:20231011T183000
DTEND;TZID=America/Phoenix:20231011T203000
DTSTAMP:20260425T195701
CREATED:20231002T224915Z
LAST-MODIFIED:20231002T224915Z
UID:5779-1697049000-1697056200@pnpmembers.com
SUMMARY:Oct 11 - Black Mountain Community Alliance Meeting
DESCRIPTION:
URL:https://pnpmembers.com/event/oct-11-black-mountain-community-alliance-meeting/
LOCATION:Deer Valley Community Center\, 19602 N 19 Pl\, Phoenix\, AZ\, 85024
ATTACH;FMTTYPE=image/png:https://pnpmembers.com/wp-content/uploads/2021/11/BMCA.png
ORGANIZER;CN="Black Mountain Community Alliance (BMCA)":MAILTO:info@bmcainfo.com
END:VEVENT
BEGIN:VEVENT
DTSTART;TZID=America/Phoenix:20231010T103000
DTEND;TZID=America/Phoenix:20231010T120000
DTSTAMP:20260425T195701
CREATED:20230911T174201Z
LAST-MODIFIED:20230911T174233Z
UID:5664-1696933800-1696939200@pnpmembers.com
SUMMARY:Oct 10 - Maryvale-Estrella (800) Coffee with a Cop
DESCRIPTION:
URL:https://pnpmembers.com/event/oct-10-maryvale-estrella-800-coffee-with-a-cop/
ATTACH;FMTTYPE=image/png:https://pnpmembers.com/wp-content/uploads/2012/11/PD_CWC_Logo04_800_Phx.png
END:VEVENT
BEGIN:VEVENT
DTSTART;TZID=America/Phoenix:20231009T080000
DTEND;TZID=America/Phoenix:20231009T170000
DTSTAMP:20260425T195701
CREATED:20231010T004131Z
LAST-MODIFIED:20231010T004131Z
UID:5783-1696838400-1696870800@pnpmembers.com
SUMMARY:Oct 25 - Coffee with a Cop - 800 Precinct
DESCRIPTION:
URL:https://pnpmembers.com/event/oct-25-coffee-with-a-cop-800-precinct/
ATTACH;FMTTYPE=image/png:https://pnpmembers.com/wp-content/uploads/2012/11/PD_CWC_Logo04_800_Phx.png
END:VEVENT
BEGIN:VEVENT
DTSTART;TZID=America/Phoenix:20231006T190000
DTEND;TZID=America/Phoenix:20231006T220000
DTSTAMP:20260425T195701
CREATED:20230517T042810Z
LAST-MODIFIED:20230816T025923Z
UID:5493-1696618800-1696629600@pnpmembers.com
SUMMARY:Oct 6 - First Friday Patrol
DESCRIPTION:New – More info and map (In MS Word format) \nPNP GROUP PATROL \nContact Rick Sain at ussyorktown25@hotmail.com or\nat 602-799-0143\nJust a reminder that the next First Friday will be on October 7th\n.\nWe have a new meeting place\, the address is 1202 N. 3rd St\, next\nto the Phoenix Center for the Arts. It is a big parking lot and it does\nfill up fast. I am Changing the meeting and start time. We will start\nto meet at 6:00pm\, and start our patrol at 6:30pm\, and we will get\ndone between 9:45pm- 10pm.\nPLEASE LET ME KNOW IF YOU CAN MAKE IT. This way\, I can\ntry and block off some parking spaces for us. And I can also\ncontact you if anything should happen. I do not have some of your\ncell phone numbers\, so if you plan on going\, please send me your\nnumber. If you can’t find us on Friday night\, my cell number is 602-\n799-0143. Thanks. Rick
URL:https://pnpmembers.com/event/oct-6-first-friday-patrol/
ATTACH;FMTTYPE=image/jpeg:https://pnpmembers.com/wp-content/uploads/2013/01/sign-pnp-magnetic.jpg
ORGANIZER;CN="PNP - Rick Sain":MAILTO:ussyorktown25@hotmail.com
END:VEVENT
BEGIN:VEVENT
DTSTART;TZID=America/Phoenix:20230930T100000
DTEND;TZID=America/Phoenix:20230930T130000
DTSTAMP:20260425T195701
CREATED:20230621T022956Z
LAST-MODIFIED:20230816T025001Z
UID:5545-1696068000-1696078800@pnpmembers.com
SUMMARY:Sep 30 - G.A.I.N. Kickoff Event
DESCRIPTION:Gain kickoff event.  Location TBD.
URL:https://pnpmembers.com/event/oct-7-g-a-i-n-kickoff-event/
ATTACH;FMTTYPE=image/png:https://pnpmembers.com/wp-content/uploads/2014/01/GAIN-image.png
END:VEVENT
BEGIN:VEVENT
DTSTART;TZID=America/Phoenix:20230928T083000
DTEND;TZID=America/Phoenix:20230928T093000
DTSTAMP:20260425T195701
CREATED:20230629T200744Z
LAST-MODIFIED:20230925T205132Z
UID:5562-1695889800-1695893400@pnpmembers.com
SUMMARY:Sep 28 - CANCELLED - Black Mountain Pct. (200) Coffee with a Cop
DESCRIPTION:BLACK MOUNTAIN PRECINCT Coffee with Cops has been CANCELED for Thursday\, September 28\, 2023 at 8:30 am at Biscuits Cafe due to our Officers being on special assignment because the President is coming into town.
URL:https://pnpmembers.com/event/sep-28-black-mountain-pct-200-coffee-with-a-cop/
ATTACH;FMTTYPE=image/png:https://pnpmembers.com/wp-content/uploads/2012/11/PD_CWC_Logo04_200_Phx.png
END:VEVENT
BEGIN:VEVENT
DTSTART;TZID=America/Phoenix:20230927T183000
DTEND;TZID=America/Phoenix:20230927T203000
DTSTAMP:20260425T195701
CREATED:20230621T023238Z
LAST-MODIFIED:20230621T023238Z
UID:5547-1695839400-1695846600@pnpmembers.com
SUMMARY:Sep 27 - Cactus Park Community Alliance Meeting
DESCRIPTION:Check back for more information as the date gets closer.
URL:https://pnpmembers.com/event/sep-27-cactus-park-community-alliance-meeting/
LOCATION:Cortez High School\, 8828 N 31 Av\, Phoenix\, AZ\, 85051
ATTACH;FMTTYPE=image/png:https://pnpmembers.com/wp-content/uploads/2021/11/CPCA-Logo-512x512-1.png
ORGANIZER;CN="Cactus Park Community Alliance (CPCA)":MAILTO:CommunityInfo@cpcaaz.org
END:VEVENT
BEGIN:VEVENT
DTSTART;TZID=America/Phoenix:20230926T183000
DTEND;TZID=America/Phoenix:20230926T203000
DTSTAMP:20260425T195701
CREATED:20230913T212016Z
LAST-MODIFIED:20230913T212027Z
UID:5671-1695753000-1695760200@pnpmembers.com
SUMMARY:Sep 26 - PBWAB - Phoenix Block Watch Advisory Board Meeting
DESCRIPTION:
URL:https://pnpmembers.com/event/sep-26-pbwab-phoenix-block-watch-advisory-board-meeting/
LOCATION:Mountain View Precinct Community Room\, 2075 E Maryland Av\, Phoenix\, AZ\, 85016
ATTACH;FMTTYPE=image/png:https://pnpmembers.com/wp-content/uploads/2021/11/PBWAB-logo.png
END:VEVENT
BEGIN:VEVENT
DTSTART;TZID=America/Phoenix:20230921T083000
DTEND;TZID=America/Phoenix:20230921T093000
DTSTAMP:20260425T195701
CREATED:20230909T211750Z
LAST-MODIFIED:20230909T213050Z
UID:5661-1695285000-1695288600@pnpmembers.com
SUMMARY:Sep 21 - Council District 3 Coffee Chat
DESCRIPTION:
URL:https://pnpmembers.com/event/sep-21-council-district-3-coffee-chat/
ATTACH;FMTTYPE=image/png:https://pnpmembers.com/wp-content/uploads/2022/10/CoffeePoutintoCup.png
END:VEVENT
BEGIN:VEVENT
DTSTART;TZID=America/Phoenix:20230913T183000
DTEND;TZID=America/Phoenix:20230913T203000
DTSTAMP:20260425T195701
CREATED:20230629T200347Z
LAST-MODIFIED:20230913T210803Z
UID:5559-1694629800-1694637000@pnpmembers.com
SUMMARY:Sep 13 - Black Mountain Community Alliance Meeting
DESCRIPTION:
URL:https://pnpmembers.com/event/sep-13-black-mountain-community-alliance-meeting/
LOCATION:Deer Valley Community Center\, 19602 N 19 Pl\, Phoenix\, AZ\, 85024
ATTACH;FMTTYPE=image/png:https://pnpmembers.com/wp-content/uploads/2021/11/BMCA.png
ORGANIZER;CN="Black Mountain Community Alliance (BMCA)":MAILTO:info@bmcainfo.com
END:VEVENT
BEGIN:VEVENT
DTSTART;TZID=America/Phoenix:20230906T080000
DTEND;TZID=America/Phoenix:20230906T090000
DTSTAMP:20260425T195701
CREATED:20230811T225809Z
LAST-MODIFIED:20230811T225809Z
UID:5588-1693987200-1693990800@pnpmembers.com
SUMMARY:Sep 6 - Cactus Park 900 Coffee with a Cop
DESCRIPTION:
URL:https://pnpmembers.com/event/sep-6-cactus-park-900-coffee-with-a-cop/
ATTACH;FMTTYPE=image/jpeg:https://pnpmembers.com/wp-content/uploads/2022/10/Coffee-Pouring.jpg
END:VEVENT
BEGIN:VEVENT
DTSTART;TZID=America/Phoenix:20230822T183000
DTEND;TZID=America/Phoenix:20230822T203000
DTSTAMP:20260425T195701
CREATED:20230601T221226Z
LAST-MODIFIED:20230815T165948Z
UID:5514-1692729000-1692736200@pnpmembers.com
SUMMARY:Aug 22 - PBWAB - Phoenix Block Watch Advisory Board Meeting
DESCRIPTION:
URL:https://pnpmembers.com/event/aug-22-pbwab-phoenix-block-watch-advisory-board-meeting/
LOCATION:St. Paul’s Catholic Church\, 330 W Coral Gables Dr\, Phoenix\, AZ\, 85023
ATTACH;FMTTYPE=image/png:https://pnpmembers.com/wp-content/uploads/2021/11/PBWAB-logo.png
END:VEVENT
BEGIN:VEVENT
DTSTART;TZID=America/Phoenix:20230808T170000
DTEND;TZID=America/Phoenix:20230808T180000
DTSTAMP:20260425T195701
CREATED:20230726T155820Z
LAST-MODIFIED:20230726T155820Z
UID:5584-1691514000-1691517600@pnpmembers.com
SUMMARY:Aug 8 - Laveen Coffee with a Cop and Community Chat
DESCRIPTION:
URL:https://pnpmembers.com/event/aug-8-laveen-coffee-with-a-cop-and-community-chat/
LOCATION:Laveen Education Center\, 5001 W Dobbins Rd\, Laveen\, AZ\, 85339
END:VEVENT
BEGIN:VEVENT
DTSTART;TZID=America/Phoenix:20230704T180000
DTEND;TZID=America/Phoenix:20230704T220000
DTSTAMP:20260425T195701
CREATED:20230606T213334Z
LAST-MODIFIED:20230606T213334Z
UID:5518-1688493600-1688508000@pnpmembers.com
SUMMARY:Jul 4 - Fabulous Phoenix 4th
DESCRIPTION:
URL:https://pnpmembers.com/event/jul-4-fabulous-phoenix-4th/
ATTACH;FMTTYPE=image/png:https://pnpmembers.com/wp-content/uploads/2023/06/20230704-Fabulous-4th.png
END:VEVENT
BEGIN:VEVENT
DTSTART;TZID=America/Phoenix:20230626T180000
DTEND;TZID=America/Phoenix:20230626T193000
DTSTAMP:20260425T195701
CREATED:20230616T170744Z
LAST-MODIFIED:20230616T170744Z
UID:5525-1687802400-1687807800@pnpmembers.com
SUMMARY:Jun 26 - City Council D7 & D8 Laveen Quarterly Meeting
DESCRIPTION:
URL:https://pnpmembers.com/event/jun-26-city-council-d7-d8-laveen-quarterly-meeting/
END:VEVENT
BEGIN:VEVENT
DTSTART;TZID=America/Phoenix:20230622T173000
DTEND;TZID=America/Phoenix:20230622T190000
DTSTAMP:20260425T195701
CREATED:20230606T221028Z
LAST-MODIFIED:20230606T221028Z
UID:5521-1687455000-1687460400@pnpmembers.com
SUMMARY:Jun 22 - Black Mountain Pct. Dinner with a Cop
DESCRIPTION:
URL:https://pnpmembers.com/event/jun-22-black-mountain-pct-dinner-with-a-cop/
ATTACH;FMTTYPE=image/png:https://pnpmembers.com/wp-content/uploads/2012/11/PD_CWC_Logo04_200_Phx.png
END:VEVENT
BEGIN:VEVENT
DTSTART;TZID=America/Phoenix:20230620T180000
DTEND;TZID=America/Phoenix:20230620T200000
DTSTAMP:20260425T195701
CREATED:20230621T024005Z
LAST-MODIFIED:20230621T024005Z
UID:5549-1687284000-1687291200@pnpmembers.com
SUMMARY:Jul 18 - PNP Citywide Meeting
DESCRIPTION:
URL:https://pnpmembers.com/event/jul-18-pnp-citywide-meeting/
LOCATION:Mountain View Precinct Community Room\, 2075 E Maryland Av\, Phoenix\, AZ\, 85016
ATTACH;FMTTYPE=image/jpeg:https://pnpmembers.com/wp-content/uploads/2021/11/PNPLOGO_tm.jpg
ORGANIZER;CN="Phoenix Neighborhood Patrol":MAILTO:pnp.coordinator@phoenix.gov
END:VEVENT
BEGIN:VEVENT
DTSTART;TZID=America/Phoenix:20230620T180000
DTEND;TZID=America/Phoenix:20230620T200000
DTSTAMP:20260425T195701
CREATED:20230518T051617Z
LAST-MODIFIED:20230518T051617Z
UID:5503-1687284000-1687291200@pnpmembers.com
SUMMARY:Jun 20 - PNP Citywide Meeting
DESCRIPTION:
URL:https://pnpmembers.com/event/jun-20-pnp-citywide-meeting/
LOCATION:Mountain View Precinct Community Room\, 2075 E Maryland Av\, Phoenix\, AZ\, 85016
ATTACH;FMTTYPE=image/jpeg:https://pnpmembers.com/wp-content/uploads/2021/11/PNPLOGO_tm.jpg
ORGANIZER;CN="Phoenix Neighborhood Patrol":MAILTO:pnp.coordinator@phoenix.gov
END:VEVENT
BEGIN:VEVENT
DTSTART;TZID=America/Phoenix:20230614T183000
DTEND;TZID=America/Phoenix:20230614T203000
DTSTAMP:20260425T195701
CREATED:20230601T220409Z
LAST-MODIFIED:20230601T220539Z
UID:5510-1686767400-1686774600@pnpmembers.com
SUMMARY:Jun 14 - BMCA Black Mountain Community  Alliance Meeting
DESCRIPTION:
URL:https://pnpmembers.com/event/jun-14-bmca-black-mountain-community-alliance-meeting/
LOCATION:Deer Valley Community Center\, 19602 N 19 Pl\, Phoenix\, AZ\, 85024
ATTACH;FMTTYPE=image/png:https://pnpmembers.com/wp-content/uploads/2021/11/BMCA.png
ORGANIZER;CN="Black Mountain Community Alliance (BMCA)":MAILTO:info@bmcainfo.com
END:VEVENT
BEGIN:VEVENT
DTSTART;TZID=America/Phoenix:20230526T193000
DTEND;TZID=America/Phoenix:20230526T210000
DTSTAMP:20260425T195701
CREATED:20230518T051912Z
LAST-MODIFIED:20230518T051912Z
UID:5505-1685129400-1685134800@pnpmembers.com
SUMMARY:May 26 - Council District 1 Community Meeting
DESCRIPTION:Our next meeting will be May 26th and will be located back at the DoubleTree (10220 N Metro Pkwy E\, Phoenix\, AZ 85051). We will be meeting at our regular scheduled time for our breakfast meetings. Plan for check in to begin at 7:30am and the meeting to start at 8am.\nYou can register via the link in my newsletter on the Cactus Park Community Alliance Home Page As a reminder\, please fill out the form SEPARATELY for EACH member of your family planning to attend. Thank you! \n 
URL:https://pnpmembers.com/event/may-26-council-district-1-community-meeting/
LOCATION:DoubleTree Hotel Phoenix North\, 10220 N Metro Parkway East\, Phoenix\, AZ\, 85029
ATTACH;FMTTYPE=image/png:https://pnpmembers.com/wp-content/uploads/2023/04/Council-District-1-Logo-Small.png
END:VEVENT
BEGIN:VEVENT
DTSTART;TZID=America/Phoenix:20230525T180000
DTEND;TZID=America/Phoenix:20230525T190000
DTSTAMP:20260425T195701
CREATED:20230501T182347Z
LAST-MODIFIED:20230501T182347Z
UID:5467-1685037600-1685041200@pnpmembers.com
SUMMARY:May 25 - Black Mountain Precinct (200) Coffee with a Cop
DESCRIPTION:
URL:https://pnpmembers.com/event/may-25-black-mountain-precinct-200-coffee-with-a-cop/
ATTACH;FMTTYPE=image/png:https://pnpmembers.com/wp-content/uploads/2022/10/CoffeePoutintoCup.png
END:VEVENT
BEGIN:VEVENT
DTSTART;TZID=America/Phoenix:20230524T183000
DTEND;TZID=America/Phoenix:20230524T203000
DTSTAMP:20260425T195701
CREATED:20230518T051455Z
LAST-MODIFIED:20230518T051455Z
UID:5501-1684953000-1684960200@pnpmembers.com
SUMMARY:May 24 - Cactus Park Community Alliance (CPCA) Meeting
DESCRIPTION:More info will be posted soon.
URL:https://pnpmembers.com/event/may-24-cactus-park-community-alliance-cpca-meeting/
LOCATION:Cortez High School\, 8828 N 31 Av\, Phoenix\, AZ\, 85051
ATTACH;FMTTYPE=image/jpeg:https://pnpmembers.com/wp-content/uploads/2022/02/CPCA-PNP_Logos.jpg
ORGANIZER;CN="Cactus Park Community Alliance (CPCA)":MAILTO:CommunityInfo@cpcaaz.org
END:VEVENT
BEGIN:VEVENT
DTSTART;TZID=America/Phoenix:20230523T183000
DTEND;TZID=America/Phoenix:20230523T203000
DTSTAMP:20260425T195701
CREATED:20230518T051356Z
LAST-MODIFIED:20230518T051356Z
UID:5499-1684866600-1684873800@pnpmembers.com
SUMMARY:May 23 - Phoenix Block Watch Advisory Board Meeting
DESCRIPTION:
URL:https://pnpmembers.com/event/may-23-phoenix-block-watch-advisory-board-meeting/
ATTACH;FMTTYPE=image/png:https://pnpmembers.com/wp-content/uploads/2021/11/PBWAB-logo.png
END:VEVENT
BEGIN:VEVENT
DTSTART;TZID=America/Phoenix:20230517T080000
DTEND;TZID=America/Phoenix:20230517T090000
DTSTAMP:20260425T195701
CREATED:20230503T162355Z
LAST-MODIFIED:20230503T162423Z
UID:5475-1684310400-1684314000@pnpmembers.com
SUMMARY:May 17 - Cactus Park (900) Coffee with a Cop
DESCRIPTION:
URL:https://pnpmembers.com/event/may-17-cactus-park-900-coffee-with-a-cop/
ATTACH;FMTTYPE=image/png:https://pnpmembers.com/wp-content/uploads/2012/11/PD_CWC_Logo04_900_Phx.png
END:VEVENT
BEGIN:VEVENT
DTSTART;TZID=America/Phoenix:20230516T180000
DTEND;TZID=America/Phoenix:20230516T200000
DTSTAMP:20260425T195701
CREATED:20230410T211524Z
LAST-MODIFIED:20230410T211524Z
UID:5439-1684260000-1684267200@pnpmembers.com
SUMMARY:May 16 - PNP Citywide Meeting
DESCRIPTION:
URL:https://pnpmembers.com/event/may-16-pnp-citywide-meeting/
LOCATION:Mountain View Precinct Community Room\, 2075 E Maryland Av\, Phoenix\, AZ\, 85016
ATTACH;FMTTYPE=image/jpeg:https://pnpmembers.com/wp-content/uploads/2021/11/PNPLOGO_tm.jpg
ORGANIZER;CN="Phoenix Neighborhood Patrol":MAILTO:pnp.coordinator@phoenix.gov
END:VEVENT
BEGIN:VEVENT
DTSTART;VALUE=DATE:20230514
DTEND;VALUE=DATE:20230522
DTSTAMP:20260425T195701
CREATED:20230516T190249Z
LAST-MODIFIED:20230516T190249Z
UID:5481-1684022400-1684713599@pnpmembers.com
SUMMARY:May 14-21 National Police Week
DESCRIPTION:National Police Week offers honor\, remembrance\, and peer support\, while allowing law enforcement\, survivors\, and citizens to gather and pay homage to those who gave their lives in the line of duty.\n\nHISTORY\nIn 1962\, President John F. Kennedy signed a proclamation which designated May 15 as Peace Officers Memorial Day and the week in which that date falls as Police Week. Currently\, tens of thousands of law enforcement officers from around the world converge on Washington\, DC to participate in a number of planned events which honor those that have paid the ultimate sacrifice.The Memorial Service began in 1982 as a gathering in Senate Park of approximately 120 survivors and supporters of law enforcement. Decades later\, the event\, more commonly known as National Police Week\, has grown to a series of events which attracts thousands of survivors and law enforcement officers to our Nation’s Capital each year.  \nThe National Peace Officers Memorial Service\, which is sponsored by the Grand Lodge of the Fraternal Order of Police\, is one in a series of events which includes the Candlelight Vigil\, which is sponsored by the National Law Enforcement Officers Memorial Fund (NLEOMF) and seminars sponsored by Concerns of Police Survivors (C.O.P.S.) \nNational Police Week draws in between 25\,000 to 40\,000 attendees. The attendees come from departments throughout the United States as well as from agencies throughout the world. This provides a unique opportunity to meet others who work in law enforcement. In that spirit\, the Fraternal Order of Police DC Lodge #1 sponsors receptions each afternoon and evening during Police Week. These events are open to all law enforcement personnel and are an experience unlike any other.
URL:https://pnpmembers.com/event/may-14-21-national-police-week/
ATTACH;FMTTYPE=image/jpeg:https://pnpmembers.com/wp-content/uploads/2023/05/Police-Week-Logo3.jpg
END:VEVENT
BEGIN:VEVENT
DTSTART;TZID=America/Phoenix:20230510T183000
DTEND;TZID=America/Phoenix:20230510T203000
DTSTAMP:20260425T195701
CREATED:20230501T181852Z
LAST-MODIFIED:20230501T181852Z
UID:5463-1683743400-1683750600@pnpmembers.com
SUMMARY:May 10 - Black Mountain Community Alliance
DESCRIPTION:
URL:https://pnpmembers.com/event/may-10-black-mountain-community-alliance/
LOCATION:Deer Valley Community Center\, 19602 N 19 Pl\, Phoenix\, AZ\, 85024
ATTACH;FMTTYPE=image/png:https://pnpmembers.com/wp-content/uploads/2021/11/BMCA.png
ORGANIZER;CN="Black Mountain Community Alliance (BMCA)":MAILTO:info@bmcainfo.com
END:VEVENT
END:VCALENDAR