BEGIN:VCALENDAR
VERSION:2.0
PRODID:-//PNP Members - ECPv6.15.20//NONSGML v1.0//EN
CALSCALE:GREGORIAN
METHOD:PUBLISH
X-WR-CALNAME:PNP Members
X-ORIGINAL-URL:https://pnpmembers.com
X-WR-CALDESC:Events for PNP Members
REFRESH-INTERVAL;VALUE=DURATION:PT1H
X-Robots-Tag:noindex
X-PUBLISHED-TTL:PT1H
BEGIN:VTIMEZONE
TZID:America/Phoenix
BEGIN:STANDARD
TZOFFSETFROM:-0700
TZOFFSETTO:-0700
TZNAME:MST
DTSTART:20220101T000000
END:STANDARD
END:VTIMEZONE
BEGIN:VEVENT
DTSTART;TZID=America/Phoenix:20230425T183000
DTEND;TZID=America/Phoenix:20230425T203000
DTSTAMP:20260425T170253
CREATED:20230414T225633Z
LAST-MODIFIED:20230414T225633Z
UID:5447-1682447400-1682454600@pnpmembers.com
SUMMARY:Apr 25 - Phoenix Block Watch Advisory Board Meeting
DESCRIPTION:
URL:https://pnpmembers.com/event/apr-25-phoenix-block-watch-advisory-board-meeting/
LOCATION:Washington Activity Center\, 2240 W Citrus Wy\, Phoenix\, AZ\, 85015
ATTACH;FMTTYPE=image/png:https://pnpmembers.com/wp-content/uploads/2021/11/PBWAB-logo.png
END:VEVENT
BEGIN:VEVENT
DTSTART;TZID=America/Phoenix:20230425T073000
DTEND;TZID=America/Phoenix:20230425T090000
DTSTAMP:20260425T170253
CREATED:20230421T185021Z
LAST-MODIFIED:20230421T185021Z
UID:5453-1682407800-1682413200@pnpmembers.com
SUMMARY:Apr 25 - Maryvale-Estrella (800) Coffee with a Cop
DESCRIPTION:
URL:https://pnpmembers.com/event/apr-25-maryvale-estrella-800-coffee-with-a-cop/
ATTACH;FMTTYPE=image/png:https://pnpmembers.com/wp-content/uploads/2012/11/PD_CWC_Logo04_800_Phx.png
END:VEVENT
BEGIN:VEVENT
DTSTART;TZID=America/Phoenix:20230424T180000
DTEND;TZID=America/Phoenix:20230424T193000
DTSTAMP:20260425T170253
CREATED:20230414T230201Z
LAST-MODIFIED:20230414T230614Z
UID:5449-1682359200-1682364600@pnpmembers.com
SUMMARY:Apr 24 - Council District 1 Community Meeting
DESCRIPTION:Our next meeting will be April 24th at the Deer Valley Community Center (2001 W Wahalla Ln\, Phoenix\, AZ 85027). We will be meeting at our regular scheduled time for our evening meetings. Plan for check in to begin at 5:30pm and the meeting to start at 6pm. \nYou can register below for the upcoming meeting! As a reminder\, please fill out the form SEPARATELY for EACH member of your family planning to attend. Thank you! \nREGISTER HERE \n 
URL:https://pnpmembers.com/event/apr-24-council-district-1-community-meeting/
LOCATION:Deer Valley Community Center\, 19602 N 19 Pl\, Phoenix\, AZ\, 85024
ATTACH;FMTTYPE=image/png:https://pnpmembers.com/wp-content/uploads/2023/04/Council-District-1-Logo-Small.png
END:VEVENT
BEGIN:VEVENT
DTSTART;TZID=America/Phoenix:20230422T100000
DTEND;TZID=America/Phoenix:20230422T140000
DTSTAMP:20260425T170253
CREATED:20230328T160037Z
LAST-MODIFIED:20230328T160055Z
UID:5398-1682157600-1682172000@pnpmembers.com
SUMMARY:Apr 22 - DEA Drug Take Back
DESCRIPTION:
URL:https://pnpmembers.com/event/apr-22-dea-drug-take-back/
ATTACH;FMTTYPE=image/png:https://pnpmembers.com/wp-content/uploads/2023/03/DEA-Drug-Take-Back-Feature-Image.png
END:VEVENT
BEGIN:VEVENT
DTSTART;TZID=America/Phoenix:20230412T183000
DTEND;TZID=America/Phoenix:20230412T203000
DTSTAMP:20260425T170253
CREATED:20230402T004526Z
LAST-MODIFIED:20230402T004526Z
UID:5424-1681324200-1681331400@pnpmembers.com
SUMMARY:Apr 12 - Black Mountain Community Alliance
DESCRIPTION:
URL:https://pnpmembers.com/event/apr-12-black-mountain-community-alliance/
LOCATION:Deer Valley Community Center\, 19602 N 19 Pl\, Phoenix\, AZ\, 85024
ATTACH;FMTTYPE=image/png:https://pnpmembers.com/wp-content/uploads/2021/11/BMCA.png
ORGANIZER;CN="Black Mountain Community Alliance (BMCA)":MAILTO:info@bmcainfo.com
END:VEVENT
BEGIN:VEVENT
DTSTART;TZID=America/Phoenix:20230407T190000
DTEND;TZID=America/Phoenix:20230407T220000
DTSTAMP:20260425T170253
CREATED:20230324T172348Z
LAST-MODIFIED:20230324T172348Z
UID:5353-1680894000-1680904800@pnpmembers.com
SUMMARY:Apr 7 - First Friday Patrol
DESCRIPTION:New – More info and map (In MS Word format) \nPNP GROUP PATROL \nContact Rick Sain at ussyorktown25@hotmail.com or\nat 602-799-0143\nJust a reminder that the next First Friday will be on October 7th\n.\nWe have a new meeting place\, the address is 1202 N. 3rd St\, next\nto the Phoenix Center for the Arts. It is a big parking lot and it does\nfill up fast. I am Changing the meeting and start time. We will start\nto meet at 6:00pm\, and start our patrol at 6:30pm\, and we will get\ndone between 9:45pm- 10pm.\nPLEASE LET ME KNOW IF YOU CAN MAKE IT. This way\, I can\ntry and block off some parking spaces for us. And I can also\ncontact you if anything should happen. I do not have some of your\ncell phone numbers\, so if you plan on going\, please send me your\nnumber. If you can’t find us on Friday night\, my cell number is 602-\n799-0143. Thanks. Rick
URL:https://pnpmembers.com/event/apr-7-first-friday-patrol/
ATTACH;FMTTYPE=image/jpeg:https://pnpmembers.com/wp-content/uploads/2013/01/sign-pnp-magnetic.jpg
ORGANIZER;CN="Phoenix Neighborhood Patrol":MAILTO:pnp.coordinator@phoenix.gov
END:VEVENT
BEGIN:VEVENT
DTSTART;VALUE=DATE:20230406
DTEND;VALUE=DATE:20230407
DTSTAMP:20260425T170253
CREATED:20230303T205728Z
LAST-MODIFIED:20230303T205728Z
UID:5266-1680739200-1680825599@pnpmembers.com
SUMMARY:Apr 6 - Wear Blue to support your PD
DESCRIPTION:
URL:https://pnpmembers.com/event/apr-6-wear-blue-to-support-your-pd/
ATTACH;FMTTYPE=image/png:https://pnpmembers.com/wp-content/uploads/2022/12/Six.png
END:VEVENT
BEGIN:VEVENT
DTSTART;TZID=America/Phoenix:20230329T183000
DTEND;TZID=America/Phoenix:20230329T203000
DTSTAMP:20260425T170253
CREATED:20230303T210158Z
LAST-MODIFIED:20230321T205328Z
UID:5270-1680114600-1680121800@pnpmembers.com
SUMMARY:Mar 29 - CPCA - PBWAB joint meeting
DESCRIPTION:Join the Cactus Park Community Alliance and the Phoenix Block Watch Advisory Board for their March meeting. \n \n 
URL:https://pnpmembers.com/event/mar-29-cpca-pbwab-joint-meeting/
LOCATION:Cortez High School\, 8828 N 31 Av\, Phoenix\, AZ\, 85051
ATTACH;FMTTYPE=image/jpeg:https://pnpmembers.com/wp-content/uploads/2022/02/CPCA-PNP_Logos.jpg
ORGANIZER;CN="Cactus Park Community Alliance (CPCA)":MAILTO:CommunityInfo@cpcaaz.org
END:VEVENT
BEGIN:VEVENT
DTSTART;TZID=America/Phoenix:20230323T180000
DTEND;TZID=America/Phoenix:20230323T193000
DTSTAMP:20260425T170253
CREATED:20230322T052412Z
LAST-MODIFIED:20230322T052434Z
UID:5322-1679594400-1679599800@pnpmembers.com
SUMMARY:Mar 23 - Dinner with a Cop - Black Mountain Precinct
DESCRIPTION:
URL:https://pnpmembers.com/event/mar-23-dinner-with-a-cop-black-mountain-precinct/
END:VEVENT
BEGIN:VEVENT
DTSTART;TZID=America/Phoenix:20230323T083000
DTEND;TZID=America/Phoenix:20230323T220000
DTSTAMP:20260425T170253
CREATED:20230307T030101Z
LAST-MODIFIED:20230307T030138Z
UID:5278-1679560200-1679608800@pnpmembers.com
SUMMARY:Mar 23 - Council District 3 Community Coffee Chat
DESCRIPTION:
URL:https://pnpmembers.com/event/mar-23-council-district-3-community-coffee-chat/
ATTACH;FMTTYPE=image/jpeg:https://pnpmembers.com/wp-content/uploads/2022/10/Coffee-Pouring.jpg
END:VEVENT
BEGIN:VEVENT
DTSTART;TZID=America/Phoenix:20230315T080000
DTEND;TZID=America/Phoenix:20230315T090000
DTSTAMP:20260425T170253
CREATED:20230303T205352Z
LAST-MODIFIED:20230303T205441Z
UID:5262-1678867200-1678870800@pnpmembers.com
SUMMARY:Mar 15 - Cactus Park (900) Coffee with a Cop
DESCRIPTION:
URL:https://pnpmembers.com/event/mar-15-cactus-park-900-coffee-with-a-cop/
LOCATION:The Cracked Egg\, 3422 W Glendale Av\, Phoenix\, AZ\, 85051
ATTACH;FMTTYPE=image/png:https://pnpmembers.com/wp-content/uploads/2012/11/PD_CWC_Logo04_900_Phx.png
END:VEVENT
BEGIN:VEVENT
DTSTART;TZID=America/Phoenix:20230308T183000
DTEND;TZID=America/Phoenix:20230308T203000
DTSTAMP:20260425T170253
CREATED:20230307T025848Z
LAST-MODIFIED:20230307T025848Z
UID:5275-1678300200-1678307400@pnpmembers.com
SUMMARY:Mar 8 - Black Mountain Community Alliance
DESCRIPTION:
URL:https://pnpmembers.com/event/mar-8-black-mountain-community-alliance/
LOCATION:Deer Valley Community Center\, 19602 N 19 Pl\, Phoenix\, AZ\, 85024
ATTACH;FMTTYPE=image/png:https://pnpmembers.com/wp-content/uploads/2021/11/BMCA.png
ORGANIZER;CN="Black Mountain Community Alliance (BMCA)":MAILTO:info@bmcainfo.com
END:VEVENT
BEGIN:VEVENT
DTSTART;VALUE=DATE:20230306
DTEND;VALUE=DATE:20230307
DTSTAMP:20260425T170253
CREATED:20230303T205658Z
LAST-MODIFIED:20230303T205658Z
UID:5264-1678060800-1678147199@pnpmembers.com
SUMMARY:Mar 6 - Wear Blue to support your PD
DESCRIPTION:
URL:https://pnpmembers.com/event/mar-6-wear-blue-to-support-your-pd/
ATTACH;FMTTYPE=image/png:https://pnpmembers.com/wp-content/uploads/2022/12/Six.png
END:VEVENT
BEGIN:VEVENT
DTSTART;TZID=America/Phoenix:20230223T180000
DTEND;TZID=America/Phoenix:20230223T193000
DTSTAMP:20260425T170253
CREATED:20230118T235940Z
LAST-MODIFIED:20230119T000400Z
UID:5151-1677175200-1677180600@pnpmembers.com
SUMMARY:Feb 23 - Cactus Park (900) Dinner with a Cop
DESCRIPTION:
URL:https://pnpmembers.com/event/feb-23-cactus-park-900-dinner-with-a-cop/
LOCATION:Anzio’s Italian Restaurant\, 12418 N 28 Dr #1\, Phoenix\, AZ\, 85029
ATTACH;FMTTYPE=image/png:https://pnpmembers.com/wp-content/uploads/2012/11/PD_CWC_Logo04_900_Phx.png
END:VEVENT
BEGIN:VEVENT
DTSTART;TZID=America/Phoenix:20230222T173000
DTEND;TZID=America/Phoenix:20230222T190000
DTSTAMP:20260425T170253
CREATED:20230125T183445Z
LAST-MODIFIED:20230125T183445Z
UID:5225-1677087000-1677092400@pnpmembers.com
SUMMARY:Feb 22 - Laveen (800 Precinct) Coffee with a Cop
DESCRIPTION:Coffee with a Cop Meeting Agenda \nDate: 2/22/23 \nTime: 5:30 pm – 7:00 pm \nLocation: 5001 W. Dobbins Rd.\, Laveen\, AZ \nMeeting Facilitator: Dr. Joe Roselle Laveen School District \n 
URL:https://pnpmembers.com/event/feb-22-laveen-800-precinct-coffee-with-a-cop/
CATEGORIES:CwaC - Coffee (or Dinner) with a Cop
ATTACH;FMTTYPE=image/png:https://pnpmembers.com/wp-content/uploads/2023/01/Coffee-with-a-Cop-Laveen-Logo.png
END:VEVENT
BEGIN:VEVENT
DTSTART;TZID=America/Phoenix:20230222T083000
DTEND;TZID=America/Phoenix:20230222T093000
DTSTAMP:20260425T170253
CREATED:20230201T043546Z
LAST-MODIFIED:20230201T043546Z
UID:5233-1677054600-1677058200@pnpmembers.com
SUMMARY:Feb 22 - Black Mountain Precinct (200) Coffee With a Cop
DESCRIPTION:
URL:https://pnpmembers.com/event/feb-22-black-mountain-precinct-200-coffee-with-a-cop/
ATTACH;FMTTYPE=image/png:https://pnpmembers.com/wp-content/uploads/2012/11/PD_CWC_Logo04_200_Phx.png
END:VEVENT
BEGIN:VEVENT
DTSTART;TZID=America/Phoenix:20230221T180000
DTEND;TZID=America/Phoenix:20230221T200000
DTSTAMP:20260425T170253
CREATED:20230117T234534Z
LAST-MODIFIED:20230117T234534Z
UID:5127-1677002400-1677009600@pnpmembers.com
SUMMARY:Feb 21 - PNP Citywide Meeting
DESCRIPTION:We are back in-person for the first time since the pandemic.
URL:https://pnpmembers.com/event/feb-21-pnp-citywide-meeting/
LOCATION:Mountain View Precinct Community Room\, 2075 E Maryland Av\, Phoenix\, AZ\, 85016
ATTACH;FMTTYPE=image/jpeg:https://pnpmembers.com/wp-content/uploads/2021/11/PNPLOGO_tm.jpg
ORGANIZER;CN="Phoenix Neighborhood Patrol":MAILTO:pnp.coordinator@phoenix.gov
END:VEVENT
BEGIN:VEVENT
DTSTART;TZID=America/Phoenix:20230208T183000
DTEND;TZID=America/Phoenix:20230208T203000
DTSTAMP:20260425T170253
CREATED:20230201T043253Z
LAST-MODIFIED:20230201T043253Z
UID:5229-1675881000-1675888200@pnpmembers.com
SUMMARY:Feb 8 - Black Mountain Community Alliance
DESCRIPTION:
URL:https://pnpmembers.com/event/feb-8-black-mountain-community-alliance/
LOCATION:Deer Valley Community Center\, 19602 N 19 Pl\, Phoenix\, AZ\, 85024
ATTACH;FMTTYPE=image/png:https://pnpmembers.com/wp-content/uploads/2021/11/BMCA.png
ORGANIZER;CN="Black Mountain Community Alliance (BMCA)":MAILTO:info@bmcainfo.com
END:VEVENT
BEGIN:VEVENT
DTSTART;VALUE=DATE:20230206
DTEND;VALUE=DATE:20230207
DTSTAMP:20260425T170253
CREATED:20221204T000420Z
LAST-MODIFIED:20221204T000420Z
UID:5013-1675641600-1675727999@pnpmembers.com
SUMMARY:Feb 6 - Wear Blue to support your PD
DESCRIPTION:
URL:https://pnpmembers.com/event/feb-6-wear-blue-to-support-your-pd/
ATTACH;FMTTYPE=image/png:https://pnpmembers.com/wp-content/uploads/2022/12/Six.png
END:VEVENT
BEGIN:VEVENT
DTSTART;TZID=America/Phoenix:20230203T190000
DTEND;TZID=America/Phoenix:20230203T220000
DTSTAMP:20260425T170253
CREATED:20230118T021424Z
LAST-MODIFIED:20230118T021443Z
UID:5132-1675450800-1675461600@pnpmembers.com
SUMMARY:Feb 3 - First Friday Patrol
DESCRIPTION:New – More info and map (In MS Word format) \nPNP GROUP PATROL\nSEE YOU IN OCTOBER!\nContact Rick Sain at ussyorktown25@hotmail.com or\nat 602-799-0143\nJust a reminder that the next First Friday will be on October 7th\n.\nWe have a new meeting place\, the address is 1202 N. 3rd St\, next\nto the Phoenix Center for the Arts. It is a big parking lot and it does\nfill up fast. I am Changing the meeting and start time. We will start\nto meet at 6:00pm\, and start our patrol at 6:30pm\, and we will get\ndone between 9:45pm- 10pm.\nPLEASE LET ME KNOW IF YOU CAN MAKE IT. This way\, I can\ntry and block off some parking spaces for us. And I can also\ncontact you if anything should happen. I do not have some of your\ncell phone numbers\, so if you plan on going\, please send me your\nnumber. If you can’t find us on Friday night\, my cell number is 602-\n799-0143. Thanks. Rick
URL:https://pnpmembers.com/event/feb-3-first-friday-patrol/
ATTACH;FMTTYPE=image/jpeg:https://pnpmembers.com/wp-content/uploads/2013/01/sign-pnp-magnetic.jpg
ORGANIZER;CN="Phoenix Neighborhood Patrol":MAILTO:pnp.coordinator@phoenix.gov
END:VEVENT
BEGIN:VEVENT
DTSTART;TZID=America/Phoenix:20230126T083000
DTEND;TZID=America/Phoenix:20230126T093000
DTSTAMP:20260425T170253
CREATED:20230114T190112Z
LAST-MODIFIED:20230114T190112Z
UID:5112-1674721800-1674725400@pnpmembers.com
SUMMARY:Jan 26 - Black Mountain Precinct (200) Coffee With a Cop
DESCRIPTION:
URL:https://pnpmembers.com/event/jan-26-black-mountain-precinct-200-coffee-with-a-cop/
ATTACH;FMTTYPE=image/png:https://pnpmembers.com/wp-content/uploads/2012/11/PD_CWC_Logo04_200_Phx.png
END:VEVENT
BEGIN:VEVENT
DTSTART;TZID=America/Phoenix:20230125T080000
DTEND;TZID=America/Phoenix:20230125T170000
DTSTAMP:20260425T170253
CREATED:20221127T000010Z
LAST-MODIFIED:20230117T234337Z
UID:4982-1674633600-1674666000@pnpmembers.com
SUMMARY:Jan 25 - Cactus Park Community Alliance (CPCA) Meeting
DESCRIPTION:Join the Cactus Park Community Alliance as our friend Joan Campbell from the Maricopa County Attorney’s Office talks to us about Situational Awareness and how we can mitigate being a victim of crime.
URL:https://pnpmembers.com/event/jan-25-cactus-park-community-alliance-cpca-meeting/
LOCATION:Cortez High School\, 8828 N 31 Av\, Phoenix\, AZ\, 85051
ATTACH;FMTTYPE=image/jpeg:https://pnpmembers.com/wp-content/uploads/2022/02/CPCA-PNP_Logos.jpg
ORGANIZER;CN="Cactus Park Community Alliance (CPCA)":MAILTO:CommunityInfo@cpcaaz.org
END:VEVENT
BEGIN:VEVENT
DTSTART;TZID=America/Phoenix:20230124T183000
DTEND;TZID=America/Phoenix:20230124T203000
DTSTAMP:20260425T170253
CREATED:20230105T213012Z
LAST-MODIFIED:20230105T213012Z
UID:5072-1674585000-1674592200@pnpmembers.com
SUMMARY:Jan 24 - Phoenix Block Watch Advisory Board Meeting
DESCRIPTION:
URL:https://pnpmembers.com/event/jan-24-phoenix-block-watch-advisory-board-meeting/
LOCATION:Washington Activity Center\, 2240 W Citrus Wy\, Phoenix\, AZ\, 85015
ATTACH;FMTTYPE=image/png:https://pnpmembers.com/wp-content/uploads/2021/11/PBWAB-logo.png
END:VEVENT
BEGIN:VEVENT
DTSTART;TZID=America/Phoenix:20230124T180000
DTEND;TZID=America/Phoenix:20230124T200000
DTSTAMP:20260425T170253
CREATED:20230109T185954Z
LAST-MODIFIED:20230109T231657Z
UID:5086-1674583200-1674590400@pnpmembers.com
SUMMARY:Jan 24 - Human Trafficking Presentation by Az AG
DESCRIPTION: 
URL:https://pnpmembers.com/event/jan-24-human-trafficking-presentation-by-az-ag/
LOCATION:Helen Drake Senior Center\, 7600 N 27 Av\, Phoenix\, AZ\, 85051\, United States
ORGANIZER;CN="Arizona Attorney General's Office":MAILTO:CommunityOutreach@azg.gov
END:VEVENT
BEGIN:VEVENT
DTSTART;TZID=America/Phoenix:20230123T173000
DTEND;TZID=America/Phoenix:20230123T183000
DTSTAMP:20260425T170253
CREATED:20230120T171045Z
LAST-MODIFIED:20230120T171706Z
UID:5218-1674495000-1674498600@pnpmembers.com
SUMMARY:Jan 23 - Laveen (800 Precinct) Coffee with a Cop
DESCRIPTION:Coffee with a Cop Meeting Agenda \nDate: 1/23/23 \nTime: 5:30 pm – 7:00 pm \nLocation: 5001 W. Dobbins Rd.\, Laveen\, AZ \nMeeting Facilitator: Dr. Joe Roselle Laveen School District \nInvitees: Call to order \nI. Community Updates \nA. Councilwoman Ansari \nB. Councilman Garcia \nC. Phoenix Police Department \nD. Neighborhood Services Department-Alma Lara: 602-534-4444 or email nsd@phoenix.gov \nE. Cesar Chavez Community Center- Zahira Rangel zahira.rangel@phoenix.gov \nF. South Mountain and Laveen Chamber of Commerce \nG. Laveen Community Action Committee \nII. Community Discussion
URL:https://pnpmembers.com/event/jan-23-laveen-coffee-with-a-cop/
CATEGORIES:CwaC - Coffee (or Dinner) with a Cop
ATTACH;FMTTYPE=image/png:https://pnpmembers.com/wp-content/uploads/2023/01/Coffee-with-a-Cop-Laveen-Logo.png
END:VEVENT
BEGIN:VEVENT
DTSTART;TZID=America/Phoenix:20230119T170000
DTEND;TZID=America/Phoenix:20230119T190000
DTSTAMP:20260425T170253
CREATED:20221116T030802Z
LAST-MODIFIED:20221116T030802Z
UID:4963-1674147600-1674154800@pnpmembers.com
SUMMARY:Jan 19 - PNP Basics and Block Watch Training - Class 2 of 2
DESCRIPTION:
URL:https://pnpmembers.com/event/jan-19-pnp-basics-and-block-watch-training-class-2-of-2/
LOCATION:Virtual – OnLine – Zoom\, WebEx or other
ATTACH;FMTTYPE=image/jpeg:https://pnpmembers.com/wp-content/uploads/2021/11/PNPLOGO_tm.jpg
ORGANIZER;CN="Phoenix Neighborhood Patrol":MAILTO:pnp.coordinator@phoenix.gov
END:VEVENT
BEGIN:VEVENT
DTSTART;TZID=America/Phoenix:20230118T173000
DTEND;TZID=America/Phoenix:20230118T183000
DTSTAMP:20260425T170253
CREATED:20221215T203503Z
LAST-MODIFIED:20221215T203503Z
UID:5044-1674063000-1674066600@pnpmembers.com
SUMMARY:Jan 18 - Laveen Coffee with a Cop
DESCRIPTION:No flyer with specifics was received for this.  Just the textual message below: \nFor more information\, contact: \nDr. Joe Roselle \nCommunity Engagement Coordinator \n602-237-9100 ext. 3004 \n480-205-3590 \n\n\n\n\n\n\n\n\nWhen\n\n\n\n\nWednesday Jan 18\, 2022 ⋅ 5:30pm – 7pm (Mountain Standard Time – Phoenix)\n\n\n\n\n\n\n\nLocation\n\n\n\n\nLaveen Education Center\, 5001 W Dobbins Rd #9733\, Laveen Village\, AZ 85339\, USA\nView map
URL:https://pnpmembers.com/event/jan-18-laveen-coffee-with-a-cop/
ATTACH;FMTTYPE=image/png:https://pnpmembers.com/wp-content/uploads/2022/10/CoffeePoutintoCup.png
END:VEVENT
BEGIN:VEVENT
DTSTART;TZID=America/Phoenix:20230118T170000
DTEND;TZID=America/Phoenix:20230118T190000
DTSTAMP:20260425T170253
CREATED:20221116T030726Z
LAST-MODIFIED:20230114T191848Z
UID:4961-1674061200-1674068400@pnpmembers.com
SUMMARY:Jan 18 - PNP Basics and Block Watch Training - Class 1 of 2
DESCRIPTION:
URL:https://pnpmembers.com/event/jan-18-pnp-basics-and-block-watch-training-class-1-of-2/
LOCATION:Virtual – OnLine – Zoom\, WebEx or other
ATTACH;FMTTYPE=image/png:https://pnpmembers.com/wp-content/uploads/2023/01/PNP-Training-Info-Phone.png
ORGANIZER;CN="Phoenix Neighborhood Patrol":MAILTO:pnp.coordinator@phoenix.gov
END:VEVENT
BEGIN:VEVENT
DTSTART;TZID=America/Phoenix:20230118T083000
DTEND;TZID=America/Phoenix:20230118T093000
DTSTAMP:20260425T170253
CREATED:20230114T191147Z
LAST-MODIFIED:20230114T191323Z
UID:5115-1674030600-1674034200@pnpmembers.com
SUMMARY:Jan 18 - Cactus Park Precinct (900) Coffee with a Cop
DESCRIPTION:Please join your Cactus Park Precinct Community Action Officers for Coffee with a Cop at Brushfire Tacos Y Tapas at 14240 N 43rd Ave Ste 600 on January 18th 2023 at 8:30am on Wednesday. This will be located on the Pure Heart Church Property in the back portion of the property.
URL:https://pnpmembers.com/event/jan-18-cactus-park-precinct-900-coffee-with-a-cop/
ATTACH;FMTTYPE=image/png:https://pnpmembers.com/wp-content/uploads/2012/11/PD_CWC_Logo04_900_Phx.png
END:VEVENT
BEGIN:VEVENT
DTSTART;TZID=America/Phoenix:20230118T080000
DTEND;TZID=America/Phoenix:20230119T160000
DTSTAMP:20260425T170253
CREATED:20230119T021648Z
LAST-MODIFIED:20230119T021648Z
UID:5159-1674028800-1674144000@pnpmembers.com
SUMMARY:Feb 18 & 19 VNSA Book Sale
DESCRIPTION:Save the Date for the 66th Annual VNSA Used Book Sale\nWe are busy getting ready for the 66th Annual VNSA Used Book Sale! Will you be there? \nJoin us Feb. 18\, 8:00 a.m. to 6 p.m.\, and Feb. 19\, 8:00 a.m. to 4 p.m. at the Arizona State Fairgrounds\, Ag Building. (See a Google map to the location.) \nADMISSION\nAdmission to the VNSA Book Sale is free. Please be aware that the Arizona State Fairgrounds charges a parking fee that supports the Fairgrounds. VNSA does not receive any money from parking fees. \nNo food\, pets\, or weapons are permitted in the VNSA Book Sale. \nPRICING\nVNSA sells thousands of books\, media\, and other related items at prices significantly reduced from retail prices.  Except for books in the Sets Area\, books are marked with a price sticker on the spine\, upper right cover and/or inside the front cover.  All unmarked standard-size paperbacks are $2.00. \nAll items are half-price all day Sunday (except for the books in Rare & Unusual). \nHere are more FAQs about the VNSA Book Sale.
URL:https://pnpmembers.com/event/feb-18-19-vnsa-book-sale/
END:VEVENT
END:VCALENDAR