BEGIN:VCALENDAR
VERSION:2.0
PRODID:-//PNP Members - ECPv6.15.20//NONSGML v1.0//EN
CALSCALE:GREGORIAN
METHOD:PUBLISH
X-ORIGINAL-URL:https://pnpmembers.com
X-WR-CALDESC:Events for PNP Members
REFRESH-INTERVAL;VALUE=DURATION:PT1H
X-Robots-Tag:noindex
X-PUBLISHED-TTL:PT1H
BEGIN:VTIMEZONE
TZID:America/Phoenix
BEGIN:STANDARD
TZOFFSETFROM:-0700
TZOFFSETTO:-0700
TZNAME:MST
DTSTART:20210101T000000
END:STANDARD
END:VTIMEZONE
BEGIN:VEVENT
DTSTART;TZID=America/Phoenix:20221117T170000
DTEND;TZID=America/Phoenix:20221117T190000
DTSTAMP:20260425T181126
CREATED:20221101T205426Z
LAST-MODIFIED:20221101T205426Z
UID:4932-1668704400-1668711600@pnpmembers.com
SUMMARY:Nov 17 - PNP Basics and Block Watch Training - Class 2 of 2
DESCRIPTION:
URL:https://pnpmembers.com/event/nov-17-pnp-basics-and-block-watch-training-class-2-of-2/
LOCATION:Virtual – OnLine – Zoom\, WebEx or other
ATTACH;FMTTYPE=image/jpeg:https://pnpmembers.com/wp-content/uploads/2021/11/PNPLOGO_tm.jpg
ORGANIZER;CN="Phoenix Neighborhood Patrol":MAILTO:pnp.coordinator@phoenix.gov
END:VEVENT
BEGIN:VEVENT
DTSTART;TZID=America/Phoenix:20221117T083000
DTEND;TZID=America/Phoenix:20221117T093000
DTSTAMP:20260425T181126
CREATED:20221116T233742Z
LAST-MODIFIED:20221116T233742Z
UID:4966-1668673800-1668677400@pnpmembers.com
SUMMARY:Nov 17 - Black Mountain Precinct (200) Coffee with a Cop
DESCRIPTION:
URL:https://pnpmembers.com/event/nov-17-black-mountain-precinct-200-coffee-with-a-cop/
ATTACH;FMTTYPE=image/png:https://pnpmembers.com/wp-content/uploads/2022/10/CoffeePoutintoCup.png
END:VEVENT
BEGIN:VEVENT
DTSTART;TZID=America/Phoenix:20221116T183000
DTEND;TZID=America/Phoenix:20221116T203000
DTSTAMP:20260425T181126
CREATED:20220929T192921Z
LAST-MODIFIED:20221116T014459Z
UID:4799-1668623400-1668630600@pnpmembers.com
SUMMARY:Nov 16 - Cactus Park Community Alliance (CPCA) Meeting
DESCRIPTION:Our guest speaker will be Krystie Reeves from BioteamAZ whose company performs all types of biohazard cleanups from crime scenes\, auto accidents\, and may other situations.  Krystie will also educate us on how to better prepare ourselves and those close to us to help recover from incidents like these by making sure others have the information they may need. \nThis is bound to be an interesting and informative session.  See you there !!
URL:https://pnpmembers.com/event/oct-26-cactus-park-community-alliance-cpca-meeting/
LOCATION:Cortez High School\, 8828 N 31 Av\, Phoenix\, AZ\, 85051
ATTACH;FMTTYPE=image/jpeg:https://pnpmembers.com/wp-content/uploads/2022/02/CPCA-PNP_Logos.jpg
ORGANIZER;CN="Cactus Park Community Alliance (CPCA)":MAILTO:CommunityInfo@cpcaaz.org
END:VEVENT
BEGIN:VEVENT
DTSTART;TZID=America/Phoenix:20221116T173000
DTEND;TZID=America/Phoenix:20221116T183000
DTSTAMP:20260425T181126
CREATED:20221101T204720Z
LAST-MODIFIED:20221101T204720Z
UID:4926-1668619800-1668623400@pnpmembers.com
SUMMARY:Nov 16 - Laveen Coffee with a Cop
DESCRIPTION:No flyer with specifics was received for this.  Just the textual message below: \n\n\n\n\n\n\n\n\nWhen\n\n\n\n\nWednesday Nov 16\, 2022 ⋅ 5:30pm – 7pm (Mountain Standard Time – Phoenix)\n\n\n\n\n\n\n\nLocation\n\n\n\n\nLaveen Education Center\, 5001 W Dobbins Rd #9733\, Laveen Village\, AZ 85339\, USA\nView map
URL:https://pnpmembers.com/event/nov-16-laveen-coffee-with-a-cop/
ATTACH;FMTTYPE=image/png:https://pnpmembers.com/wp-content/uploads/2022/10/CoffeePoutintoCup.png
END:VEVENT
BEGIN:VEVENT
DTSTART;TZID=America/Phoenix:20221116T170000
DTEND;TZID=America/Phoenix:20221116T190000
DTSTAMP:20260425T181126
CREATED:20221101T205227Z
LAST-MODIFIED:20221101T205227Z
UID:4928-1668618000-1668625200@pnpmembers.com
SUMMARY:Nov 16 - PNP Basics and Block Watch Training - Class 1 of 2
DESCRIPTION:
URL:https://pnpmembers.com/event/nov-16-pnp-basics-and-block-watch-training-class-1-of-2/
LOCATION:Virtual – OnLine – Zoom\, WebEx or other
ATTACH;FMTTYPE=image/jpeg:https://pnpmembers.com/wp-content/uploads/2021/11/PNPLOGO_tm.jpg
ORGANIZER;CN="Phoenix Neighborhood Patrol":MAILTO:pnp.coordinator@phoenix.gov
END:VEVENT
BEGIN:VEVENT
DTSTART;TZID=America/Phoenix:20221116T083000
DTEND;TZID=America/Phoenix:20221116T093000
DTSTAMP:20260425T181126
CREATED:20221019T230012Z
LAST-MODIFIED:20221020T003234Z
UID:4882-1668587400-1668591000@pnpmembers.com
SUMMARY:Nov 16 - Cactus Park (900) Coffee with a Cop
DESCRIPTION:
URL:https://pnpmembers.com/event/nov-16-cactus-park-900-coffee-with-a-cop/
ATTACH;FMTTYPE=image/jpeg:https://pnpmembers.com/wp-content/uploads/2022/10/Coffee-Pouring.jpg
END:VEVENT
BEGIN:VEVENT
DTSTART;TZID=America/Phoenix:20221109T183000
DTEND;TZID=America/Phoenix:20221109T203000
DTSTAMP:20260425T181126
CREATED:20220929T182715Z
LAST-MODIFIED:20221020T014325Z
UID:4792-1668018600-1668025800@pnpmembers.com
SUMMARY:Nov 9 - Grant Application Workshop
DESCRIPTION:Click HERE for the flyer with a MAP of Thunderbird High School \n \n  \n  \n  \n  \n 
URL:https://pnpmembers.com/event/nov-9-grant-application-workshop/
LOCATION:Thunderbird High School\, 1750 W Thunderbird Rd\, Phoenix\, AZ\, 85023
ATTACH;FMTTYPE=image/png:https://pnpmembers.com/wp-content/uploads/2022/09/Neighborhood-College-Logo.png
ORGANIZER;CN="Black Mountain Community Alliance (BMCA)":MAILTO:info@bmcainfo.com
END:VEVENT
BEGIN:VEVENT
DTSTART;TZID=America/Phoenix:20221105T100000
DTEND;TZID=America/Phoenix:20221105T130000
DTSTAMP:20260425T181126
CREATED:20221013T193201Z
LAST-MODIFIED:20221013T193201Z
UID:4827-1667642400-1667653200@pnpmembers.com
SUMMARY:Nov 5 - Cactus Park Precinct - Glendale PD Fall Safety Fair
DESCRIPTION:Join your neighbors\, and Phoenix and Glendale officers for hot dogs and conversation.\nNo agenda or speeches.  Just a chance to ask questions\, voice concerns\, and get the know the officers in your neighborhood!
URL:https://pnpmembers.com/event/nov-5-cactus-park-precinct-glendale-pd-fall-safety-fair/
ATTACH;FMTTYPE=image/png:https://pnpmembers.com/wp-content/uploads/2022/10/Gld-Phx-PDs-Combined-Logo.png
END:VEVENT
BEGIN:VEVENT
DTSTART;TZID=America/Phoenix:20221029T180000
DTEND;TZID=America/Phoenix:20221029T210000
DTSTAMP:20260425T181126
CREATED:20221020T003333Z
LAST-MODIFIED:20221020T003333Z
UID:4890-1667066400-1667077200@pnpmembers.com
SUMMARY:Oct 29 - Boo Fest at Paseo Highlands Park
DESCRIPTION:
URL:https://pnpmembers.com/event/oct-29-boo-fest-at-paseo-highlands-park/
ATTACH;FMTTYPE=image/png:https://pnpmembers.com/wp-content/uploads/2022/10/BooFest-Logo.png
END:VEVENT
BEGIN:VEVENT
DTSTART;TZID=America/Phoenix:20221029T100000
DTEND;TZID=America/Phoenix:20221029T140000
DTSTAMP:20260425T181126
CREATED:20221019T024355Z
LAST-MODIFIED:20221019T024529Z
UID:4868-1667037600-1667052000@pnpmembers.com
SUMMARY:Oct 29 - DEA Drug Take-Back
DESCRIPTION:
URL:https://pnpmembers.com/event/oct-29-dea-drug-take-back/
ATTACH;FMTTYPE=image/png:https://pnpmembers.com/wp-content/uploads/2022/10/Drug-Take-Back-Image-Feature.png
END:VEVENT
BEGIN:VEVENT
DTSTART;TZID=America/Phoenix:20221027T173000
DTEND;TZID=America/Phoenix:20221027T203000
DTSTAMP:20260425T181126
CREATED:20221018T164859Z
LAST-MODIFIED:20221020T003808Z
UID:4840-1666891800-1666902600@pnpmembers.com
SUMMARY:Oct 27 - 700 Mountain View Halloween Party
DESCRIPTION:
URL:https://pnpmembers.com/event/oct-27-700-mountain-view-halloween-party/
LOCATION:Mountain View Precinct Community Room\, 2075 E Maryland Av\, Phoenix\, AZ\, 85016
ATTACH;FMTTYPE=image/webp:https://pnpmembers.com/wp-content/uploads/2022/10/Pumpkin.webp
END:VEVENT
BEGIN:VEVENT
DTSTART;TZID=America/Phoenix:20221027T173000
DTEND;TZID=America/Phoenix:20221027T203000
DTSTAMP:20260425T181126
CREATED:20221006T212536Z
LAST-MODIFIED:20221006T212536Z
UID:4822-1666891800-1666902600@pnpmembers.com
SUMMARY:Oct 27 - Mountain View Precinct Halloween Fright Night
DESCRIPTION:
URL:https://pnpmembers.com/event/oct-27-mountain-view-precinct-halloween-fright-night/
LOCATION:Mountain View Precinct Community Room\, 2075 E Maryland Av\, Phoenix\, AZ\, 85016
ATTACH;FMTTYPE=image/jpeg:https://pnpmembers.com/wp-content/uploads/2021/11/PhoenixPD01.jpg
END:VEVENT
BEGIN:VEVENT
DTSTART;TZID=America/Phoenix:20221027T083000
DTEND;TZID=America/Phoenix:20221027T093000
DTSTAMP:20260425T181126
CREATED:20221020T014919Z
LAST-MODIFIED:20221020T015134Z
UID:4900-1666859400-1666863000@pnpmembers.com
SUMMARY:Oct 27 - Black Mountain (200) Coffee with a Cop
DESCRIPTION:
URL:https://pnpmembers.com/event/oct-27-black-mountain-200-coffee-with-a-cop/
ATTACH;FMTTYPE=image/jpeg:https://pnpmembers.com/wp-content/uploads/2022/10/Coffee-Pouring.jpg
END:VEVENT
BEGIN:VEVENT
DTSTART;TZID=America/Phoenix:20221026T150000
DTEND;TZID=America/Phoenix:20221026T180000
DTSTAMP:20260425T181126
CREATED:20221018T164735Z
LAST-MODIFIED:20221020T003841Z
UID:4838-1666796400-1666807200@pnpmembers.com
SUMMARY:Oct 26 - 400 Halloween Party
DESCRIPTION:
URL:https://pnpmembers.com/event/oct-26-400-halloween-party/
ATTACH;FMTTYPE=image/webp:https://pnpmembers.com/wp-content/uploads/2022/10/Pumpkin.webp
END:VEVENT
BEGIN:VEVENT
DTSTART;TZID=America/Phoenix:20221025T183000
DTEND;TZID=America/Phoenix:20221025T203000
DTSTAMP:20260425T181126
CREATED:20220915T212843Z
LAST-MODIFIED:20221021T162005Z
UID:4727-1666722600-1666729800@pnpmembers.com
SUMMARY:Oct 25 - Phoenix Block Watch Advisory Board (PBWAB) Meeting
DESCRIPTION:You may join virtually if not able to attend in person at:  https://bit.ly/PBWABOct25 \n \n  \n 
URL:https://pnpmembers.com/event/oct-25-phoenix-block-watch-advisory-board-pbwab-meeting/
LOCATION:Devonshire Senior Center\, 2802 E Devonshire Ave\, Phoenix\, AZ\, 85016
ATTACH;FMTTYPE=image/png:https://pnpmembers.com/wp-content/uploads/2021/11/PBWAB-logo.png
END:VEVENT
BEGIN:VEVENT
DTSTART;TZID=America/Phoenix:20221025T173000
DTEND;TZID=America/Phoenix:20221025T183000
DTSTAMP:20260425T181126
CREATED:20221019T205336Z
LAST-MODIFIED:20221019T205405Z
UID:4877-1666719000-1666722600@pnpmembers.com
SUMMARY:Oct 25 - Laveen Coffee with a Cop
DESCRIPTION:Coffee with a Cop Meeting Agenda\nDate: 10/25/22\nTime: 5:30 pm – 6:30 pm\nLocation: 5001 W. Dobbins Rd.\, Laveen\, AZ\nMeeting Facilitator: Dr. Joe Roselle Laveen School District\nnvitees: Call to order\nCommunity Updates\nA. Councilwoman Ansari\nB. Councilman Garcia\nC. Phoenix Police Department\nD. Neighborhood Services Department-Alma Lara: 602-534-4444 or email\nnsd@phoenix.gov\nE. Cesar Chavez Community Center- Zahira Rangel zahira.rangel@phoenix.gov\nF. South Mountain and Laveen Chamber of Commerce\nG. Laveen Community Action Committee\nI. School Resource Officer of the Month\nI. Community Discussion
URL:https://pnpmembers.com/event/oct-25-laveen-coffee-with-a-cop/
ATTACH;FMTTYPE=image/png:https://pnpmembers.com/wp-content/uploads/2022/10/CwaC-Logo-from-800-400.png
END:VEVENT
BEGIN:VEVENT
DTSTART;TZID=America/Phoenix:20221022T160000
DTEND;TZID=America/Phoenix:20221022T210000
DTSTAMP:20260425T181126
CREATED:20221019T000157Z
LAST-MODIFIED:20221019T000254Z
UID:4857-1666454400-1666472400@pnpmembers.com
SUMMARY:Oct 22 - 600 GAIN Event & Family Fright Night
DESCRIPTION:
URL:https://pnpmembers.com/event/oct-22-gain-event-family-fright-night/
END:VEVENT
BEGIN:VEVENT
DTSTART;TZID=America/Phoenix:20221020T083000
DTEND;TZID=America/Phoenix:20221020T093000
DTSTAMP:20260425T181126
CREATED:20221017T165512Z
LAST-MODIFIED:20221017T165548Z
UID:4830-1666254600-1666258200@pnpmembers.com
SUMMARY:Oct 20 - Council District 3 Community Coffee Chat
DESCRIPTION:
URL:https://pnpmembers.com/event/oct-20-council-district-3-community-coffee-chat/
ATTACH;FMTTYPE=image/png:https://pnpmembers.com/wp-content/uploads/2022/10/CoffeePoutintoCup.png
END:VEVENT
BEGIN:VEVENT
DTSTART;TZID=America/Phoenix:20221018T180000
DTEND;TZID=America/Phoenix:20221018T200000
DTSTAMP:20260425T181126
CREATED:20220921T160428Z
LAST-MODIFIED:20220929T202947Z
UID:4766-1666116000-1666123200@pnpmembers.com
SUMMARY:Oct 18 - PNP Citywide Meeting
DESCRIPTION:Join fellow PNP Members on the 3rd Tuesday of each month for a meeting of Phoenix Neighborhood Patrol Members.  This message is led by PNP Coordinator Det. Brian Kornegay. \nIf you do not receive these invites and are PNP trained\, please send an email to the PNP Coordinator and make sure you are on the email list. \n 
URL:https://pnpmembers.com/event/oct-18-pnp-citywide-meeting-2/
LOCATION:Virtual – OnLine – Zoom\, WebEx or other
ATTACH;FMTTYPE=image/jpeg:https://pnpmembers.com/wp-content/uploads/2021/11/PNPLOGO_tm.jpg
ORGANIZER;CN="Phoenix Neighborhood Patrol":MAILTO:pnp.coordinator@phoenix.gov
END:VEVENT
BEGIN:VEVENT
DTSTART;VALUE=DATE:20221015
DTEND;VALUE=DATE:20221016
DTSTAMP:20260425T181126
CREATED:20220720T021907Z
LAST-MODIFIED:20220929T202903Z
UID:4626-1665792000-1665878399@pnpmembers.com
SUMMARY:Oct 15 - G.A.I.N. Day !!
DESCRIPTION:
URL:https://pnpmembers.com/event/oct-15-g-a-i-n-day/
ATTACH;FMTTYPE=image/png:https://pnpmembers.com/wp-content/uploads/2014/01/GAIN-image.png
END:VEVENT
BEGIN:VEVENT
DTSTART;TZID=America/Phoenix:20221013T083000
DTEND;TZID=America/Phoenix:20221013T100000
DTSTAMP:20260425T181126
CREATED:20220914T184032Z
LAST-MODIFIED:20220929T203056Z
UID:4715-1665649800-1665655200@pnpmembers.com
SUMMARY:Oct 13 - Cactus Park (900) Coffee with a Cop
DESCRIPTION:
URL:https://pnpmembers.com/event/oct-13-cactus-park-900-coffee-with-a-cop/
ATTACH;FMTTYPE=image/png:https://pnpmembers.com/wp-content/uploads/2012/11/PD_CWC_Logo04_900_Phx.png
END:VEVENT
BEGIN:VEVENT
DTSTART;TZID=America/Phoenix:20221012T183000
DTEND;TZID=America/Phoenix:20221012T203000
DTSTAMP:20260425T181126
CREATED:20220929T183439Z
LAST-MODIFIED:20220929T192323Z
UID:4797-1665599400-1665606600@pnpmembers.com
SUMMARY:Oct 12 - Black Mountain Community Alliance Meeting
DESCRIPTION:
URL:https://pnpmembers.com/event/oct-12-black-mountain-community-alliance-meeting/
LOCATION:Deer Valley Community Center\, 19602 N 19 Pl\, Phoenix\, AZ\, 85024
ATTACH;FMTTYPE=image/png:https://pnpmembers.com/wp-content/uploads/2021/11/BMCA.png
ORGANIZER;CN="Black Mountain Community Alliance (BMCA)":MAILTO:info@bmcainfo.com
END:VEVENT
BEGIN:VEVENT
DTSTART;TZID=America/Phoenix:20221008T100000
DTEND;TZID=America/Phoenix:20221008T140000
DTSTAMP:20260425T181126
CREATED:20221006T013741Z
LAST-MODIFIED:20221006T015028Z
UID:4808-1665223200-1665237600@pnpmembers.com
SUMMARY:Oct 8 - Phoenix PD Weekend Hiring Event
DESCRIPTION:
URL:https://pnpmembers.com/event/oct-8-phoenix-pd-weekend-hiring-event/
ATTACH;FMTTYPE=image/jpeg:https://pnpmembers.com/wp-content/uploads/2021/11/PhoenixPD01.jpg
END:VEVENT
BEGIN:VEVENT
DTSTART;TZID=America/Phoenix:20221007T190000
DTEND;TZID=America/Phoenix:20221007T220000
DTSTAMP:20260425T181126
CREATED:20220720T021311Z
LAST-MODIFIED:20221006T015145Z
UID:4620-1665169200-1665180000@pnpmembers.com
SUMMARY:Oct 7 - First Friday Patrol
DESCRIPTION:New – More info and map (In MS Word format) \nPNP GROUP PATROL\nSEE YOU IN OCTOBER!\nContact Rick Sain at ussyorktown25@hotmail.com or\nat 602-799-0143\nJust a reminder that the next First Friday will be on October 7th\n.\nWe have a new meeting place\, the address is 1202 N. 3rd St\, next\nto the Phoenix Center for the Arts. It is a big parking lot and it does\nfill up fast. I am Changing the meeting and start time. We will start\nto meet at 6:00pm\, and start our patrol at 6:30pm\, and we will get\ndone between 9:45pm- 10pm.\nPLEASE LET ME KNOW IF YOU CAN MAKE IT. This way\, I can\ntry and block off some parking spaces for us. And I can also\ncontact you if anything should happen. I do not have some of your\ncell phone numbers\, so if you plan on going\, please send me your\nnumber. If you can’t find us on Friday night\, my cell number is 602-\n799-0143. Thanks. Rick
URL:https://pnpmembers.com/event/oct-7-first-friday-patrol/
ATTACH;FMTTYPE=image/jpeg:https://pnpmembers.com/wp-content/uploads/2013/01/sign-pnp-magnetic.jpg
ORGANIZER;CN="Phoenix Neighborhood Patrol":MAILTO:pnp.coordinator@phoenix.gov
END:VEVENT
BEGIN:VEVENT
DTSTART;TZID=America/Phoenix:20221004T183000
DTEND;TZID=America/Phoenix:20221004T203000
DTSTAMP:20260425T181126
CREATED:20220929T225518Z
LAST-MODIFIED:20220929T225541Z
UID:4805-1664908200-1664915400@pnpmembers.com
SUMMARY:Oct 4 - Maryvale Estrella Mountain Community Alliance (MEMCA) Meeting
DESCRIPTION:
URL:https://pnpmembers.com/event/oct-4-maryvale-estrella-mountain-community-alliance-memca-meeting/
LOCATION:Virtual – OnLine – Zoom\, WebEx or other
ATTACH;FMTTYPE=image/png:https://pnpmembers.com/wp-content/uploads/2021/12/MEMCA-Logo.png
ORGANIZER;CN="Maryvale Estrella Mountain Community Alliance (MEMCA)":MAILTO:contact@memca.org
END:VEVENT
BEGIN:VEVENT
DTSTART;TZID=America/Phoenix:20221001T100000
DTEND;TZID=America/Phoenix:20221001T130000
DTSTAMP:20260425T181126
CREATED:20220720T021442Z
LAST-MODIFIED:20220929T203146Z
UID:4622-1664618400-1664629200@pnpmembers.com
SUMMARY:Oct 1 - G.A.I.N. Kickoff Event
DESCRIPTION:
URL:https://pnpmembers.com/event/oct-1-g-a-i-n-kickoff-event/
LOCATION:Christown Spectrum Mall\, West Bethany Home Rd. & 19th Ave.\, Phoenix\, AZ\, 85015
ATTACH;FMTTYPE=image/png:https://pnpmembers.com/wp-content/uploads/2014/01/GAIN-image.png
END:VEVENT
BEGIN:VEVENT
DTSTART;TZID=America/Phoenix:20220929T183000
DTEND;TZID=America/Phoenix:20220929T203000
DTSTAMP:20260425T181126
CREATED:20220923T043102Z
LAST-MODIFIED:20220923T043102Z
UID:4776-1664476200-1664483400@pnpmembers.com
SUMMARY:Sep 29 - Block Watch Grant Boot Camp
DESCRIPTION:
URL:https://pnpmembers.com/event/sep-29-block-watch-grant-boot-camp/
LOCATION:Virtual – OnLine – Zoom\, WebEx or other
ATTACH;FMTTYPE=image/png:https://pnpmembers.com/wp-content/uploads/2021/11/BMCA.png
ORGANIZER;CN="Black Mountain Community Alliance (BMCA)":MAILTO:info@bmcainfo.com
END:VEVENT
BEGIN:VEVENT
DTSTART;TZID=America/Phoenix:20220928T183000
DTEND;TZID=America/Phoenix:20220928T203000
DTSTAMP:20260425T181126
CREATED:20220720T020333Z
LAST-MODIFIED:20220915T213046Z
UID:4615-1664389800-1664397000@pnpmembers.com
SUMMARY:Sep 28 - Cactus Park Community Alliance Meeting (900)
DESCRIPTION:Topic: Phoenix Gated Alleys\nCity of Phoenix Gated Alley Manager Greg Gonzales will give us information and answer your questions about this newly funded program.
URL:https://pnpmembers.com/event/sep-28-cactus-park-community-alliance-meeting/
LOCATION:Cortez High School\, 8828 N 31 Av\, Phoenix\, AZ\, 85051
ORGANIZER;CN="Cactus Park Community Alliance (CPCA)":MAILTO:CommunityInfo@cpcaaz.org
END:VEVENT
BEGIN:VEVENT
DTSTART;TZID=America/Phoenix:20220927T080000
DTEND;TZID=America/Phoenix:20220927T170000
DTSTAMP:20260425T181126
CREATED:20220831T231955Z
LAST-MODIFIED:20220919T043418Z
UID:4708-1664265600-1664298000@pnpmembers.com
SUMMARY:Sep 27 - Phoenix Block Watch Advisory Board (PBWAB) Meeting
DESCRIPTION:
URL:https://pnpmembers.com/event/sep-27-phoenix-block-watch-advisory-board-pbwab-meeting/
LOCATION:Mountain View Precinct Community Room\, 2075 E Maryland Av\, Phoenix\, AZ\, 85016
END:VEVENT
BEGIN:VEVENT
DTSTART;TZID=America/Phoenix:20220922T083000
DTEND;TZID=America/Phoenix:20220922T100000
DTSTAMP:20260425T181126
CREATED:20220831T204505Z
LAST-MODIFIED:20220915T203416Z
UID:4705-1663835400-1663840800@pnpmembers.com
SUMMARY:Sep 22 - Black Mountain (200) Coffee with a Cop
DESCRIPTION:
URL:https://pnpmembers.com/event/sep-22-black-mountain-200-coffee-with-a-cop/
END:VEVENT
END:VCALENDAR