BEGIN:VCALENDAR
VERSION:2.0
PRODID:-//PNP Members - ECPv6.15.20//NONSGML v1.0//EN
CALSCALE:GREGORIAN
METHOD:PUBLISH
X-WR-CALNAME:PNP Members
X-ORIGINAL-URL:https://pnpmembers.com
X-WR-CALDESC:Events for PNP Members
REFRESH-INTERVAL;VALUE=DURATION:PT1H
X-Robots-Tag:noindex
X-PUBLISHED-TTL:PT1H
BEGIN:VTIMEZONE
TZID:America/Phoenix
BEGIN:STANDARD
TZOFFSETFROM:-0700
TZOFFSETTO:-0700
TZNAME:MST
DTSTART:20230101T000000
END:STANDARD
END:VTIMEZONE
BEGIN:VEVENT
DTSTART;TZID=America/Phoenix:20240912T183000
DTEND;TZID=America/Phoenix:20240912T193000
DTSTAMP:20260425T083630
CREATED:20240801T021210Z
LAST-MODIFIED:20240831T045837Z
UID:6509-1726165800-1726169400@pnpmembers.com
SUMMARY:Sept 12 – Block Watch Grant Boot Camp
DESCRIPTION:Block Watch Grant Boot Camp \nJoin us for this hybrid training\, which provides basic information to new groups thinking about applying for a Block Watch Grant. Topics to be covered: Who can apply for a grant and criteria\, Do’s and Don’ts of BW grant writing; and How Block Watch funds can be used. For additional information and to register\, contact: Ray Yocopis at ray.yocopis@phoenix.gov. \nThursday\, Sept. 12 from 6:30-7:30 pm \nHybrid (online or in-person) \nWashington Activity Center\, 2240 W Citrus Way\, Phoenix\, AZ 85015 \nThis event was first published in the Neighborhood Services August Newsletter
URL:https://pnpmembers.com/event/sept-12-block-watch-grant-boot-camp/
LOCATION:Washington Activity Center\, 2240 W Citrus Wy\, Phoenix\, AZ\, 85015
ATTACH;FMTTYPE=image/png:https://pnpmembers.com/wp-content/uploads/2023/11/Logo-Neighborhood-College.png
END:VEVENT
BEGIN:VEVENT
DTSTART;TZID=America/Phoenix:20240912T180000
DTEND;TZID=America/Phoenix:20240912T193000
DTSTAMP:20260425T083630
CREATED:20240824T175543Z
LAST-MODIFIED:20240824T175726Z
UID:6554-1726164000-1726169400@pnpmembers.com
SUMMARY:Sep 12 - Community Forum - Fighting Fentanyl Together
DESCRIPTION:
URL:https://pnpmembers.com/event/sep-12-community-forum-fighting-fentanyl-together/
LOCATION:Barry Goldwater High School\, 2820 W Rose Garden Ln\, Phoenix\, AZ\, 85027
ATTACH;FMTTYPE=image/jpeg:https://pnpmembers.com/wp-content/uploads/2023/10/MCAO.jpg
END:VEVENT
BEGIN:VEVENT
DTSTART;TZID=America/Phoenix:20240911T183000
DTEND;TZID=America/Phoenix:20240911T203000
DTSTAMP:20260425T083630
CREATED:20240531T203749Z
LAST-MODIFIED:20240901T213759Z
UID:6366-1726079400-1726086600@pnpmembers.com
SUMMARY:Sep 11 - Black Mountain Community Alliance Meeting
DESCRIPTION:
URL:https://pnpmembers.com/event/sep-11-black-mountain-community-alliance-meeting/
LOCATION:Deer Valley Community Center\, 19602 N 19 Pl\, Phoenix\, AZ\, 85024
ATTACH;FMTTYPE=image/png:https://pnpmembers.com/wp-content/uploads/2021/11/BMCA.png
ORGANIZER;CN="Black Mountain Community Alliance (BMCA)":MAILTO:info@bmcainfo.com
END:VEVENT
BEGIN:VEVENT
DTSTART;TZID=America/Phoenix:20240907T080000
DTEND;TZID=America/Phoenix:20240907T170000
DTSTAMP:20260425T083630
CREATED:20240717T034250Z
LAST-MODIFIED:20240717T034511Z
UID:6445-1725696000-1725728400@pnpmembers.com
SUMMARY:Sep  7 - Neighborhood Synergy Conference
DESCRIPTION:
URL:https://pnpmembers.com/event/sep-7-neighborhood-synergy-conference/
LOCATION:AZ
ATTACH;FMTTYPE=image/png:https://pnpmembers.com/wp-content/uploads/2024/07/NSD-Logo.png
END:VEVENT
BEGIN:VEVENT
DTSTART;TZID=America/Phoenix:20240907T080000
DTEND;TZID=America/Phoenix:20240907T100000
DTSTAMP:20260425T083630
CREATED:20240831T050015Z
LAST-MODIFIED:20240831T050015Z
UID:6579-1725696000-1725703200@pnpmembers.com
SUMMARY:Sep  7 - NSD Paint Sprayer Training
DESCRIPTION:Paint Sprayer Training \nCome out and learn how to keep your neighborhood graffiti-free by using a paint sprayer\, tour the warehouse\, and see other tools and supplies available to residents. To register\, call (602)534-1489 . \nSaturday\, Sept. 7 from 8-10am \nNSD West\, 3324 W Flower St\, Phoenix\, AZ 85017collete
URL:https://pnpmembers.com/event/sep-7-nsd-paint-sprayer-training/
LOCATION:AZ
ATTACH;FMTTYPE=image/png:https://pnpmembers.com/wp-content/uploads/2023/11/Logo-Neighborhood-College.png
END:VEVENT
BEGIN:VEVENT
DTSTART;TZID=America/Phoenix:20240904T180000
DTEND;TZID=America/Phoenix:20240904T193000
DTSTAMP:20260425T083630
CREATED:20240831T194136Z
LAST-MODIFIED:20240831T194313Z
UID:6582-1725472800-1725478200@pnpmembers.com
SUMMARY:Sep  4 - City Council District 4 Coffee Chat
DESCRIPTION:
URL:https://pnpmembers.com/event/sep-4-city-council-district-4-coffee-chat/
LOCATION:AZ
ATTACH;FMTTYPE=image/png:https://pnpmembers.com/wp-content/uploads/2024/08/20240904-D4-Coffee-Chat.png
END:VEVENT
BEGIN:VEVENT
DTSTART;TZID=America/Phoenix:20240828T183000
DTEND;TZID=America/Phoenix:20240828T203000
DTSTAMP:20260425T083630
CREATED:20240529T162320Z
LAST-MODIFIED:20240811T005724Z
UID:6360-1724869800-1724877000@pnpmembers.com
SUMMARY:Aug 28 - Phoenix Block Watch Advisory Board (PBWAB) Meeting
DESCRIPTION:Yes – This meeting is on Wednesday.
URL:https://pnpmembers.com/event/aug-28-phoenix-block-watch-advisory-board-pbwab-meeting/
LOCATION:Deer Valley Community Center\, 19602 N 19 Pl\, Phoenix\, AZ\, 85024
ATTACH;FMTTYPE=image/png:https://pnpmembers.com/wp-content/uploads/2021/11/PBWAB-logo.png
END:VEVENT
BEGIN:VEVENT
DTSTART;TZID=America/Phoenix:20240827T173000
DTEND;TZID=America/Phoenix:20240827T190000
DTSTAMP:20260425T083630
CREATED:20240729T165531Z
LAST-MODIFIED:20240729T165538Z
UID:6477-1724779800-1724785200@pnpmembers.com
SUMMARY:Aug 27 - Coffee with a Cop (800) Maryvale-Estrella
DESCRIPTION:Coffee with a Cop\n\n\n\n\n\n\n\nJoin us on August 27th for community updates and a special presentation from Maricopa County Sheriff’s office Detective Felix.800
URL:https://pnpmembers.com/event/aug-27-coffee-with-a-cop-400-maryvale-estrella/
LOCATION:AZ
ATTACH;FMTTYPE=image/png:https://pnpmembers.com/wp-content/uploads/2012/11/PD_CWC_Logo04_800_Phx.png
END:VEVENT
BEGIN:VEVENT
DTSTART;TZID=America/Phoenix:20240814T180000
DTEND;TZID=America/Phoenix:20240814T200000
DTSTAMP:20260425T083630
CREATED:20240812T191319Z
LAST-MODIFIED:20240812T191319Z
UID:6521-1723658400-1723665600@pnpmembers.com
SUMMARY:Aug 14 - East Valley Safety Fair
DESCRIPTION:Join us for an informative evening all about public safety! \n\n\nHear from local leaders\, including County Attorney Rachel Mitchell\, as they share what their agencies are doing to keep our communities safe.\nInteract with 17 community organizations including: the Maricopa County Recorder’s Office\, Area Agency on Aging\, NotMyKid\, Arizona Anti-Trafficking Network and many more!\nLast but not least: first 100 attendees will get a free slice of pizza!\n\n\n\n\n\n\n\n\n\nEvent Details\n\n\n\n\n\n\n\nSee you there!
URL:https://pnpmembers.com/event/aug-14-east-valley-safety-fair/
LOCATION:AZ
END:VEVENT
BEGIN:VEVENT
DTSTART;TZID=America/Phoenix:20240806T180000
DTEND;TZID=America/Phoenix:20240806T200000
DTSTAMP:20260425T083630
CREATED:20240801T015705Z
LAST-MODIFIED:20240801T015725Z
UID:6505-1722967200-1722974400@pnpmembers.com
SUMMARY:Aug  6 - Maryvale-Estrella (800) Coffee with a Cop
DESCRIPTION:
URL:https://pnpmembers.com/event/aug-6-maryvale-estrella-800-coffee-with-a-cop/
LOCATION:AZ
ATTACH;FMTTYPE=image/png:https://pnpmembers.com/wp-content/uploads/2012/11/PD_CWC_Logo04_800_Phx.png
END:VEVENT
BEGIN:VEVENT
DTSTART;TZID=America/Phoenix:20240725T170000
DTEND;TZID=America/Phoenix:20240725T190000
DTSTAMP:20260425T083630
CREATED:20240110T174238Z
LAST-MODIFIED:20240110T174238Z
UID:6075-1721926800-1721934000@pnpmembers.com
SUMMARY:Jul 25 - PNP Basics and Block Watch Training - Class 2 of 2
DESCRIPTION:
URL:https://pnpmembers.com/event/jul-25-pnp-basics-and-block-watch-training-class-2-of-2/
LOCATION:Virtual – OnLine – Zoom\, WebEx or other
ATTACH;FMTTYPE=image/png:https://pnpmembers.com/wp-content/uploads/2023/01/PNP-Training-Info-Phone.png
ORGANIZER;CN="Phoenix Neighborhood Patrol":MAILTO:pnp.coordinator@phoenix.gov
END:VEVENT
BEGIN:VEVENT
DTSTART;TZID=America/Phoenix:20240724T170000
DTEND;TZID=America/Phoenix:20240724T190000
DTSTAMP:20260425T083630
CREATED:20240110T174201Z
LAST-MODIFIED:20240110T174201Z
UID:6073-1721840400-1721847600@pnpmembers.com
SUMMARY:Jul 24 - PNP Basics and Block Watch Training - Class 1 of 2
DESCRIPTION:
URL:https://pnpmembers.com/event/jul-24-pnp-basics-and-block-watch-training-class-1-of-2/
LOCATION:Virtual – OnLine – Zoom\, WebEx or other
ATTACH;FMTTYPE=image/png:https://pnpmembers.com/wp-content/uploads/2023/01/PNP-Training-Info-Phone.png
ORGANIZER;CN="Phoenix Neighborhood Patrol":MAILTO:pnp.coordinator@phoenix.gov
END:VEVENT
BEGIN:VEVENT
DTSTART;TZID=America/Phoenix:20240709T080000
DTEND;TZID=America/Phoenix:20240709T120000
DTSTAMP:20260425T083630
CREATED:20240629T173754Z
LAST-MODIFIED:20240629T173810Z
UID:6407-1720512000-1720526400@pnpmembers.com
SUMMARY:Jul  9 - Black Mountain Precinct (200) Blood Drive
DESCRIPTION:Join the officers of the Black Mountain Police Precinct on Tuesday\, July 9th from 8:00am to 12:00pm at Shiloh Community Church (19021 N 32nd St\, Phoenix\, AZ 85050) for an official City Blood Drive! You can register for an appointment by clicking here and selecting Blood Drive Code from the checkbox above the submit button and typing in: PPDBMP
URL:https://pnpmembers.com/event/jul-9-black-mountain-precinct-200-blood-drive/
LOCATION:Shiloh Community Church\, 19021 N 32 St\, Phoenix\, AZ\, 85050
END:VEVENT
BEGIN:VEVENT
DTSTART;TZID=America/Phoenix:20240704T180000
DTEND;TZID=America/Phoenix:20240704T220000
DTSTAMP:20260425T083630
CREATED:20240629T174058Z
LAST-MODIFIED:20240629T174212Z
UID:6412-1720116000-1720130400@pnpmembers.com
SUMMARY:Jul  4 - Fabulous Phoenix 4th of July
DESCRIPTION:
URL:https://pnpmembers.com/event/jul-4-fabulous-phoenix-4th-of-july/
LOCATION:AZ
ATTACH;FMTTYPE=image/png:https://pnpmembers.com/wp-content/uploads/2024/06/20240704-Fab-Fourth-logo.png
END:VEVENT
BEGIN:VEVENT
DTSTART;TZID=America/Phoenix:20240627T180000
DTEND;TZID=America/Phoenix:20240627T193000
DTSTAMP:20260425T083630
CREATED:20240613T174045Z
LAST-MODIFIED:20240613T174045Z
UID:6379-1719511200-1719516600@pnpmembers.com
SUMMARY:Jun 27 - South Mountain Community Meeting - 41 & 42 Squad Areas
DESCRIPTION:
URL:https://pnpmembers.com/event/jun-27-south-mountain-community-meeting-41-42-squad-areas/
LOCATION:AZ
ATTACH;FMTTYPE=image/png:https://pnpmembers.com/wp-content/uploads/2023/09/Phoenix-PD-Logo.png
END:VEVENT
BEGIN:VEVENT
DTSTART;TZID=America/Phoenix:20240618T083000
DTEND;TZID=America/Phoenix:20240618T220000
DTSTAMP:20260425T083630
CREATED:20240601T233125Z
LAST-MODIFIED:20240601T233146Z
UID:6369-1718699400-1718748000@pnpmembers.com
SUMMARY:Jun 18 - Council District 3 Community Chat
DESCRIPTION:
URL:https://pnpmembers.com/event/jun-18-council-district-3-community-chat/
LOCATION:AZ
END:VEVENT
BEGIN:VEVENT
DTSTART;TZID=America/Phoenix:20240611T180000
DTEND;TZID=America/Phoenix:20240611T200000
DTSTAMP:20260425T083630
CREATED:20240607T004333Z
LAST-MODIFIED:20240607T004352Z
UID:6372-1718128800-1718136000@pnpmembers.com
SUMMARY:Jun 11 - South Mountain (400) Coffee with a Cop
DESCRIPTION:
URL:https://pnpmembers.com/event/jun-11-south-mountain-400-coffee-with-a-cop/
LOCATION:AZ
ATTACH;FMTTYPE=image/png:https://pnpmembers.com/wp-content/uploads/2012/11/PD_CWC_Logo04_400_Phx.png
END:VEVENT
BEGIN:VEVENT
DTSTART;TZID=America/Phoenix:20240529T170000
DTEND;TZID=America/Phoenix:20240529T190000
DTSTAMP:20260425T083630
CREATED:20240409T155012Z
LAST-MODIFIED:20240409T155345Z
UID:6278-1717002000-1717009200@pnpmembers.com
SUMMARY:May 29 - Cactus Park (900) Dinner with a Cop
DESCRIPTION:
URL:https://pnpmembers.com/event/may-29-cactus-park-900-dinner-with-a-cop/
LOCATION:Jason’s Deli\, 10217 N Metro Pkwy West\, Phoenix\, AZ\, 85051
ATTACH;FMTTYPE=image/jpeg:https://pnpmembers.com/wp-content/uploads/2024/04/sandwiches_phn.jpg
END:VEVENT
BEGIN:VEVENT
DTSTART;TZID=America/Phoenix:20240528T183000
DTEND;TZID=America/Phoenix:20240528T203000
DTSTAMP:20260425T083630
CREATED:20240514T182617Z
LAST-MODIFIED:20240523T001140Z
UID:6324-1716921000-1716928200@pnpmembers.com
SUMMARY:May 28 - Phoenix Block Watch Advisory Board (PBWAB) Meeting
DESCRIPTION:
URL:https://pnpmembers.com/event/may-28-phoenix-block-watch-advisory-board-pbwab-meeting/
LOCATION:Desert West Community Center\, 6501 W Virginia Av\, Phoenix\, AZ\, 85035
ATTACH;FMTTYPE=image/png:https://pnpmembers.com/wp-content/uploads/2021/11/PBWAB-logo.png
END:VEVENT
BEGIN:VEVENT
DTSTART;TZID=America/Phoenix:20240523T180000
DTEND;TZID=America/Phoenix:20240523T193000
DTSTAMP:20260425T083630
CREATED:20240519T162715Z
LAST-MODIFIED:20240519T162757Z
UID:6350-1716487200-1716492600@pnpmembers.com
SUMMARY:May 23 - Council District 3 Coffee Chat
DESCRIPTION:
URL:https://pnpmembers.com/event/may-23-council-district-3-coffee-chat/
LOCATION:AZ
END:VEVENT
BEGIN:VEVENT
DTSTART;TZID=America/Phoenix:20240523T083000
DTEND;TZID=America/Phoenix:20240523T093000
DTSTAMP:20260425T083630
CREATED:20240502T011340Z
LAST-MODIFIED:20240502T011340Z
UID:6318-1716453000-1716456600@pnpmembers.com
SUMMARY:May 23 - Black Mountain (200) Coffee with a Cop
DESCRIPTION:
URL:https://pnpmembers.com/event/may-23-black-mountain-200-coffee-with-a-cop/
LOCATION:AZ
ATTACH;FMTTYPE=image/jpeg:https://pnpmembers.com/wp-content/uploads/2022/10/Coffee-Pouring.jpg
END:VEVENT
BEGIN:VEVENT
DTSTART;TZID=America/Phoenix:20240518T080000
DTEND;TZID=America/Phoenix:20240518T120000
DTSTAMP:20260425T083630
CREATED:20240110T173534Z
LAST-MODIFIED:20240110T174757Z
UID:6065-1716019200-1716033600@pnpmembers.com
SUMMARY:May 18 - New PNP Member Training (In-Person)
DESCRIPTION:PNP class is May 18\, 2024 and is an in-person class. It will be held at the Mountain View Precinct\, 2075 E Maryland Ave from 8am to Noon. Yes\, just like before COVID. \nIf you know anyone interested\, please have them email me at pnp.coordinator@phoenix.gov\, seating is limited so pre-registration is required.
URL:https://pnpmembers.com/event/may-18-new-pnp-member-training-in-person/
LOCATION:Mountain View Precinct Community Room\, 2075 E Maryland Av\, Phoenix\, AZ\, 85016
ATTACH;FMTTYPE=image/jpeg:https://pnpmembers.com/wp-content/uploads/2022/12/cropped-PNP-LOGO-150x183-1.jpg
ORGANIZER;CN="Phoenix Neighborhood Patrol":MAILTO:pnp.coordinator@phoenix.gov
END:VEVENT
BEGIN:VEVENT
DTSTART;TZID=America/Phoenix:20240508T183000
DTEND;TZID=America/Phoenix:20240508T203000
DTSTAMP:20260425T083630
CREATED:20240502T011445Z
LAST-MODIFIED:20240502T052118Z
UID:6320-1715193000-1715200200@pnpmembers.com
SUMMARY:May  8 - Black Mountain Community Alliance Meeting
DESCRIPTION:
URL:https://pnpmembers.com/event/may-8-black-mountain-community-alliance-meeting/
LOCATION:Deer Valley Community Center\, 19602 N 19 Pl\, Phoenix\, AZ\, 85024
ATTACH;FMTTYPE=image/png:https://pnpmembers.com/wp-content/uploads/2021/11/BMCA.png
ORGANIZER;CN="Black Mountain Community Alliance (BMCA)":MAILTO:info@bmcainfo.com
END:VEVENT
BEGIN:VEVENT
DTSTART;VALUE=DATE:20240506
DTEND;VALUE=DATE:20240507
DTSTAMP:20260425T083630
CREATED:20240110T175659Z
LAST-MODIFIED:20240110T175659Z
UID:6100-1714953600-1715039999@pnpmembers.com
SUMMARY:May 6 - Wear Blue to support your PD
DESCRIPTION:
URL:https://pnpmembers.com/event/may-6-wear-blue-to-support-your-pd/
LOCATION:AZ
ATTACH;FMTTYPE=image/png:https://pnpmembers.com/wp-content/uploads/2022/12/Six.png
END:VEVENT
BEGIN:VEVENT
DTSTART;TZID=America/Phoenix:20240504T110000
DTEND;TZID=America/Phoenix:20240504T140000
DTSTAMP:20260425T083630
CREATED:20240215T231858Z
LAST-MODIFIED:20240221T023302Z
UID:6179-1714820400-1714831200@pnpmembers.com
SUMMARY:May 4 - PNP Luncheon
DESCRIPTION:Times are tentative.  Check back for more information as it becomes available. \n 
URL:https://pnpmembers.com/event/may-4-pnp-luncheon/
LOCATION:Elks Lodge 335 – North Phoenix\, 14424 N 32 St\, Phoenix\, AZ\, 85032
ATTACH;FMTTYPE=image/jpeg:https://pnpmembers.com/wp-content/uploads/2024/02/Food-Burger-Fries-Phone.jpeg
ORGANIZER;CN="Phoenix Neighborhood Patrol":MAILTO:pnp.coordinator@phoenix.gov
END:VEVENT
BEGIN:VEVENT
DTSTART;TZID=America/Phoenix:20240503T190000
DTEND;TZID=America/Phoenix:20240503T220000
DTSTAMP:20260425T083630
CREATED:20240417T015445Z
LAST-MODIFIED:20240417T015445Z
UID:6290-1714762800-1714773600@pnpmembers.com
SUMMARY:May 3 - First Friday Patrol
DESCRIPTION:New – More info and map (In MS Word format) \nPNP GROUP PATROL \nContact Rick Sain at ussyorktown25@hotmail.com or\nat 602-799-0143\nJust a reminder that the next First Friday will be on October 7th\n.\nWe have a new meeting place\, the address is 1202 N. 3rd St\, next\nto the Phoenix Center for the Arts. It is a big parking lot and it does\nfill up fast. I am Changing the meeting and start time. We will start\nto meet at 6:00pm\, and start our patrol at 6:30pm\, and we will get\ndone between 9:45pm- 10pm.\nPLEASE LET ME KNOW IF YOU CAN MAKE IT. This way\, I can\ntry and block off some parking spaces for us. And I can also\ncontact you if anything should happen. I do not have some of your\ncell phone numbers\, so if you plan on going\, please send me your\nnumber. If you can’t find us on Friday night\, my cell number is 602-\n799-0143. Thanks. Rick
URL:https://pnpmembers.com/event/may-3-first-friday-patrol/
LOCATION:AZ
ATTACH;FMTTYPE=image/jpeg:https://pnpmembers.com/wp-content/uploads/2013/01/sign-pnp-magnetic.jpg
ORGANIZER;CN="PNP - Rick Sain":MAILTO:ussyorktown25@hotmail.com
END:VEVENT
BEGIN:VEVENT
DTSTART;TZID=America/Phoenix:20240425T083000
DTEND;TZID=America/Phoenix:20240425T093000
DTSTAMP:20260425T083630
CREATED:20240424T165615Z
LAST-MODIFIED:20240424T165615Z
UID:6310-1714033800-1714037400@pnpmembers.com
SUMMARY:Apr 25 - Black Mountain (200) Coffee with a Cop
DESCRIPTION:
URL:https://pnpmembers.com/event/apr-25-black-mountain-200-coffee-with-a-cop/
LOCATION:AZ
ATTACH;FMTTYPE=image/jpeg:https://pnpmembers.com/wp-content/uploads/2022/10/Coffee-Pouring.jpg
END:VEVENT
BEGIN:VEVENT
DTSTART;TZID=America/Phoenix:20240423T183000
DTEND;TZID=America/Phoenix:20240423T203000
DTSTAMP:20260425T083630
CREATED:20240414T222153Z
LAST-MODIFIED:20240414T222153Z
UID:6286-1713897000-1713904200@pnpmembers.com
SUMMARY:Apr 23 - Phoenix Block Watch Advisory Board (PBWAB) Meeting
DESCRIPTION:
URL:https://pnpmembers.com/event/apr-23-phoenix-block-watch-advisory-board-pbwab-meeting/
LOCATION:Washington Activity Center\, 2240 W Citrus Wy\, Phoenix\, AZ\, 85015
ATTACH;FMTTYPE=image/png:https://pnpmembers.com/wp-content/uploads/2021/11/PBWAB-logo.png
END:VEVENT
BEGIN:VEVENT
DTSTART;TZID=America/Phoenix:20240423T173000
DTEND;TZID=America/Phoenix:20240423T190000
DTSTAMP:20260425T083630
CREATED:20240405T155924Z
LAST-MODIFIED:20240405T160417Z
UID:6268-1713893400-1713898800@pnpmembers.com
SUMMARY:Apr 23 - South Mountain (400) Coffee with a Cop
DESCRIPTION:
URL:https://pnpmembers.com/event/apr-23-coffee-with-a-cop-400-south-mountain-precinct/
LOCATION:AZ
ATTACH;FMTTYPE=image/png:https://pnpmembers.com/wp-content/uploads/2012/11/PD_CWC_Logo04_400_Phx.png
END:VEVENT
BEGIN:VEVENT
DTSTART;TZID=America/Phoenix:20240420T093000
DTEND;TZID=America/Phoenix:20240420T113000
DTSTAMP:20260425T083630
CREATED:20240405T160221Z
LAST-MODIFIED:20240405T160221Z
UID:6270-1713605400-1713612600@pnpmembers.com
SUMMARY:Apr 20 - Maryvale (800) Coffee with a Cop
DESCRIPTION:
URL:https://pnpmembers.com/event/apr-20-maryvale-800-coffee-with-a-cop/
LOCATION:AZ
ATTACH;FMTTYPE=image/png:https://pnpmembers.com/wp-content/uploads/2012/11/PD_CWC_Logo04_800_Phx.png
END:VEVENT
END:VCALENDAR