BEGIN:VCALENDAR
VERSION:2.0
PRODID:-//PNP Members - ECPv6.15.20//NONSGML v1.0//EN
CALSCALE:GREGORIAN
METHOD:PUBLISH
X-WR-CALNAME:PNP Members
X-ORIGINAL-URL:https://pnpmembers.com
X-WR-CALDESC:Events for PNP Members
REFRESH-INTERVAL;VALUE=DURATION:PT1H
X-Robots-Tag:noindex
X-PUBLISHED-TTL:PT1H
BEGIN:VTIMEZONE
TZID:America/Phoenix
BEGIN:STANDARD
TZOFFSETFROM:-0700
TZOFFSETTO:-0700
TZNAME:MST
DTSTART:20230101T000000
END:STANDARD
END:VTIMEZONE
BEGIN:VEVENT
DTSTART;TZID=America/Phoenix:20241002T080000
DTEND;TZID=America/Phoenix:20241002T093000
DTSTAMP:20260425T153937
CREATED:20240905T210734Z
LAST-MODIFIED:20240905T210734Z
UID:6590-1727856000-1727861400@pnpmembers.com
SUMMARY:Oct  2 - Coffee with a Cop - 900 - Cactus Park
DESCRIPTION:
URL:https://pnpmembers.com/event/oct-2-coffee-with-a-cop-900-cactus-park/
LOCATION:Ronnie’s Cafe\, 4323 W Cactus Rd\, Phoenix\, AZ\, 85304
ATTACH;FMTTYPE=image/png:https://pnpmembers.com/wp-content/uploads/2012/11/PD_CWC_Logo04_900_Phx.png
END:VEVENT
BEGIN:VEVENT
DTSTART;TZID=America/Phoenix:20241002T080000
DTEND;TZID=America/Phoenix:20241002T093000
DTSTAMP:20260425T153937
CREATED:20241001T051157Z
LAST-MODIFIED:20241001T051157Z
UID:6651-1727856000-1727861400@pnpmembers.com
SUMMARY:Oct  2 - Council District 4 Coffee Chat
DESCRIPTION:
URL:https://pnpmembers.com/event/oct-2-council-district-4-coffee-chat/
ATTACH;FMTTYPE=image/png:https://pnpmembers.com/wp-content/uploads/2022/10/CoffeePoutintoCup.png
END:VEVENT
BEGIN:VEVENT
DTSTART;TZID=America/Phoenix:20241004T190000
DTEND;TZID=America/Phoenix:20241004T220000
DTSTAMP:20260425T153937
CREATED:20240619T020510Z
LAST-MODIFIED:20240619T020510Z
UID:6393-1728068400-1728079200@pnpmembers.com
SUMMARY:Oct  4 - First Friday Patrol
DESCRIPTION:New – More info and map (In MS Word format) \nPNP GROUP PATROL \nContact Rick Sain at ussyorktown25@hotmail.com or\nat 602-799-0143\nJust a reminder that the next First Friday will be on October 7th\n.\nWe have a new meeting place\, the address is 1202 N. 3rd St\, next\nto the Phoenix Center for the Arts. It is a big parking lot and it does\nfill up fast. I am Changing the meeting and start time. We will start\nto meet at 6:00pm\, and start our patrol at 6:30pm\, and we will get\ndone between 9:45pm- 10pm.\nPLEASE LET ME KNOW IF YOU CAN MAKE IT. This way\, I can\ntry and block off some parking spaces for us. And I can also\ncontact you if anything should happen. I do not have some of your\ncell phone numbers\, so if you plan on going\, please send me your\nnumber. If you can’t find us on Friday night\, my cell number is 602-\n799-0143. Thanks. Rick
URL:https://pnpmembers.com/event/oct-4-first-friday-patrol/
ATTACH;FMTTYPE=image/jpeg:https://pnpmembers.com/wp-content/uploads/2013/01/sign-pnp-magnetic.jpg
ORGANIZER;CN="PNP - Rick Sain":MAILTO:ussyorktown25@hotmail.com
END:VEVENT
BEGIN:VEVENT
DTSTART;TZID=America/Phoenix:20241005T110000
DTEND;TZID=America/Phoenix:20241005T140000
DTSTAMP:20260425T153937
CREATED:20240907T204805Z
LAST-MODIFIED:20240907T204805Z
UID:6605-1728126000-1728136800@pnpmembers.com
SUMMARY:Oct  5 - G.A.I.N. Kickoff at Spectrum Mall
DESCRIPTION:G.A.I.N. Information Page:   Phoenix Police Department – GAIN \n  \nG.A.I.N. Registration link:     GAIN Registration 
URL:https://pnpmembers.com/event/oct-5-g-a-i-n-kickoff-at-spectrum-mall/
LOCATION:Christown Spectrum Mall\, West Bethany Home Rd. & 19th Ave.\, Phoenix\, AZ\, 85015
ATTACH;FMTTYPE=image/png:https://pnpmembers.com/wp-content/uploads/2014/01/GAIN-image.png
END:VEVENT
BEGIN:VEVENT
DTSTART;TZID=America/Phoenix:20241012T100000
DTEND;TZID=America/Phoenix:20241012T140000
DTSTAMP:20260425T153937
CREATED:20240619T182547Z
LAST-MODIFIED:20240619T182718Z
UID:6397-1728727200-1728741600@pnpmembers.com
SUMMARY:Oct 12 - Cactus Wren Block Watch G.A.I.N. Event
DESCRIPTION:
URL:https://pnpmembers.com/event/oct-12-cactus-wren-block-watch-g-a-i-n-event/
ATTACH;FMTTYPE=image/jpeg:https://pnpmembers.com/wp-content/uploads/2024/06/cactusandwren-134x250-1.jpg
END:VEVENT
BEGIN:VEVENT
DTSTART;VALUE=DATE:20241019
DTEND;VALUE=DATE:20241020
DTSTAMP:20260425T153937
CREATED:20240619T183108Z
LAST-MODIFIED:20240619T183108Z
UID:6403-1729296000-1729382399@pnpmembers.com
SUMMARY:Oct 19 - G.A.I.N. Day
DESCRIPTION:
URL:https://pnpmembers.com/event/oct-19-g-a-i-n-day/
ATTACH;FMTTYPE=image/png:https://pnpmembers.com/wp-content/uploads/2014/01/GAIN-image.png
END:VEVENT
BEGIN:VEVENT
DTSTART;TZID=America/Phoenix:20241021T180000
DTEND;TZID=America/Phoenix:20241021T203000
DTSTAMP:20260425T153937
CREATED:20241008T155658Z
LAST-MODIFIED:20241008T155658Z
UID:6659-1729533600-1729542600@pnpmembers.com
SUMMARY:Oct 21 - Community Conversation with Phoenix PD
DESCRIPTION:
URL:https://pnpmembers.com/event/oct-21-community-conversation-with-phoenix-pd/
END:VEVENT
BEGIN:VEVENT
DTSTART;TZID=America/Phoenix:20241022T183000
DTEND;TZID=America/Phoenix:20241022T203000
DTSTAMP:20260425T153937
CREATED:20241014T203159Z
LAST-MODIFIED:20241014T203159Z
UID:6664-1729621800-1729629000@pnpmembers.com
SUMMARY:Oct 22 - Phoenix Block Watch Advisory Board (PBWAB) Meeting - Grant Writing
DESCRIPTION:
URL:https://pnpmembers.com/event/oct-22-phoenix-block-watch-advisory-board-pbwab-meeting-grant-writing/
ATTACH;FMTTYPE=image/png:https://pnpmembers.com/wp-content/uploads/2021/11/PBWAB-logo.png
END:VEVENT
BEGIN:VEVENT
DTSTART;TZID=America/Phoenix:20241023T183000
DTEND;TZID=America/Phoenix:20241023T203000
DTSTAMP:20260425T153937
CREATED:20240801T051243Z
LAST-MODIFIED:20240801T051243Z
UID:6513-1729708200-1729715400@pnpmembers.com
SUMMARY:Oct 23 - Cactus Park Community Alliance (CPCA) Meeting
DESCRIPTION:More information on this meeting will be available closer to the meeting date.
URL:https://pnpmembers.com/event/oct-23-cactus-park-community-alliance-cpca-meeting/
LOCATION:Cortez High School\, 8828 N 31 Av\, Phoenix\, AZ\, 85051
ATTACH;FMTTYPE=image/png:https://pnpmembers.com/wp-content/uploads/2021/11/CPCA-Logo-512x512-1.png
ORGANIZER;CN="Cactus Park Community Alliance (CPCA)":MAILTO:CommunityInfo@cpcaaz.org
END:VEVENT
BEGIN:VEVENT
DTSTART;TZID=America/Phoenix:20241024T083000
DTEND;TZID=America/Phoenix:20241024T093000
DTSTAMP:20260425T153937
CREATED:20241008T025922Z
LAST-MODIFIED:20241008T025922Z
UID:6654-1729758600-1729762200@pnpmembers.com
SUMMARY:Oct 24 - Coffee with a Cop - 200 - Black Mountain
DESCRIPTION:
URL:https://pnpmembers.com/event/oct-24-coffee-with-a-cop-200-black-mountain/
ATTACH;FMTTYPE=image/jpeg:https://pnpmembers.com/wp-content/uploads/2022/10/Coffee-Pouring.jpg
END:VEVENT
BEGIN:VEVENT
DTSTART;TZID=America/Phoenix:20241026T100000
DTEND;TZID=America/Phoenix:20241026T140000
DTSTAMP:20260425T153937
CREATED:20240906T222153Z
LAST-MODIFIED:20241016T165726Z
UID:6597-1729936800-1729951200@pnpmembers.com
SUMMARY:Oct 26 - DEA Drug Take Back
DESCRIPTION:
URL:https://pnpmembers.com/event/oct-26-dea-drug-take-back/
ATTACH;FMTTYPE=image/png:https://pnpmembers.com/wp-content/uploads/2023/10/Drug-Take-Back-Logo-Sm.png
END:VEVENT
BEGIN:VEVENT
DTSTART;TZID=America/Phoenix:20241029T173000
DTEND;TZID=America/Phoenix:20241029T190000
DTSTAMP:20260425T153937
CREATED:20241023T181321Z
LAST-MODIFIED:20241023T190326Z
UID:6692-1730223000-1730228400@pnpmembers.com
SUMMARY:Oct 29 - Community Chat - Maryvale-Estrella
DESCRIPTION:
URL:https://pnpmembers.com/event/oct-29-community-chat-south-mountain-400-precinct/
END:VEVENT
END:VCALENDAR