BEGIN:VCALENDAR
VERSION:2.0
PRODID:-//PNP Members - ECPv6.15.20//NONSGML v1.0//EN
CALSCALE:GREGORIAN
METHOD:PUBLISH
X-WR-CALNAME:PNP Members
X-ORIGINAL-URL:https://pnpmembers.com
X-WR-CALDESC:Events for PNP Members
REFRESH-INTERVAL;VALUE=DURATION:PT1H
X-Robots-Tag:noindex
X-PUBLISHED-TTL:PT1H
BEGIN:VTIMEZONE
TZID:America/Phoenix
BEGIN:STANDARD
TZOFFSETFROM:-0700
TZOFFSETTO:-0700
TZNAME:MST
DTSTART:20240101T000000
END:STANDARD
END:VTIMEZONE
BEGIN:VEVENT
DTSTART;TZID=America/Phoenix:20250121T173000
DTEND;TZID=America/Phoenix:20250121T183000
DTSTAMP:20260425T103820
CREATED:20250109T010208Z
LAST-MODIFIED:20250109T010324Z
UID:6781-1737480600-1737484200@pnpmembers.com
SUMMARY:Jan 21 - South Mountain - Laveen Coffee with a Cop
DESCRIPTION:UPCOMING MEETING: TUESDAY\, JANUARY 21st 5:30 pm \nLaveen Education Center 5001 W Dobbins Rd Laveen\, AZ 85339 \n \nJoin us for the Coffee with a Cop Community Meeting\, hosted by the South Mountain Laveen Chamber of Commerce (SMLCC) and proudly sponsored by Scooter’s Coffee and Red Velvet Bakery! \nHeld every 3rd Tuesday of the month\, this meeting provides a valuable opportunity to connect with community leaders\, city officials\, elected representatives\, and our dedicated Community Action Officers.  Engage in meaningful discussions about safety initiatives\, share your input\, and learn how you can help advocate for our community through public outreach. Together\, we can create stronger connections and work towards a safer\, more engaged neighborhood. We look forward to seeing you there!   
URL:https://pnpmembers.com/event/jan-21-south-mountain-400-coffee-with-a-cop/
LOCATION:AZ
ATTACH;FMTTYPE=image/png:https://pnpmembers.com/wp-content/uploads/2012/11/PD_CWC_Logo04_400_Phx.png
END:VEVENT
BEGIN:VEVENT
DTSTART;TZID=America/Phoenix:20250122T170000
DTEND;TZID=America/Phoenix:20250122T190000
DTSTAMP:20260425T103820
CREATED:20250122T034530Z
LAST-MODIFIED:20250122T034823Z
UID:6811-1737565200-1737572400@pnpmembers.com
SUMMARY:Jan 22 - PNP Basics and Block Watch Training - Class 1 of 2
DESCRIPTION:
URL:https://pnpmembers.com/event/jan-22-pnp-basics-and-block-watch-training-class-1-of-2/
LOCATION:Virtual – OnLine – Zoom\, WebEx or other
ATTACH;FMTTYPE=image/png:https://pnpmembers.com/wp-content/uploads/2023/01/PNP-Training-Info-Phone.png
ORGANIZER;CN="Phoenix Neighborhood Patrol":MAILTO:pnp.coordinator@phoenix.gov
END:VEVENT
BEGIN:VEVENT
DTSTART;TZID=America/Phoenix:20250122T183000
DTEND;TZID=America/Phoenix:20250122T203000
DTSTAMP:20260425T103820
CREATED:20250122T053628Z
LAST-MODIFIED:20250122T053628Z
UID:6820-1737570600-1737577800@pnpmembers.com
SUMMARY:Jan 22 - Cactus Park Community Alliance (CPCA) Meeting
DESCRIPTION:Did you know if you see graffiti in your neighborhood\, you can report it and\, in most cases\, the City of Phoenix will remove it for free? Reporting graffiti is an easy way to help have a positive impact on your community.​ \n\n\nJoin us Wednesday Evening\, January 22 to learn about “Graffiti Free Phoenix February” to learn all about how graffiti affects us and ways we can help our neighborhoods. \nMayor Kate Gallego says “Graffiti is vandalism\, and it detracts from the beauty of our great City” and “We need help from our residents to keep Phoenix clean and send a message that vandalism has no place in our city.”  \n\nOur guest this evening will be Sevag Hayan\, Project Management Assistant from Phoenix Neighborhood Services who will speak to us and provide handouts explaining how your neighborhood can participate.
URL:https://pnpmembers.com/event/jan-22-cactus-park-community-alliance-cpca-meeting/
LOCATION:Cortez High School\, 8828 N 31 Av\, Phoenix\, AZ\, 85051
ATTACH;FMTTYPE=image/png:https://pnpmembers.com/wp-content/uploads/2021/11/CPCA-Logo-512x512-1.png
ORGANIZER;CN="Cactus Park Community Alliance (CPCA)":MAILTO:CommunityInfo@cpcaaz.org
END:VEVENT
BEGIN:VEVENT
DTSTART;TZID=America/Phoenix:20250123T083000
DTEND;TZID=America/Phoenix:20250123T093000
DTSTAMP:20260425T103820
CREATED:20241201T054941Z
LAST-MODIFIED:20241201T054941Z
UID:6748-1737621000-1737624600@pnpmembers.com
SUMMARY:Jan 23 - Coffee with a Cop - 200 - Black Mountain
DESCRIPTION:
URL:https://pnpmembers.com/event/jan-23-coffee-with-a-cop-200-black-mountain/
LOCATION:AZ
ATTACH;FMTTYPE=image/jpeg:https://pnpmembers.com/wp-content/uploads/2022/10/Coffee-Pouring.jpg
END:VEVENT
BEGIN:VEVENT
DTSTART;TZID=America/Phoenix:20250123T170000
DTEND;TZID=America/Phoenix:20250123T190000
DTSTAMP:20260425T103820
CREATED:20250122T034919Z
LAST-MODIFIED:20250122T034919Z
UID:6816-1737651600-1737658800@pnpmembers.com
SUMMARY:Jan 23 - PNP Basics and Block Watch Training - Class 2 of 2
DESCRIPTION:
URL:https://pnpmembers.com/event/jan-23-pnp-basics-and-block-watch-training-class-2-of-2/
LOCATION:Virtual – OnLine – Zoom\, WebEx or other
ATTACH;FMTTYPE=image/png:https://pnpmembers.com/wp-content/uploads/2023/01/PNP-Training-Info-Phone.png
ORGANIZER;CN="Phoenix Neighborhood Patrol":MAILTO:pnp.coordinator@phoenix.gov
END:VEVENT
BEGIN:VEVENT
DTSTART;TZID=America/Phoenix:20250125T090000
DTEND;TZID=America/Phoenix:20250125T120000
DTSTAMP:20260425T103820
CREATED:20250116T212833Z
LAST-MODIFIED:20250116T213046Z
UID:6795-1737795600-1737806400@pnpmembers.com
SUMMARY:Jan 25 - Fire Station 62 Grand Opening
DESCRIPTION:
URL:https://pnpmembers.com/event/jan-25-fire-station-62-grand-opening/
LOCATION:AZ
ATTACH;FMTTYPE=image/png:https://pnpmembers.com/wp-content/uploads/2025/01/Fire.png
END:VEVENT
BEGIN:VEVENT
DTSTART;TZID=America/Phoenix:20250128T183000
DTEND;TZID=America/Phoenix:20250128T203000
DTSTAMP:20260425T103820
CREATED:20250116T183513Z
LAST-MODIFIED:20250116T183513Z
UID:6792-1738089000-1738096200@pnpmembers.com
SUMMARY:Jan 28 - Phoenix Block Watch Advisory Board (PBWAB) Meeting
DESCRIPTION:
URL:https://pnpmembers.com/event/jan-28-phoenix-block-watch-advisory-board-pbwab-meeting/
LOCATION:Washington Activity Center\, 2240 W Citrus Wy\, Phoenix\, AZ\, 85015
ATTACH;FMTTYPE=image/png:https://pnpmembers.com/wp-content/uploads/2021/11/PBWAB-logo.png
END:VEVENT
END:VCALENDAR