BEGIN:VCALENDAR
VERSION:2.0
PRODID:-//PNP Members - ECPv6.15.20//NONSGML v1.0//EN
CALSCALE:GREGORIAN
METHOD:PUBLISH
X-WR-CALNAME:PNP Members
X-ORIGINAL-URL:https://pnpmembers.com
X-WR-CALDESC:Events for PNP Members
REFRESH-INTERVAL;VALUE=DURATION:PT1H
X-Robots-Tag:noindex
X-PUBLISHED-TTL:PT1H
BEGIN:VTIMEZONE
TZID:America/Phoenix
BEGIN:STANDARD
TZOFFSETFROM:-0700
TZOFFSETTO:-0700
TZNAME:MST
DTSTART:20240101T000000
END:STANDARD
END:VTIMEZONE
BEGIN:VEVENT
DTSTART;TZID=America/Phoenix:20250307T190000
DTEND;TZID=America/Phoenix:20250307T220000
DTSTAMP:20260425T073402
CREATED:20250122T034406Z
LAST-MODIFIED:20250122T034406Z
UID:6808-1741374000-1741384800@pnpmembers.com
SUMMARY:Mar 7 - First Friday Patrol
DESCRIPTION:New – More info and map (In MS Word format) \nPNP GROUP PATROL \nContact Rick Sain at ussyorktown25@hotmail.com or\nat 602-799-0143\nJust a reminder that the next First Friday will be on October 7th\n.\nWe have a new meeting place\, the address is 1202 N. 3rd St\, next\nto the Phoenix Center for the Arts. It is a big parking lot and it does\nfill up fast. I am Changing the meeting and start time. We will start\nto meet at 6:00pm\, and start our patrol at 6:30pm\, and we will get\ndone between 9:45pm- 10pm.\nPLEASE LET ME KNOW IF YOU CAN MAKE IT. This way\, I can\ntry and block off some parking spaces for us. And I can also\ncontact you if anything should happen. I do not have some of your\ncell phone numbers\, so if you plan on going\, please send me your\nnumber. If you can’t find us on Friday night\, my cell number is 602-\n799-0143. Thanks. Rick
URL:https://pnpmembers.com/event/mar-7-first-friday-patrol/
LOCATION:AZ
ATTACH;FMTTYPE=image/jpeg:https://pnpmembers.com/wp-content/uploads/2013/01/sign-pnp-magnetic.jpg
ORGANIZER;CN="PNP - Rick Sain":MAILTO:ussyorktown25@hotmail.com
END:VEVENT
BEGIN:VEVENT
DTSTART;TZID=America/Phoenix:20250312T183000
DTEND;TZID=America/Phoenix:20250312T203000
DTSTAMP:20260425T073402
CREATED:20250306T011930Z
LAST-MODIFIED:20250306T011930Z
UID:6862-1741804200-1741811400@pnpmembers.com
SUMMARY:Mar 12 - Black Mountain Community Alliance Meeting
DESCRIPTION:
URL:https://pnpmembers.com/event/mar-12-black-mountain-community-alliance-meeting/
LOCATION:Deer Valley Community Center\, 19602 N 19 Pl\, Phoenix\, AZ\, 85024
ATTACH;FMTTYPE=image/png:https://pnpmembers.com/wp-content/uploads/2021/11/BMCA.png
ORGANIZER;CN="Black Mountain Community Alliance (BMCA)":MAILTO:info@bmcainfo.com
END:VEVENT
BEGIN:VEVENT
DTSTART;TZID=America/Phoenix:20250318T173000
DTEND;TZID=America/Phoenix:20250318T183000
DTSTAMP:20260425T073402
CREATED:20250314T002614Z
LAST-MODIFIED:20250314T002746Z
UID:6878-1742319000-1742322600@pnpmembers.com
SUMMARY:Mar 18 - South Mountain - Laveen Coffee with a Cop
DESCRIPTION:UPCOMING MEETING: TUESDAY\, March 18 5:30 pm \nLaveen Education Center 5001 W Dobbins Rd Laveen\, AZ 85339 \n \nJoin us for the Coffee with a Cop Community Meeting\, hosted by the South Mountain Laveen Chamber of Commerce (SMLCC) at the Laveen Education Center\, 5001 W Dobbins Rd. \nHeld every 3rd Tuesday of the month\, this meeting provides a valuable opportunity to connect with community leaders\, city officials\, elected representatives\, and our dedicated Community Action Officers.  Engage in meaningful discussions about safety initiatives\, share your input\, and learn how you can help advocate for our community through public outreach. Together\, we can create stronger connections and work towards a safer\, more engaged neighborhood. We look forward to seeing you there!   
URL:https://pnpmembers.com/event/mar-18-south-mountain-laveen-coffee-with-a-cop/
LOCATION:Laveen Education Center\, 5001 W Dobbins Rd\, Laveen\, AZ\, 85339
ATTACH;FMTTYPE=image/png:https://pnpmembers.com/wp-content/uploads/2012/11/PD_CWC_Logo04_400_Phx.png
END:VEVENT
BEGIN:VEVENT
DTSTART;TZID=America/Phoenix:20250322T080000
DTEND;TZID=America/Phoenix:20250322T120000
DTSTAMP:20260425T073402
CREATED:20250122T035048Z
LAST-MODIFIED:20250122T035048Z
UID:6818-1742630400-1742644800@pnpmembers.com
SUMMARY:Mar 22 - New PNP Member Training (In-Person)
DESCRIPTION:PNP class is March 22\, 2025 and is an in-person class. It will be held at the Mountain View Precinct\, 2075 E Maryland Ave from 8am to Noon. Yes\, just like before COVID. \nIf you know anyone interested\, please have them email me at pnp.coordinator@phoenix.gov\, seating is limited so pre-registration is required.
URL:https://pnpmembers.com/event/mar-22-new-pnp-member-training-in-person/
LOCATION:Mountain View Precinct Community Room\, 2075 E Maryland Av\, Phoenix\, AZ\, 85016
ATTACH;FMTTYPE=image/jpeg:https://pnpmembers.com/wp-content/uploads/2022/12/cropped-PNP-LOGO-150x183-1.jpg
ORGANIZER;CN="Phoenix Neighborhood Patrol":MAILTO:pnp.coordinator@phoenix.gov
END:VEVENT
BEGIN:VEVENT
DTSTART;TZID=America/Phoenix:20250324T053000
DTEND;TZID=America/Phoenix:20250324T193000
DTSTAMP:20260425T073402
CREATED:20250321T012046Z
LAST-MODIFIED:20250321T013551Z
UID:6915-1742794200-1742844600@pnpmembers.com
SUMMARY:Mar 24 - Council District 1 Meeting
DESCRIPTION:Mark Your Calendars: Community Meeting \nOur next meeting will be Monday\, March 24\, at the Beuf Community Center located at 3435 W Pinnacle Peak Rd\, Phoenix\, AZ 85027. Plan for check in to begin at 5:30pm and the meeting to start at 6:00pm. \nYou can register HERE for the upcoming meeting! As a reminder\, please fill out the form SEPARATELY for EACH member of your family planning to attend. Thank you!
URL:https://pnpmembers.com/event/mar-24-council-district-1-meeting/
LOCATION:AZ
ATTACH;FMTTYPE=image/png:https://pnpmembers.com/wp-content/uploads/2025/03/Council-D1-Event-Header.png
END:VEVENT
BEGIN:VEVENT
DTSTART;TZID=America/Phoenix:20250326T183000
DTEND;TZID=America/Phoenix:20250326T203000
DTSTAMP:20260425T073402
CREATED:20250313T051456Z
LAST-MODIFIED:20250317T005731Z
UID:6872-1743013800-1743021000@pnpmembers.com
SUMMARY:Mar 26 - Block Watch Advisory Board & Cactus Park Community Alliance meeting
DESCRIPTION:Here’s a  Q&A from police1.com that explains more about the centers that are in place around the country: \n1. What is a Real Time Crime Center (RTCC)?\nAn RTCC is a centralized unit within a police department that uses technology and data analysis to provide real-time support to officers in the field. These centers monitor live feeds from cameras\, analyze data\, and provide immediate information to help respond to ongoing incidents.\n2. What is the main purpose of an RTCC?\nThe primary objective of an RTCC is to enhance public safety by providing real-time intelligence and situational awareness to law enforcement officers. This helps in quick decision-making\, efficient resource deployment\, and proactive crime prevention.\n3. How did the concept of RTCCs come about?\nThe concept of RTCCs emerged from the need for immediate data and information to support field operations. Initially\, individual analysts used basic tools like laptops and radios\, but the success of these early efforts led to the formal establishment of dedicated centers with advanced technology.\n4. What are the key components of an RTCC?\nKey components include city traffic cameras\, license plate readers\, body cameras and communication tools. Some centers also use advanced analytics and AI to process data.\n5. What are the strategic objectives of an RTCC?\nStrategic objectives include being proactive in preventing crime\, reactive in responding to ongoing incidents\, and supporting investigative efforts. Objectives can vary based on local needs.\n6. What roles do civilians and sworn officers play in RTCCs?\nRTCCs benefit from a mix of civilian analysts and sworn officers. Civilians often have backgrounds in dispatch or analysis\, providing valuable insights and data handling skills. Sworn officers bring field experience and can establish probable cause for actions based on real-time information.\n7. How do RTCCs contribute to community safety beyond crime response?\nRTCCs enhance overall community safety by monitoring for incidents such as traffic accidents\, coordinating responses to natural disasters and providing intelligence during mass gatherings.
URL:https://pnpmembers.com/event/mar-26-block-watch-advisory-board-cactus-park-community-alliance-meeting/
LOCATION:Cortez High School\, 8828 N 31 Av\, Phoenix\, AZ\, 85051
ATTACH;FMTTYPE=image/png:https://pnpmembers.com/wp-content/uploads/2021/11/PBWAB-logo.png
END:VEVENT
BEGIN:VEVENT
DTSTART;TZID=America/Phoenix:20250327T083000
DTEND;TZID=America/Phoenix:20250327T093000
DTSTAMP:20260425T073402
CREATED:20250306T012307Z
LAST-MODIFIED:20250306T012307Z
UID:6865-1743064200-1743067800@pnpmembers.com
SUMMARY:Mar 27 - Coffee with a Cop - 200 - Black Mountain
DESCRIPTION:
URL:https://pnpmembers.com/event/mar-27-coffee-with-a-cop-200-black-mountain/
LOCATION:AZ
ATTACH;FMTTYPE=image/jpeg:https://pnpmembers.com/wp-content/uploads/2022/10/Coffee-Pouring.jpg
END:VEVENT
BEGIN:VEVENT
DTSTART;TZID=America/Phoenix:20250329T100000
DTEND;TZID=America/Phoenix:20250329T120000
DTSTAMP:20260425T073402
CREATED:20250321T011614Z
LAST-MODIFIED:20250321T011733Z
UID:6912-1743242400-1743249600@pnpmembers.com
SUMMARY:Mar 29 - Council District 4 Listening Session
DESCRIPTION:
URL:https://pnpmembers.com/event/mar-29-council-district-4-listening-session/
LOCATION:AZ
ATTACH;FMTTYPE=image/png:https://pnpmembers.com/wp-content/uploads/2025/03/Council-District-4-Laura-Pastor-Logo.png
END:VEVENT
END:VCALENDAR