BEGIN:VCALENDAR
VERSION:2.0
PRODID:-//PNP Members - ECPv6.15.20//NONSGML v1.0//EN
CALSCALE:GREGORIAN
METHOD:PUBLISH
X-WR-CALNAME:PNP Members
X-ORIGINAL-URL:https://pnpmembers.com
X-WR-CALDESC:Events for PNP Members
REFRESH-INTERVAL;VALUE=DURATION:PT1H
X-Robots-Tag:noindex
X-PUBLISHED-TTL:PT1H
BEGIN:VTIMEZONE
TZID:America/Phoenix
BEGIN:STANDARD
TZOFFSETFROM:-0700
TZOFFSETTO:-0700
TZNAME:MST
DTSTART:20240101T000000
END:STANDARD
END:VTIMEZONE
BEGIN:VEVENT
DTSTART;TZID=America/Phoenix:20250405T083000
DTEND;TZID=America/Phoenix:20250405T140000
DTSTAMP:20260425T054720
CREATED:20250320T195321Z
LAST-MODIFIED:20250321T013708Z
UID:6889-1743841800-1743861600@pnpmembers.com
SUMMARY:Apr  5 - Slope Fest & Tour de Sunnyslope
DESCRIPTION:
URL:https://pnpmembers.com/event/apr-5-slope-fest-tour-de-sunnyslope/
LOCATION:AZ
ATTACH;FMTTYPE=image/png:https://pnpmembers.com/wp-content/uploads/2025/03/2025-Slope-Fest-Logo.png
END:VEVENT
BEGIN:VEVENT
DTSTART;TZID=America/Phoenix:20250405T190000
DTEND;TZID=America/Phoenix:20250405T220000
DTSTAMP:20260425T054720
CREATED:20250321T001149Z
LAST-MODIFIED:20250321T001212Z
UID:6892-1743879600-1743890400@pnpmembers.com
SUMMARY:Apr  5 - First Friday Patrol
DESCRIPTION:More info and map (In MS Word format) \nPNP GROUP PATROL \nContact Rick Sain at ussyorktown25@hotmail.com or\nat 602-799-0143\nJust a reminder that the next First Friday will be on October 7th\n.\nWe have a new meeting place\, the address is 1202 N. 3rd St\, next\nto the Phoenix Center for the Arts. It is a big parking lot and it does\nfill up fast. I am Changing the meeting and start time. We will start\nto meet at 6:00pm\, and start our patrol at 6:30pm\, and we will get\ndone between 9:45pm- 10pm.\nPLEASE LET ME KNOW IF YOU CAN MAKE IT. This way\, I can\ntry and block off some parking spaces for us. And I can also\ncontact you if anything should happen. I do not have some of your\ncell phone numbers\, so if you plan on going\, please send me your\nnumber. If you can’t find us on Friday night\, my cell number is 602-\n799-0143. Thanks. Rick
URL:https://pnpmembers.com/event/apr-5-first-friday-patrol-2/
LOCATION:AZ
ATTACH;FMTTYPE=image/jpeg:https://pnpmembers.com/wp-content/uploads/2013/01/sign-pnp-magnetic.jpg
ORGANIZER;CN="PNP - Rick Sain":MAILTO:ussyorktown25@hotmail.com
END:VEVENT
BEGIN:VEVENT
DTSTART;TZID=America/Phoenix:20250409T183000
DTEND;TZID=America/Phoenix:20250409T203000
DTSTAMP:20260425T054720
CREATED:20250406T164808Z
LAST-MODIFIED:20250406T164808Z
UID:6939-1744223400-1744230600@pnpmembers.com
SUMMARY:Apr  9 - Black Mountain Community Alliance Meeting
DESCRIPTION:
URL:https://pnpmembers.com/event/apr-9-black-mountain-community-alliance-meeting/
LOCATION:Deer Valley Community Center\, 19602 N 19 Pl\, Phoenix\, AZ\, 85024
ATTACH;FMTTYPE=image/png:https://pnpmembers.com/wp-content/uploads/2021/11/BMCA.png
ORGANIZER;CN="Black Mountain Community Alliance (BMCA)":MAILTO:info@bmcainfo.com
END:VEVENT
BEGIN:VEVENT
DTSTART;TZID=America/Phoenix:20250415T180000
DTEND;TZID=America/Phoenix:20250415T200000
DTSTAMP:20260425T054720
CREATED:20250415T011525Z
LAST-MODIFIED:20250415T011525Z
UID:6954-1744740000-1744747200@pnpmembers.com
SUMMARY:Apr 15 - PNP Citywide Meeting
DESCRIPTION:
URL:https://pnpmembers.com/event/apr-15-pnp-citywide-meeting/
LOCATION:Mountain View Precinct Community Room\, 2075 E Maryland Av\, Phoenix\, AZ\, 85016
ATTACH;FMTTYPE=image/jpeg:https://pnpmembers.com/wp-content/uploads/2021/11/PNPLOGO_tm.jpg
ORGANIZER;CN="Phoenix Neighborhood Patrol":MAILTO:pnp.coordinator@phoenix.gov
END:VEVENT
BEGIN:VEVENT
DTSTART;TZID=America/Phoenix:20250419T080000
DTEND;TZID=America/Phoenix:20250419T110000
DTSTAMP:20260425T054720
CREATED:20250416T034809Z
LAST-MODIFIED:20250416T034832Z
UID:6958-1745049600-1745060400@pnpmembers.com
SUMMARY:Apr 19 - Moon Valley Shred-A-Thon
DESCRIPTION:
URL:https://pnpmembers.com/event/apr-19-moon-valley-shred-a-thon/
LOCATION:AZ
ATTACH;FMTTYPE=image/jpeg:https://pnpmembers.com/wp-content/uploads/2023/10/MCAO.jpg
END:VEVENT
BEGIN:VEVENT
DTSTART;TZID=America/Phoenix:20250419T080000
DTEND;TZID=America/Phoenix:20250419T130000
DTSTAMP:20260425T054720
CREATED:20250415T011438Z
LAST-MODIFIED:20250415T011438Z
UID:6952-1745049600-1745067600@pnpmembers.com
SUMMARY:Apr 19 - Police and Fire Career Experience
DESCRIPTION:
URL:https://pnpmembers.com/event/apr-19-police-and-fire-career-experience/
LOCATION:AZ
END:VEVENT
BEGIN:VEVENT
DTSTART;TZID=America/Phoenix:20250422T183000
DTEND;TZID=America/Phoenix:20250422T203000
DTSTAMP:20260425T054720
CREATED:20250406T163322Z
LAST-MODIFIED:20250406T163322Z
UID:6935-1745346600-1745353800@pnpmembers.com
SUMMARY:Apr 22 - Phoenix Block Watch Advisory Board (PBWAB) Meeting
DESCRIPTION:
URL:https://pnpmembers.com/event/apr-22-phoenix-block-watch-advisory-board-pbwab-meeting/
LOCATION:AZ
ATTACH;FMTTYPE=image/png:https://pnpmembers.com/wp-content/uploads/2021/11/PBWAB-logo.png
END:VEVENT
BEGIN:VEVENT
DTSTART;TZID=America/Phoenix:20250423T183000
DTEND;TZID=America/Phoenix:20250423T203000
DTSTAMP:20260425T054720
CREATED:20250416T035138Z
LAST-MODIFIED:20250416T035215Z
UID:6961-1745433000-1745440200@pnpmembers.com
SUMMARY:Apr 23 - Cactus Park Community Alliance Meeting
DESCRIPTION:This month we welcome Scott Jech\, Owner of firesafetyessentials.com who will guide us through our misconceptions and educate us about the devastating effects of home fires and other home safety issues. We’ll learn how to escape and survive the ravages of home fires\, carbon monoxide poisoning and\, in some cases\, even to prevent property damage.\nWe’re looking forward to seeing you again.  Please join us.\n 
URL:https://pnpmembers.com/event/apr-23-cactus-park-community-alliance-meeting/
LOCATION:Cortez High School\, 8828 N 31 Av\, Phoenix\, AZ\, 85051
ATTACH;FMTTYPE=image/png:https://pnpmembers.com/wp-content/uploads/2021/11/CPCA-Logo-512x512-1.png
ORGANIZER;CN="Cactus Park Community Alliance (CPCA)":MAILTO:CommunityInfo@cpcaaz.org
END:VEVENT
BEGIN:VEVENT
DTSTART;TZID=America/Phoenix:20250430T080000
DTEND;TZID=America/Phoenix:20250430T093000
DTSTAMP:20260425T054720
CREATED:20250312T191208Z
LAST-MODIFIED:20250312T191208Z
UID:6869-1746000000-1746005400@pnpmembers.com
SUMMARY:Apr 30 - Coffee with a Cop - 900 - Cactus Park
DESCRIPTION:
URL:https://pnpmembers.com/event/apr-30-coffee-with-a-cop-900-cactus-park/
LOCATION:Ronnie’s Cafe\, 4323 W Cactus Rd\, Phoenix\, AZ\, 85304
ATTACH;FMTTYPE=image/png:https://pnpmembers.com/wp-content/uploads/2012/11/PD_CWC_Logo04_900_Phx.png
END:VEVENT
BEGIN:VEVENT
DTSTART;TZID=America/Phoenix:20250430T180000
DTEND;TZID=America/Phoenix:20250430T193000
DTSTAMP:20260425T054720
CREATED:20250320T060622Z
LAST-MODIFIED:20250320T060622Z
UID:6887-1746036000-1746041400@pnpmembers.com
SUMMARY:Apr 30 - Block Watch Boot Camp - Grant Writing Training
DESCRIPTION:
URL:https://pnpmembers.com/event/apr-30-block-watch-boot-camp-grant-writing-training/
LOCATION:Devonshire Senior Center\, 2802 E Devonshire Ave\, Phoenix\, AZ\, 85016
ATTACH;FMTTYPE=image/png:https://pnpmembers.com/wp-content/uploads/2022/09/Neighborhood-College-Logo.png
ORGANIZER;CN="Black Mountain Community Alliance (BMCA)":MAILTO:info@bmcainfo.com
END:VEVENT
END:VCALENDAR