BEGIN:VCALENDAR
VERSION:2.0
PRODID:-//PNP Members - ECPv6.15.20//NONSGML v1.0//EN
CALSCALE:GREGORIAN
METHOD:PUBLISH
X-WR-CALNAME:PNP Members
X-ORIGINAL-URL:https://pnpmembers.com
X-WR-CALDESC:Events for PNP Members
REFRESH-INTERVAL;VALUE=DURATION:PT1H
X-Robots-Tag:noindex
X-PUBLISHED-TTL:PT1H
BEGIN:VTIMEZONE
TZID:America/Phoenix
BEGIN:STANDARD
TZOFFSETFROM:-0700
TZOFFSETTO:-0700
TZNAME:MST
DTSTART:20240101T000000
END:STANDARD
END:VTIMEZONE
BEGIN:VEVENT
DTSTART;TZID=America/Phoenix:20250502T190000
DTEND;TZID=America/Phoenix:20250502T220000
DTSTAMP:20260425T040053
CREATED:20250321T001249Z
LAST-MODIFIED:20250416T034249Z
UID:6895-1746212400-1746223200@pnpmembers.com
SUMMARY:May  2 - First Friday Patrol
DESCRIPTION:More info and map (In MS Word format) \nPNP GROUP PATROL \nContact Rick Sain at ussyorktown25@hotmail.com or\nat 602-799-0143\nJust a reminder that the next First Friday will be on October 7th\n.\nWe have a new meeting place\, the address is 1202 N. 3rd St\, next\nto the Phoenix Center for the Arts. It is a big parking lot and it does\nfill up fast. I am Changing the meeting and start time. We will start\nto meet at 6:00pm\, and start our patrol at 6:30pm\, and we will get\ndone between 9:45pm- 10pm.\nPLEASE LET ME KNOW IF YOU CAN MAKE IT. This way\, I can\ntry and block off some parking spaces for us. And I can also\ncontact you if anything should happen. I do not have some of your\ncell phone numbers\, so if you plan on going\, please send me your\nnumber. If you can’t find us on Friday night\, my cell number is 602-\n799-0143. Thanks. Rick
URL:https://pnpmembers.com/event/may-3-first-friday-patrol-2/
LOCATION:AZ
ATTACH;FMTTYPE=image/jpeg:https://pnpmembers.com/wp-content/uploads/2013/01/sign-pnp-magnetic.jpg
ORGANIZER;CN="PNP - Rick Sain":MAILTO:ussyorktown25@hotmail.com
END:VEVENT
BEGIN:VEVENT
DTSTART;TZID=America/Phoenix:20250507T180000
DTEND;TZID=America/Phoenix:20250507T200000
DTSTAMP:20260425T040053
CREATED:20250417T015401Z
LAST-MODIFIED:20250425T184558Z
UID:6965-1746640800-1746648000@pnpmembers.com
SUMMARY:May  7 - Survive the Drive
DESCRIPTION:
URL:https://pnpmembers.com/event/may-7-survive-the-drive/
LOCATION:Deer Valley Community Center\, 19602 N 19 Pl\, Phoenix\, AZ\, 85024
ATTACH;FMTTYPE=image/png:https://pnpmembers.com/wp-content/uploads/2025/04/Survive-the-Drive-Logo.png
END:VEVENT
BEGIN:VEVENT
DTSTART;TZID=America/Phoenix:20250508T100000
DTEND;TZID=America/Phoenix:20250508T140000
DTSTAMP:20260425T040053
CREATED:20250506T025701Z
LAST-MODIFIED:20250506T025701Z
UID:6998-1746698400-1746712800@pnpmembers.com
SUMMARY:May  8 - Council District 4 Job Fair
DESCRIPTION:
URL:https://pnpmembers.com/event/may-8-council-district-4-job-fair/
LOCATION:AZ
ATTACH;FMTTYPE=image/png:https://pnpmembers.com/wp-content/uploads/2025/03/Council-District-4-Laura-Pastor-Logo.png
END:VEVENT
BEGIN:VEVENT
DTSTART;TZID=America/Phoenix:20250514T183000
DTEND;TZID=America/Phoenix:20250514T203000
DTSTAMP:20260425T040053
CREATED:20250504T165429Z
LAST-MODIFIED:20250504T165429Z
UID:6992-1747247400-1747254600@pnpmembers.com
SUMMARY:May 14 - Black Mountain Community Alliance Meeting
DESCRIPTION:
URL:https://pnpmembers.com/event/may-14-black-mountain-community-alliance-meeting/
LOCATION:Deer Valley Community Center\, 19602 N 19 Pl\, Phoenix\, AZ\, 85024
ATTACH;FMTTYPE=image/png:https://pnpmembers.com/wp-content/uploads/2021/11/BMCA.png
ORGANIZER;CN="Black Mountain Community Alliance (BMCA)":MAILTO:info@bmcainfo.com
END:VEVENT
BEGIN:VEVENT
DTSTART;TZID=America/Phoenix:20250515T100000
DTEND;TZID=America/Phoenix:20250515T233000
DTSTAMP:20260425T040053
CREATED:20250514T170820Z
LAST-MODIFIED:20250514T170820Z
UID:7003-1747303200-1747351800@pnpmembers.com
SUMMARY:May 15 - Coffee with a Cop - 400 - South Mountain Precinct
DESCRIPTION:
URL:https://pnpmembers.com/event/may-15-coffee-with-a-cop-400-south-mountain-precinct/
LOCATION:AZ
ATTACH;FMTTYPE=image/png:https://pnpmembers.com/wp-content/uploads/2012/11/PD_CWC_Logo04_400_Phx.png
END:VEVENT
BEGIN:VEVENT
DTSTART;TZID=America/Phoenix:20250517T110000
DTEND;TZID=America/Phoenix:20250517T140000
DTSTAMP:20260425T040053
CREATED:20250122T054222Z
LAST-MODIFIED:20250423T032945Z
UID:6822-1747479600-1747490400@pnpmembers.com
SUMMARY:May 17 - PNP Luncheon
DESCRIPTION:Registration is REQUIRED.  Please contact Brian if you have not registered.
URL:https://pnpmembers.com/event/apr-12-pnp-luncheon-date-tentative/
LOCATION:Elks Lodge 335 – North Phoenix\, 14424 N 32 St\, Phoenix\, AZ\, 85032
ATTACH;FMTTYPE=image/jpeg:https://pnpmembers.com/wp-content/uploads/2024/02/Food-Burger-Fries-Phone.jpeg
ORGANIZER;CN="Phoenix Neighborhood Patrol":MAILTO:pnp.coordinator@phoenix.gov
END:VEVENT
BEGIN:VEVENT
DTSTART;TZID=America/Phoenix:20250522T083000
DTEND;TZID=America/Phoenix:20250522T093000
DTSTAMP:20260425T040053
CREATED:20250504T165528Z
LAST-MODIFIED:20250504T165528Z
UID:6994-1747902600-1747906200@pnpmembers.com
SUMMARY:May 22 - Coffee with a Cop - 200 - Black Mountain
DESCRIPTION:
URL:https://pnpmembers.com/event/may-22-coffee-with-a-cop-200-black-mountain/
LOCATION:AZ
ATTACH;FMTTYPE=image/jpeg:https://pnpmembers.com/wp-content/uploads/2022/10/Coffee-Pouring.jpg
END:VEVENT
BEGIN:VEVENT
DTSTART;TZID=America/Phoenix:20250529T100000
DTEND;TZID=America/Phoenix:20250529T120000
DTSTAMP:20260425T040053
CREATED:20250521T061620Z
LAST-MODIFIED:20250521T061620Z
UID:7006-1748512800-1748520000@pnpmembers.com
SUMMARY:May 29 - Maryvale-Estrella (800) Coffee with a Cop
DESCRIPTION:
URL:https://pnpmembers.com/event/may-29-maryvale-estrella-800-coffee-with-a-cop/
LOCATION:AZ
ATTACH;FMTTYPE=image/png:https://pnpmembers.com/wp-content/uploads/2012/11/PD_CWC_Logo04_800_Phx.png
END:VEVENT
END:VCALENDAR