BEGIN:VCALENDAR
VERSION:2.0
PRODID:-//PNP Members - ECPv6.15.20//NONSGML v1.0//EN
CALSCALE:GREGORIAN
METHOD:PUBLISH
X-WR-CALNAME:PNP Members
X-ORIGINAL-URL:https://pnpmembers.com
X-WR-CALDESC:Events for PNP Members
REFRESH-INTERVAL;VALUE=DURATION:PT1H
X-Robots-Tag:noindex
X-PUBLISHED-TTL:PT1H
BEGIN:VTIMEZONE
TZID:America/Phoenix
BEGIN:STANDARD
TZOFFSETFROM:-0700
TZOFFSETTO:-0700
TZNAME:MST
DTSTART:20240101T000000
END:STANDARD
END:VTIMEZONE
BEGIN:VEVENT
DTSTART;VALUE=DATE:20251101
DTEND;VALUE=DATE:20251205
DTSTAMP:20260424T175532
CREATED:20251101T214758Z
LAST-MODIFIED:20251101T215918Z
UID:7396-1761955200-1764892799@pnpmembers.com
SUMMARY:Nov 1 - Dec 4 Block Watch Grant portal is open
DESCRIPTION:The 2026 Neighborhood Block Watch Grant Program (NBWGP)\napplication process will open Saturday\, November 1\, 2025 and close at 4PM on December 4\, 2025\nFor more information on the grant application process\, please\nNavigate to the NBWGP homepage here.\nOnce the application process has opened\, NBWGP Staff will hold\ntraining workshops to assist applicants with creating and submitting\ntheir applications. Dates and times of those workshops are listed\nbelow: \nSCHEDULED DATE/TIME\, IN-PERSON WORKSHOP\nTuesday\, December 2\, 2025\nMorning session:\n10:00 a.m. to 12:00 p.m.\nEvening session:\n6:00 p.m. to 8:00 p.m.\nLOCATION DETAILS:\nDevonshire Senior Center\n2802 E. Devonshire Ave\nPhoenix\, AZ 85016\nSCHEDULED DATES/TIMES\, WEB\nCONFERENCE WORKSHOPS\n– Tuesday\, November 4\, 2025\n– Thursday\, November 13\, 2025\n– Tuesday\, November 18\, 2025\nMorning session:\n10:00 a.m. to 12:00 p.m. (click link for 10:00 a.m. workshop)\nhttps://cityofphoenix.webex.com/cityofphoenix/j.php?MTID=mfd96fd\ne2a6e8cb4544579b3c51bec322\nAfternoon session:\n2:00 p.m. to 4:00 p.m. (click link for 2:00 p.m. workshop)\nhttps://cityofphoenix.webex.com/cityofphoenix/j.php?MTID=m1c091\n1992c9c23e572e909cf6ee9d4bf\nIf you have any questions\, please contact NBWGP staff at 602-262-7602.\nThank you!\nNBWGP Staff
URL:https://pnpmembers.com/event/nov-1-block-watch-grant-process-opens/
LOCATION:AZ
ATTACH;FMTTYPE=image/png:https://pnpmembers.com/wp-content/uploads/2023/09/Phoenix-PD-Logo.png
END:VEVENT
BEGIN:VEVENT
DTSTART;TZID=America/Phoenix:20251106T180000
DTEND;TZID=America/Phoenix:20251106T193000
DTSTAMP:20260424T175532
CREATED:20251013T194602Z
LAST-MODIFIED:20251013T194602Z
UID:7265-1762452000-1762457400@pnpmembers.com
SUMMARY:Nov 6 - Council District 3 Community Meeting
DESCRIPTION:
URL:https://pnpmembers.com/event/nov-6-council-district-3-community-meeting/
LOCATION:AZ
ATTACH;FMTTYPE=image/png:https://pnpmembers.com/wp-content/uploads/2025/09/Council-District-3-Logo.png
END:VEVENT
BEGIN:VEVENT
DTSTART;TZID=America/Phoenix:20251107T080000
DTEND;TZID=America/Phoenix:20251107T100000
DTSTAMP:20260424T175532
CREATED:20251030T053657Z
LAST-MODIFIED:20251030T053847Z
UID:7343-1762502400-1762509600@pnpmembers.com
SUMMARY:Nov  7 - Coffee with a Cop 500 - Central City
DESCRIPTION:
URL:https://pnpmembers.com/event/nov-7-coffee-with-a-cop-500-central-city/
LOCATION:AZ
ATTACH;FMTTYPE=image/png:https://pnpmembers.com/wp-content/uploads/2012/11/PD_CWC_Logo04_500_Phx.png
END:VEVENT
BEGIN:VEVENT
DTSTART;TZID=America/Phoenix:20251107T183000
DTEND;TZID=America/Phoenix:20251107T220000
DTSTAMP:20260424T175532
CREATED:20251101T180223Z
LAST-MODIFIED:20251101T180223Z
UID:7370-1762540200-1762552800@pnpmembers.com
SUMMARY:Nov  7 - First Friday Patrol
DESCRIPTION:The next First Friday will be on Nov 7th   We have a new meeting place with a better entrance and exit. The parking lot is between the Burton Barr library and Margaret T Hance Park. The address is 1218 N. 2nd St.  Spots do fill up fast.  See the map below. Our new meeting time will be 6:30pm and we go on patrol at 7:00pm and stay out till 10:00pm. If you have trouble finding us\, please call Rick’s cell at 602-853-2271. If you have any radios\, please bring them\, if not Rick will have some extra. \nPLEASE LET RICK KNOW IF YOU CAN MAKE IT.  This way he can block off some parking spaces. Please send him your cell number if you would like to go. This way he can contact you just in case something happens\, and we need to cancel First Friday for that night. Rick’s email is ussyorktown25@hotmail.
URL:https://pnpmembers.com/event/nov-7-first-friday-patrol/
LOCATION:AZ
ATTACH;FMTTYPE=image/jpeg:https://pnpmembers.com/wp-content/uploads/2013/01/sign-pnp-magnetic.jpg
ORGANIZER;CN="PNP - Rick Sain":MAILTO:ussyorktown25@hotmail.com
END:VEVENT
BEGIN:VEVENT
DTSTART;TZID=America/Phoenix:20251112T093000
DTEND;TZID=America/Phoenix:20251112T103000
DTSTAMP:20260424T175532
CREATED:20251104T170359Z
LAST-MODIFIED:20251104T170359Z
UID:7407-1762939800-1762943400@pnpmembers.com
SUMMARY:Nov 12 - Coffee with a Cop - 400 - South Mountain Precinct
DESCRIPTION:
URL:https://pnpmembers.com/event/nov-12-coffee-with-a-cop-400-south-mountain-precinct/
LOCATION:AZ
ATTACH;FMTTYPE=image/png:https://pnpmembers.com/wp-content/uploads/2012/11/PD_CWC_Logo04_400_Phx.png
END:VEVENT
BEGIN:VEVENT
DTSTART;TZID=America/Phoenix:20251112T180000
DTEND;TZID=America/Phoenix:20251112T193000
DTSTAMP:20260424T175532
CREATED:20251022T175939Z
LAST-MODIFIED:20251022T175939Z
UID:7278-1762970400-1762975800@pnpmembers.com
SUMMARY:Nov 12 - Cactus Park (900) Dinner with a Cop
DESCRIPTION:  \nWe are so excited to announce that we will be having Dinner with a Cop on Wednesday\, November 12th\, 2025 at 6pm located at Jason’s Deli at 10217 N Metro Pkwy W! This year’s Dinner with a Cop will be special because we will be fundraising for our Shop with a Cop Events hosted by AZLEOs. If you would like to donate to this event for our kiddos please use the QR code on the flyer. This QR code is specific to our community so we can get a grand total of what we as a community have fundraised for this event. If you would like to use cash\, there will be a representative for AZLEOs to collect any cash on the night of our Dinner with a Cop. Feel free to share this QR code with friends and family. \n \n 
URL:https://pnpmembers.com/event/nov-12-cactus-park-900-dinner-with-a-cop/
LOCATION:Jason’s Deli\, 10217 N Metro Pkwy West\, Phoenix\, AZ\, 85051
ATTACH;FMTTYPE=image/jpeg:https://pnpmembers.com/wp-content/uploads/2024/02/Food-Burger-Fries-Phone.jpeg
END:VEVENT
BEGIN:VEVENT
DTSTART;TZID=America/Phoenix:20251112T183000
DTEND;TZID=America/Phoenix:20251112T203000
DTSTAMP:20260424T175532
CREATED:20251029T165337Z
LAST-MODIFIED:20251029T165337Z
UID:7337-1762972200-1762979400@pnpmembers.com
SUMMARY:Nov 12 - Neighborhood College Grant Writing Workshop
DESCRIPTION:
URL:https://pnpmembers.com/event/nov-12-neighborhood-college-grant-writing-workshop/
LOCATION:Washington Activity Center\, 2240 W Citrus Wy\, Phoenix\, AZ\, 85015
ATTACH;FMTTYPE=image/png:https://pnpmembers.com/wp-content/uploads/2023/11/Logo-Neighborhood-College.png
ORGANIZER;CN="Black Mountain Community Alliance (BMCA)":MAILTO:info@bmcainfo.com
END:VEVENT
BEGIN:VEVENT
DTSTART;TZID=America/Phoenix:20251115T080000
DTEND;TZID=America/Phoenix:20251115T120000
DTSTAMP:20260424T175532
CREATED:20251101T212719Z
LAST-MODIFIED:20251101T212904Z
UID:7385-1763193600-1763208000@pnpmembers.com
SUMMARY:Nov 15 - PNP / Block Watch initial training - In Person
DESCRIPTION:
URL:https://pnpmembers.com/event/nov-15-pnp-block-watch-initial-training-in-person/
LOCATION:Mountain View Precinct Community Room\, 2075 E Maryland Av\, Phoenix\, AZ\, 85016
ATTACH;FMTTYPE=image/jpeg:https://pnpmembers.com/wp-content/uploads/2021/11/PNPLOGO_tm.jpg
ORGANIZER;CN="Phoenix Neighborhood Patrol":MAILTO:pnp.coordinator@phoenix.gov
END:VEVENT
BEGIN:VEVENT
DTSTART;TZID=America/Phoenix:20251117T080000
DTEND;TZID=America/Phoenix:20251117T100000
DTSTAMP:20260424T175532
CREATED:20251030T185659Z
LAST-MODIFIED:20251030T185659Z
UID:7355-1763366400-1763373600@pnpmembers.com
SUMMARY:Nov 17 - Desert Horizon (600) Coffee with a Cop
DESCRIPTION:
URL:https://pnpmembers.com/event/nov-17-desert-horizon-600-coffee-with-a-cop/
LOCATION:AZ
ATTACH;FMTTYPE=image/png:https://pnpmembers.com/wp-content/uploads/2012/11/PD_CWC_Logo04_600_Phx.png
END:VEVENT
BEGIN:VEVENT
DTSTART;TZID=America/Phoenix:20251120T083000
DTEND;TZID=America/Phoenix:20251120T093000
DTSTAMP:20260424T175532
CREATED:20251023T160557Z
LAST-MODIFIED:20251023T160837Z
UID:7281-1763627400-1763631000@pnpmembers.com
SUMMARY:Nov 20 - Coffee with a Cop - 200 - Black Mountain
DESCRIPTION:
URL:https://pnpmembers.com/event/nov-20-coffee-with-a-cop-200-black-mountain/
LOCATION:Biscuits Cafe\, 310 E Bell Rd\, Phoenix\, AZ\, 85022
ATTACH;FMTTYPE=image/jpeg:https://pnpmembers.com/wp-content/uploads/2022/10/Coffee-Pouring.jpg
END:VEVENT
BEGIN:VEVENT
DTSTART;TZID=America/Phoenix:20251121T080000
DTEND;TZID=America/Phoenix:20251121T090000
DTSTAMP:20260424T175532
CREATED:20251119T175643Z
LAST-MODIFIED:20251119T175643Z
UID:7414-1763712000-1763715600@pnpmembers.com
SUMMARY:Nov  21 - Coffee with a Cop 500 - Central City
DESCRIPTION:
URL:https://pnpmembers.com/event/nov-21-coffee-with-a-cop-500-central-city/
LOCATION:AZ
ATTACH;FMTTYPE=image/png:https://pnpmembers.com/wp-content/uploads/2012/11/PD_CWC_Logo04_500_Phx.png
END:VEVENT
END:VCALENDAR