BEGIN:VCALENDAR
VERSION:2.0
PRODID:-//PNP Members - ECPv6.15.20//NONSGML v1.0//EN
CALSCALE:GREGORIAN
METHOD:PUBLISH
X-ORIGINAL-URL:https://pnpmembers.com
X-WR-CALDESC:Events for PNP Members
REFRESH-INTERVAL;VALUE=DURATION:PT1H
X-Robots-Tag:noindex
X-PUBLISHED-TTL:PT1H
BEGIN:VTIMEZONE
TZID:America/Phoenix
BEGIN:STANDARD
TZOFFSETFROM:-0700
TZOFFSETTO:-0700
TZNAME:MST
DTSTART:20240101T000000
END:STANDARD
END:VTIMEZONE
BEGIN:VEVENT
DTSTART;VALUE=DATE:20251101
DTEND;VALUE=DATE:20251205
DTSTAMP:20260424T162048
CREATED:20251101T214758Z
LAST-MODIFIED:20251101T215918Z
UID:7396-1761955200-1764892799@pnpmembers.com
SUMMARY:Nov 1 - Dec 4 Block Watch Grant portal is open
DESCRIPTION:The 2026 Neighborhood Block Watch Grant Program (NBWGP)\napplication process will open Saturday\, November 1\, 2025 and close at 4PM on December 4\, 2025\nFor more information on the grant application process\, please\nNavigate to the NBWGP homepage here.\nOnce the application process has opened\, NBWGP Staff will hold\ntraining workshops to assist applicants with creating and submitting\ntheir applications. Dates and times of those workshops are listed\nbelow: \nSCHEDULED DATE/TIME\, IN-PERSON WORKSHOP\nTuesday\, December 2\, 2025\nMorning session:\n10:00 a.m. to 12:00 p.m.\nEvening session:\n6:00 p.m. to 8:00 p.m.\nLOCATION DETAILS:\nDevonshire Senior Center\n2802 E. Devonshire Ave\nPhoenix\, AZ 85016\nSCHEDULED DATES/TIMES\, WEB\nCONFERENCE WORKSHOPS\n– Tuesday\, November 4\, 2025\n– Thursday\, November 13\, 2025\n– Tuesday\, November 18\, 2025\nMorning session:\n10:00 a.m. to 12:00 p.m. (click link for 10:00 a.m. workshop)\nhttps://cityofphoenix.webex.com/cityofphoenix/j.php?MTID=mfd96fd\ne2a6e8cb4544579b3c51bec322\nAfternoon session:\n2:00 p.m. to 4:00 p.m. (click link for 2:00 p.m. workshop)\nhttps://cityofphoenix.webex.com/cityofphoenix/j.php?MTID=m1c091\n1992c9c23e572e909cf6ee9d4bf\nIf you have any questions\, please contact NBWGP staff at 602-262-7602.\nThank you!\nNBWGP Staff
URL:https://pnpmembers.com/event/nov-1-block-watch-grant-process-opens/
LOCATION:AZ
ATTACH;FMTTYPE=image/png:https://pnpmembers.com/wp-content/uploads/2023/09/Phoenix-PD-Logo.png
END:VEVENT
BEGIN:VEVENT
DTSTART;TZID=America/Phoenix:20251204T173000
DTEND;TZID=America/Phoenix:20251204T200000
DTSTAMP:20260424T162048
CREATED:20251119T190852Z
LAST-MODIFIED:20251119T190908Z
UID:7429-1764869400-1764878400@pnpmembers.com
SUMMARY:Dec  4 - South Mountain/Laveen Holiday Mixer Fundraiser
DESCRIPTION:Please join us for an unforgettable event. \nWe’re planning something you won’t want to miss\, and we hope to see you there. \n515 E Grant St suite 101\, Phoenix\, AZ 85004\, USA \nRSVP Here
URL:https://pnpmembers.com/event/dec-4-south-mountain-laveen-holiday-mixer-fundraiser/
LOCATION:AZ
ATTACH;FMTTYPE=image/png:https://pnpmembers.com/wp-content/uploads/2025/11/SMLCC-Logo.png
END:VEVENT
BEGIN:VEVENT
DTSTART;TZID=America/Phoenix:20251206T190000
DTEND;TZID=America/Phoenix:20251206T210000
DTSTAMP:20260424T162048
CREATED:20251101T175607Z
LAST-MODIFIED:20251101T175627Z
UID:7364-1765047600-1765054800@pnpmembers.com
SUMMARY:Dec  6 - Electric Light Parade
DESCRIPTION:
URL:https://pnpmembers.com/event/dec-6-electric-light-parade/
LOCATION:AZ
ATTACH;FMTTYPE=image/png:https://pnpmembers.com/wp-content/uploads/2025/11/20251206-ELP-Logo-Phone.png
END:VEVENT
BEGIN:VEVENT
DTSTART;TZID=America/Phoenix:20251210T183000
DTEND;TZID=America/Phoenix:20251210T203000
DTSTAMP:20260424T162048
CREATED:20251101T212058Z
LAST-MODIFIED:20251101T212058Z
UID:7383-1765391400-1765398600@pnpmembers.com
SUMMARY:Dec 10 - BMCA Black Mountain Community  Alliance Meeting
DESCRIPTION:
URL:https://pnpmembers.com/event/dec-10-bmca-black-mountain-community-alliance-meeting/
LOCATION:Deer Valley Community Center\, 19602 N 19 Pl\, Phoenix\, AZ\, 85024
ATTACH;FMTTYPE=image/png:https://pnpmembers.com/wp-content/uploads/2021/11/BMCA.png
ORGANIZER;CN="Black Mountain Community Alliance (BMCA)":MAILTO:info@bmcainfo.com
END:VEVENT
BEGIN:VEVENT
DTSTART;TZID=America/Phoenix:20251213T080000
DTEND;TZID=America/Phoenix:20251214T170000
DTSTAMP:20260424T162048
CREATED:20250416T035504Z
LAST-MODIFIED:20251130T212340Z
UID:6963-1765612800-1765731600@pnpmembers.com
SUMMARY:Dec 13 & 14 - Indian Market Group Patrol
DESCRIPTION:Hello everyone! \nHere is the schedule for this year’s S’edva Va’aki (Pueblo Grande Museum ) Indian Market \n  \n Saturday Dec.13th \nRick Sain – ALL DAY \nEd Bibitzke-ALL DAY \n2-People for the 8am-12pm Golf cart Drivers \n2-People for the 8am-12pm Backup Cart Drivers \n2– People for the 12pm-4pm Golf Cart Drivers \n2– People for the 12pm-4pm Backup cart Drivers \n2– People for the 8:00am- 12:00 pm shift for PNP Booth \n  \n3– People for the 12:00 pm to 4:00 pm shift for PNP Booth \n4– People for the 8:00 am to 10:00 am patrol shift \n4– People for the 10:00 am to 12:00 pm patrol shift \n4– People for the 12:00 pm to 2:00 pm patrol shift \n4– People for the 2:00 pm to 4:00 pm patrol shift \n  \nSunday Dec. 14th \nRick Sain – ALL DAY \nEd Bibitzke- ALL DAY \n1- People for the 8am -12pm Golf Cart Drivers \n2– People for the 8am –12pm Back Up Cart Drivers \n2– People for the 12pm-5pm Golf Cart Drivers \n2– People for the 12pm- 5pm Backup Cart Drivers \n1- People for the 8:00 am to 12:00 pm shift for the PNP Booth \n  \n3- People for the 12:00 pm to 4:00 pm shift for the PNP Booth \n4– People for the 8:00 am to 10:00 am patrol shift \n4– People for the 10:00 am to 12:00 pm patrol shift \n4– People for the 12:00 pm to the 2:00 pm patrol shift \n4– People for the 2:00 pm to 4:00 pm patrol shift \nI WILL NEED TO HAVE THE SECHDULE TURNED IN BY Nov.29th
URL:https://pnpmembers.com/event/dec-13-14-indian-market-group-patrol/
LOCATION:Pueblo Grande Museum\, 4619 E Washington St\, Phoenix\, AZ\, 85034
ATTACH;FMTTYPE=image/jpeg:https://pnpmembers.com/wp-content/uploads/2024/07/Inidan-Market-Logo.jpg
ORGANIZER;CN="Phoenix Neighborhood Patrol":MAILTO:pnp.coordinator@phoenix.gov
END:VEVENT
END:VCALENDAR